BEGIN:VCALENDAR
VERSION:2.0
PRODID:-//Mid Michigan Waste Authority - ECPv6.15.20//NONSGML v1.0//EN
CALSCALE:GREGORIAN
METHOD:PUBLISH
X-ORIGINAL-URL:https://www.recyclemotion.org
X-WR-CALDESC:Events for Mid Michigan Waste Authority
REFRESH-INTERVAL;VALUE=DURATION:PT1H
X-Robots-Tag:noindex
X-PUBLISHED-TTL:PT1H
BEGIN:VTIMEZONE
TZID:America/Detroit
BEGIN:DAYLIGHT
TZOFFSETFROM:-0500
TZOFFSETTO:-0400
TZNAME:EDT
DTSTART:20250309T070000
END:DAYLIGHT
BEGIN:STANDARD
TZOFFSETFROM:-0400
TZOFFSETTO:-0500
TZNAME:EST
DTSTART:20251102T060000
END:STANDARD
BEGIN:DAYLIGHT
TZOFFSETFROM:-0500
TZOFFSETTO:-0400
TZNAME:EDT
DTSTART:20260308T070000
END:DAYLIGHT
BEGIN:STANDARD
TZOFFSETFROM:-0400
TZOFFSETTO:-0500
TZNAME:EST
DTSTART:20261101T060000
END:STANDARD
BEGIN:DAYLIGHT
TZOFFSETFROM:-0500
TZOFFSETTO:-0400
TZNAME:EDT
DTSTART:20270314T070000
END:DAYLIGHT
BEGIN:STANDARD
TZOFFSETFROM:-0400
TZOFFSETTO:-0500
TZNAME:EST
DTSTART:20271107T060000
END:STANDARD
END:VTIMEZONE
BEGIN:VEVENT
DTSTART;VALUE=DATE:20260101
DTEND;VALUE=DATE:20260102
DTSTAMP:20260425T201420
CREATED:20170509T151531Z
LAST-MODIFIED:20180308T172654Z
UID:10051686-1767225600-1767311999@www.recyclemotion.org
SUMMARY:New Year
DESCRIPTION:
URL:https://www.recyclemotion.org/service/new-year-2016-01-01/2026-01-01/
CATEGORIES:Albee,Bethany,Birch Run Township,Birch Run VIllage,Blumfield,Brady,Brant,Breckenridge,Bridgeport,Buena Vista,Carrollton,Chapin,Chesaning,Frankenmuth City,Frankenmuth Township,Fremont,Holiday,James,Jonesfield,Kochville,Lakefield,Maple grove,Marion,Merrill,Richland,Saginaw Township North,Saginaw Township South,Spaulding,St Charles Township,St Charles Village,Swan Creek,Thomas,Tittabawassee,Wheeler,Zilwaukee
END:VEVENT
BEGIN:VEVENT
DTSTART;VALUE=DATE:20260101
DTEND;VALUE=DATE:20260102
DTSTAMP:20260425T201420
CREATED:20170509T161132Z
LAST-MODIFIED:20170516T012441Z
UID:10051749-1767225600-1767311999@www.recyclemotion.org
SUMMARY:New Year
DESCRIPTION:
URL:https://www.recyclemotion.org/service/new-year-6/2026-01-01/
CATEGORIES:Albee,Bethany,Birch Run Township,Birch Run VIllage,Blumfield,Brady,Brant,Breckenridge,Bridgeport,Buena Vista,Carrollton,Chapin,Chesaning,Frankenmuth City,Frankenmuth Township,Fremont,Holiday,James,Jonesfield,Kochville,Lakefield,Maple grove,Marion,Merrill,Richland,Saginaw Township North,Saginaw Township South,Spaulding,St Charles Township,St Charles Village,Swan Creek,Thomas,Tittabawassee,Wheeler,Zilwaukee
END:VEVENT
BEGIN:VEVENT
DTSTART;VALUE=DATE:20260105
DTEND;VALUE=DATE:20260106
DTSTAMP:20260425T201420
CREATED:20241115T190001Z
LAST-MODIFIED:20251117T200803Z
UID:10062525-1767571200-1767657599@www.recyclemotion.org
SUMMARY:Trash
DESCRIPTION:Every Monday
URL:https://www.recyclemotion.org/service/trash-4-3/2026-01-05/
CATEGORIES:Bethany,Trash,Trash Pickup E-Mon
END:VEVENT
BEGIN:VEVENT
DTSTART;VALUE=DATE:20260112
DTEND;VALUE=DATE:20260113
DTSTAMP:20260425T201420
CREATED:20241115T190001Z
LAST-MODIFIED:20251117T200803Z
UID:10062526-1768176000-1768262399@www.recyclemotion.org
SUMMARY:Trash
DESCRIPTION:Every Monday
URL:https://www.recyclemotion.org/service/trash-4-3/2026-01-12/
CATEGORIES:Bethany,Trash,Trash Pickup E-Mon
END:VEVENT
BEGIN:VEVENT
DTSTART;VALUE=DATE:20260119
DTEND;VALUE=DATE:20260120
DTSTAMP:20260425T201420
CREATED:20241115T190001Z
LAST-MODIFIED:20251117T200803Z
UID:10062527-1768780800-1768867199@www.recyclemotion.org
SUMMARY:Trash
DESCRIPTION:Every Monday
URL:https://www.recyclemotion.org/service/trash-4-3/2026-01-19/
CATEGORIES:Bethany,Trash,Trash Pickup E-Mon
END:VEVENT
BEGIN:VEVENT
DTSTART;VALUE=DATE:20260126
DTEND;VALUE=DATE:20260127
DTSTAMP:20260425T201420
CREATED:20241115T190001Z
LAST-MODIFIED:20251117T200803Z
UID:10062528-1769385600-1769471999@www.recyclemotion.org
SUMMARY:Trash
DESCRIPTION:Every Monday
URL:https://www.recyclemotion.org/service/trash-4-3/2026-01-26/
CATEGORIES:Bethany,Trash,Trash Pickup E-Mon
END:VEVENT
END:VCALENDAR