BEGIN:VCALENDAR
VERSION:2.0
PRODID:-//Mid Michigan Waste Authority - ECPv6.15.20//NONSGML v1.0//EN
CALSCALE:GREGORIAN
METHOD:PUBLISH
X-WR-CALNAME:Mid Michigan Waste Authority
X-ORIGINAL-URL:https://www.recyclemotion.org
X-WR-CALDESC:Events for Mid Michigan Waste Authority
REFRESH-INTERVAL;VALUE=DURATION:PT1H
X-Robots-Tag:noindex
X-PUBLISHED-TTL:PT1H
BEGIN:VTIMEZONE
TZID:America/Detroit
BEGIN:DAYLIGHT
TZOFFSETFROM:-0500
TZOFFSETTO:-0400
TZNAME:EDT
DTSTART:20250309T070000
END:DAYLIGHT
BEGIN:STANDARD
TZOFFSETFROM:-0400
TZOFFSETTO:-0500
TZNAME:EST
DTSTART:20251102T060000
END:STANDARD
BEGIN:DAYLIGHT
TZOFFSETFROM:-0500
TZOFFSETTO:-0400
TZNAME:EDT
DTSTART:20260308T070000
END:DAYLIGHT
BEGIN:STANDARD
TZOFFSETFROM:-0400
TZOFFSETTO:-0500
TZNAME:EST
DTSTART:20261101T060000
END:STANDARD
BEGIN:DAYLIGHT
TZOFFSETFROM:-0500
TZOFFSETTO:-0400
TZNAME:EDT
DTSTART:20270314T070000
END:DAYLIGHT
BEGIN:STANDARD
TZOFFSETFROM:-0400
TZOFFSETTO:-0500
TZNAME:EST
DTSTART:20271107T060000
END:STANDARD
END:VTIMEZONE
BEGIN:VTIMEZONE
TZID:UTC
BEGIN:STANDARD
TZOFFSETFROM:+0000
TZOFFSETTO:+0000
TZNAME:UTC
DTSTART:20250101T000000
END:STANDARD
END:VTIMEZONE
BEGIN:VEVENT
DTSTART;VALUE=DATE:20260202
DTEND;VALUE=DATE:20260203
DTSTAMP:20260420T092737
CREATED:20241121T184610Z
LAST-MODIFIED:20251118T152909Z
UID:10063203-1769990400-1770076799@www.recyclemotion.org
SUMMARY:Trash
DESCRIPTION:Every Monday
URL:https://www.recyclemotion.org/service/trash-10-2/2026-02-02/
CATEGORIES:Brant,Jonesfield,Kochville,Lakefield,Marion,Merrill,Saginaw Township South,Swan Creek,Trash,Trash Pickup E-Mon
END:VEVENT
BEGIN:VEVENT
DTSTART;VALUE=DATE:20260202
DTEND;VALUE=DATE:20260203
DTSTAMP:20260420T092737
CREATED:20241121T184820Z
LAST-MODIFIED:20251118T190243Z
UID:10065565-1769990400-1770076799@www.recyclemotion.org
SUMMARY:Recycle
DESCRIPTION:Weekly Recycling
URL:https://www.recyclemotion.org/service/recycle-12-2/2026-02-02/
CATEGORIES:Kochville,Marion,NEW-RECYCLE-E-MON,Recycle,Swan Creek
END:VEVENT
BEGIN:VEVENT
DTSTART;VALUE=DATE:20260209
DTEND;VALUE=DATE:20260210
DTSTAMP:20260420T092737
CREATED:20241121T184610Z
LAST-MODIFIED:20251118T152909Z
UID:10063204-1770595200-1770681599@www.recyclemotion.org
SUMMARY:Trash
DESCRIPTION:Every Monday
URL:https://www.recyclemotion.org/service/trash-10-2/2026-02-09/
CATEGORIES:Brant,Jonesfield,Kochville,Lakefield,Marion,Merrill,Saginaw Township South,Swan Creek,Trash,Trash Pickup E-Mon
END:VEVENT
BEGIN:VEVENT
DTSTART;VALUE=DATE:20260209
DTEND;VALUE=DATE:20260210
DTSTAMP:20260420T092737
CREATED:20241121T184820Z
LAST-MODIFIED:20251118T190243Z
UID:10065566-1770595200-1770681599@www.recyclemotion.org
SUMMARY:Recycle
DESCRIPTION:Weekly Recycling
URL:https://www.recyclemotion.org/service/recycle-12-2/2026-02-09/
CATEGORIES:Kochville,Marion,NEW-RECYCLE-E-MON,Recycle,Swan Creek
END:VEVENT
BEGIN:VEVENT
DTSTART;VALUE=DATE:20260216
DTEND;VALUE=DATE:20260217
DTSTAMP:20260420T092737
CREATED:20241121T184610Z
LAST-MODIFIED:20251118T152909Z
UID:10063205-1771200000-1771286399@www.recyclemotion.org
SUMMARY:Trash
DESCRIPTION:Every Monday
URL:https://www.recyclemotion.org/service/trash-10-2/2026-02-16/
CATEGORIES:Brant,Jonesfield,Kochville,Lakefield,Marion,Merrill,Saginaw Township South,Swan Creek,Trash,Trash Pickup E-Mon
END:VEVENT
BEGIN:VEVENT
DTSTART;VALUE=DATE:20260216
DTEND;VALUE=DATE:20260217
DTSTAMP:20260420T092737
CREATED:20241121T184820Z
LAST-MODIFIED:20251118T190243Z
UID:10065567-1771200000-1771286399@www.recyclemotion.org
SUMMARY:Recycle
DESCRIPTION:Weekly Recycling
URL:https://www.recyclemotion.org/service/recycle-12-2/2026-02-16/
CATEGORIES:Kochville,Marion,NEW-RECYCLE-E-MON,Recycle,Swan Creek
END:VEVENT
BEGIN:VEVENT
DTSTART;VALUE=DATE:20260223
DTEND;VALUE=DATE:20260224
DTSTAMP:20260420T092737
CREATED:20241121T184610Z
LAST-MODIFIED:20251118T152909Z
UID:10063206-1771804800-1771891199@www.recyclemotion.org
SUMMARY:Trash
DESCRIPTION:Every Monday
URL:https://www.recyclemotion.org/service/trash-10-2/2026-02-23/
CATEGORIES:Brant,Jonesfield,Kochville,Lakefield,Marion,Merrill,Saginaw Township South,Swan Creek,Trash,Trash Pickup E-Mon
END:VEVENT
BEGIN:VEVENT
DTSTART;VALUE=DATE:20260223
DTEND;VALUE=DATE:20260224
DTSTAMP:20260420T092737
CREATED:20241121T184820Z
LAST-MODIFIED:20251118T190243Z
UID:10065568-1771804800-1771891199@www.recyclemotion.org
SUMMARY:Recycle
DESCRIPTION:Weekly Recycling
URL:https://www.recyclemotion.org/service/recycle-12-2/2026-02-23/
CATEGORIES:Kochville,Marion,NEW-RECYCLE-E-MON,Recycle,Swan Creek
END:VEVENT
BEGIN:VEVENT
DTSTART;VALUE=DATE:20260302
DTEND;VALUE=DATE:20260303
DTSTAMP:20260420T092737
CREATED:20241121T184610Z
LAST-MODIFIED:20251118T152909Z
UID:10063207-1772409600-1772495999@www.recyclemotion.org
SUMMARY:Trash
DESCRIPTION:Every Monday
URL:https://www.recyclemotion.org/service/trash-10-2/2026-03-02/
CATEGORIES:Brant,Jonesfield,Kochville,Lakefield,Marion,Merrill,Saginaw Township South,Swan Creek,Trash,Trash Pickup E-Mon
END:VEVENT
BEGIN:VEVENT
DTSTART;VALUE=DATE:20260302
DTEND;VALUE=DATE:20260303
DTSTAMP:20260420T092737
CREATED:20241121T184820Z
LAST-MODIFIED:20251118T190243Z
UID:10065569-1772409600-1772495999@www.recyclemotion.org
SUMMARY:Recycle
DESCRIPTION:Weekly Recycling
URL:https://www.recyclemotion.org/service/recycle-12-2/2026-03-02/
CATEGORIES:Kochville,Marion,NEW-RECYCLE-E-MON,Recycle,Swan Creek
END:VEVENT
BEGIN:VEVENT
DTSTART;VALUE=DATE:20260309
DTEND;VALUE=DATE:20260310
DTSTAMP:20260420T092737
CREATED:20241121T184610Z
LAST-MODIFIED:20251118T152909Z
UID:10063208-1773014400-1773100799@www.recyclemotion.org
SUMMARY:Trash
DESCRIPTION:Every Monday
URL:https://www.recyclemotion.org/service/trash-10-2/2026-03-09/
CATEGORIES:Brant,Jonesfield,Kochville,Lakefield,Marion,Merrill,Saginaw Township South,Swan Creek,Trash,Trash Pickup E-Mon
END:VEVENT
BEGIN:VEVENT
DTSTART;VALUE=DATE:20260309
DTEND;VALUE=DATE:20260310
DTSTAMP:20260420T092737
CREATED:20241121T184820Z
LAST-MODIFIED:20251118T190243Z
UID:10065570-1773014400-1773100799@www.recyclemotion.org
SUMMARY:Recycle
DESCRIPTION:Weekly Recycling
URL:https://www.recyclemotion.org/service/recycle-12-2/2026-03-09/
CATEGORIES:Kochville,Marion,NEW-RECYCLE-E-MON,Recycle,Swan Creek
END:VEVENT
BEGIN:VEVENT
DTSTART;VALUE=DATE:20260316
DTEND;VALUE=DATE:20260317
DTSTAMP:20260420T092737
CREATED:20241121T184610Z
LAST-MODIFIED:20251118T152909Z
UID:10063209-1773619200-1773705599@www.recyclemotion.org
SUMMARY:Trash
DESCRIPTION:Every Monday
URL:https://www.recyclemotion.org/service/trash-10-2/2026-03-16/
CATEGORIES:Brant,Jonesfield,Kochville,Lakefield,Marion,Merrill,Saginaw Township South,Swan Creek,Trash,Trash Pickup E-Mon
END:VEVENT
BEGIN:VEVENT
DTSTART;VALUE=DATE:20260316
DTEND;VALUE=DATE:20260317
DTSTAMP:20260420T092737
CREATED:20241121T184820Z
LAST-MODIFIED:20251118T190243Z
UID:10065571-1773619200-1773705599@www.recyclemotion.org
SUMMARY:Recycle
DESCRIPTION:Weekly Recycling
URL:https://www.recyclemotion.org/service/recycle-12-2/2026-03-16/
CATEGORIES:Kochville,Marion,NEW-RECYCLE-E-MON,Recycle,Swan Creek
END:VEVENT
BEGIN:VEVENT
DTSTART;VALUE=DATE:20260323
DTEND;VALUE=DATE:20260324
DTSTAMP:20260420T092737
CREATED:20241121T184610Z
LAST-MODIFIED:20251118T152909Z
UID:10063210-1774224000-1774310399@www.recyclemotion.org
SUMMARY:Trash
DESCRIPTION:Every Monday
URL:https://www.recyclemotion.org/service/trash-10-2/2026-03-23/
CATEGORIES:Brant,Jonesfield,Kochville,Lakefield,Marion,Merrill,Saginaw Township South,Swan Creek,Trash,Trash Pickup E-Mon
END:VEVENT
BEGIN:VEVENT
DTSTART;VALUE=DATE:20260323
DTEND;VALUE=DATE:20260324
DTSTAMP:20260420T092737
CREATED:20241121T184820Z
LAST-MODIFIED:20251118T190243Z
UID:10065572-1774224000-1774310399@www.recyclemotion.org
SUMMARY:Recycle
DESCRIPTION:Weekly Recycling
URL:https://www.recyclemotion.org/service/recycle-12-2/2026-03-23/
CATEGORIES:Kochville,Marion,NEW-RECYCLE-E-MON,Recycle,Swan Creek
END:VEVENT
BEGIN:VEVENT
DTSTART;VALUE=DATE:20260330
DTEND;VALUE=DATE:20260331
DTSTAMP:20260420T092737
CREATED:20241121T184610Z
LAST-MODIFIED:20251118T152909Z
UID:10063211-1774828800-1774915199@www.recyclemotion.org
SUMMARY:Trash
DESCRIPTION:Every Monday
URL:https://www.recyclemotion.org/service/trash-10-2/2026-03-30/
CATEGORIES:Brant,Jonesfield,Kochville,Lakefield,Marion,Merrill,Saginaw Township South,Swan Creek,Trash,Trash Pickup E-Mon
END:VEVENT
BEGIN:VEVENT
DTSTART;VALUE=DATE:20260330
DTEND;VALUE=DATE:20260331
DTSTAMP:20260420T092737
CREATED:20241121T184820Z
LAST-MODIFIED:20251118T190243Z
UID:10065573-1774828800-1774915199@www.recyclemotion.org
SUMMARY:Recycle
DESCRIPTION:Weekly Recycling
URL:https://www.recyclemotion.org/service/recycle-12-2/2026-03-30/
CATEGORIES:Kochville,Marion,NEW-RECYCLE-E-MON,Recycle,Swan Creek
END:VEVENT
BEGIN:VEVENT
DTSTART;VALUE=DATE:20260406
DTEND;VALUE=DATE:20260407
DTSTAMP:20260420T092737
CREATED:20241121T184610Z
LAST-MODIFIED:20251118T152909Z
UID:10063212-1775433600-1775519999@www.recyclemotion.org
SUMMARY:Trash
DESCRIPTION:Every Monday
URL:https://www.recyclemotion.org/service/trash-10-2/2026-04-06/
CATEGORIES:Brant,Jonesfield,Kochville,Lakefield,Marion,Merrill,Saginaw Township South,Swan Creek,Trash,Trash Pickup E-Mon
END:VEVENT
BEGIN:VEVENT
DTSTART;VALUE=DATE:20260406
DTEND;VALUE=DATE:20260407
DTSTAMP:20260420T092737
CREATED:20241121T184820Z
LAST-MODIFIED:20251118T190243Z
UID:10065574-1775433600-1775519999@www.recyclemotion.org
SUMMARY:Recycle
DESCRIPTION:Weekly Recycling
URL:https://www.recyclemotion.org/service/recycle-12-2/2026-04-06/
CATEGORIES:Kochville,Marion,NEW-RECYCLE-E-MON,Recycle,Swan Creek
END:VEVENT
BEGIN:VEVENT
DTSTART;VALUE=DATE:20260406
DTEND;VALUE=DATE:20260407
DTSTAMP:20260420T092737
CREATED:20251118T190653Z
LAST-MODIFIED:20251118T190653Z
UID:10065816-1775433600-1775519999@www.recyclemotion.org
SUMMARY:Yard Waste
DESCRIPTION:Every Monday 2026
URL:https://www.recyclemotion.org/service/yard-waste-34/2026-04-06/
CATEGORIES:Kochville,NEW-YARD-E-MON,Saginaw Township South,Yard Waste
END:VEVENT
BEGIN:VEVENT
DTSTART;VALUE=DATE:20260413
DTEND;VALUE=DATE:20260414
DTSTAMP:20260420T092737
CREATED:20241121T184610Z
LAST-MODIFIED:20251118T152909Z
UID:10063213-1776038400-1776124799@www.recyclemotion.org
SUMMARY:Trash
DESCRIPTION:Every Monday
URL:https://www.recyclemotion.org/service/trash-10-2/2026-04-13/
CATEGORIES:Brant,Jonesfield,Kochville,Lakefield,Marion,Merrill,Saginaw Township South,Swan Creek,Trash,Trash Pickup E-Mon
END:VEVENT
BEGIN:VEVENT
DTSTART;VALUE=DATE:20260413
DTEND;VALUE=DATE:20260414
DTSTAMP:20260420T092737
CREATED:20241121T184820Z
LAST-MODIFIED:20251118T190243Z
UID:10065575-1776038400-1776124799@www.recyclemotion.org
SUMMARY:Recycle
DESCRIPTION:Weekly Recycling
URL:https://www.recyclemotion.org/service/recycle-12-2/2026-04-13/
CATEGORIES:Kochville,Marion,NEW-RECYCLE-E-MON,Recycle,Swan Creek
END:VEVENT
BEGIN:VEVENT
DTSTART;VALUE=DATE:20260413
DTEND;VALUE=DATE:20260414
DTSTAMP:20260420T092737
CREATED:20251118T190653Z
LAST-MODIFIED:20251118T190653Z
UID:10065817-1776038400-1776124799@www.recyclemotion.org
SUMMARY:Yard Waste
DESCRIPTION:Every Monday 2026
URL:https://www.recyclemotion.org/service/yard-waste-34/2026-04-13/
CATEGORIES:Kochville,NEW-YARD-E-MON,Saginaw Township South,Yard Waste
END:VEVENT
BEGIN:VEVENT
DTSTART;VALUE=DATE:20260420
DTEND;VALUE=DATE:20260421
DTSTAMP:20260420T092737
CREATED:20241121T184610Z
LAST-MODIFIED:20251118T152909Z
UID:10063214-1776643200-1776729599@www.recyclemotion.org
SUMMARY:Trash
DESCRIPTION:Every Monday
URL:https://www.recyclemotion.org/service/trash-10-2/2026-04-20/
CATEGORIES:Brant,Jonesfield,Kochville,Lakefield,Marion,Merrill,Saginaw Township South,Swan Creek,Trash,Trash Pickup E-Mon
END:VEVENT
BEGIN:VEVENT
DTSTART;VALUE=DATE:20260420
DTEND;VALUE=DATE:20260421
DTSTAMP:20260420T092737
CREATED:20241121T184820Z
LAST-MODIFIED:20251118T190243Z
UID:10065576-1776643200-1776729599@www.recyclemotion.org
SUMMARY:Recycle
DESCRIPTION:Weekly Recycling
URL:https://www.recyclemotion.org/service/recycle-12-2/2026-04-20/
CATEGORIES:Kochville,Marion,NEW-RECYCLE-E-MON,Recycle,Swan Creek
END:VEVENT
BEGIN:VEVENT
DTSTART;VALUE=DATE:20260420
DTEND;VALUE=DATE:20260421
DTSTAMP:20260420T092737
CREATED:20251118T190653Z
LAST-MODIFIED:20251118T190653Z
UID:10065818-1776643200-1776729599@www.recyclemotion.org
SUMMARY:Yard Waste
DESCRIPTION:Every Monday 2026
URL:https://www.recyclemotion.org/service/yard-waste-34/2026-04-20/
CATEGORIES:Kochville,NEW-YARD-E-MON,Saginaw Township South,Yard Waste
END:VEVENT
BEGIN:VEVENT
DTSTART;VALUE=DATE:20260427
DTEND;VALUE=DATE:20260428
DTSTAMP:20260420T092737
CREATED:20241121T184610Z
LAST-MODIFIED:20251118T152909Z
UID:10063215-1777248000-1777334399@www.recyclemotion.org
SUMMARY:Trash
DESCRIPTION:Every Monday
URL:https://www.recyclemotion.org/service/trash-10-2/2026-04-27/
CATEGORIES:Brant,Jonesfield,Kochville,Lakefield,Marion,Merrill,Saginaw Township South,Swan Creek,Trash,Trash Pickup E-Mon
END:VEVENT
BEGIN:VEVENT
DTSTART;VALUE=DATE:20260427
DTEND;VALUE=DATE:20260428
DTSTAMP:20260420T092737
CREATED:20241121T184820Z
LAST-MODIFIED:20251118T190243Z
UID:10065577-1777248000-1777334399@www.recyclemotion.org
SUMMARY:Recycle
DESCRIPTION:Weekly Recycling
URL:https://www.recyclemotion.org/service/recycle-12-2/2026-04-27/
CATEGORIES:Kochville,Marion,NEW-RECYCLE-E-MON,Recycle,Swan Creek
END:VEVENT
BEGIN:VEVENT
DTSTART;VALUE=DATE:20260427
DTEND;VALUE=DATE:20260428
DTSTAMP:20260420T092737
CREATED:20251118T190653Z
LAST-MODIFIED:20251118T190653Z
UID:10065819-1777248000-1777334399@www.recyclemotion.org
SUMMARY:Yard Waste
DESCRIPTION:Every Monday 2026
URL:https://www.recyclemotion.org/service/yard-waste-34/2026-04-27/
CATEGORIES:Kochville,NEW-YARD-E-MON,Saginaw Township South,Yard Waste
END:VEVENT
END:VCALENDAR