BEGIN:VCALENDAR
VERSION:2.0
PRODID:-//Mid Michigan Waste Authority - ECPv6.15.20//NONSGML v1.0//EN
CALSCALE:GREGORIAN
METHOD:PUBLISH
X-WR-CALNAME:Mid Michigan Waste Authority
X-ORIGINAL-URL:https://www.recyclemotion.org
X-WR-CALDESC:Events for Mid Michigan Waste Authority
REFRESH-INTERVAL;VALUE=DURATION:PT1H
X-Robots-Tag:noindex
X-PUBLISHED-TTL:PT1H
BEGIN:VTIMEZONE
TZID:UTC
BEGIN:STANDARD
TZOFFSETFROM:+0000
TZOFFSETTO:+0000
TZNAME:UTC
DTSTART:20240101T000000
END:STANDARD
END:VTIMEZONE
BEGIN:VTIMEZONE
TZID:America/Detroit
BEGIN:DAYLIGHT
TZOFFSETFROM:-0500
TZOFFSETTO:-0400
TZNAME:EDT
DTSTART:20240310T070000
END:DAYLIGHT
BEGIN:STANDARD
TZOFFSETFROM:-0400
TZOFFSETTO:-0500
TZNAME:EST
DTSTART:20241103T060000
END:STANDARD
BEGIN:DAYLIGHT
TZOFFSETFROM:-0500
TZOFFSETTO:-0400
TZNAME:EDT
DTSTART:20250309T070000
END:DAYLIGHT
BEGIN:STANDARD
TZOFFSETFROM:-0400
TZOFFSETTO:-0500
TZNAME:EST
DTSTART:20251102T060000
END:STANDARD
BEGIN:DAYLIGHT
TZOFFSETFROM:-0500
TZOFFSETTO:-0400
TZNAME:EDT
DTSTART:20260308T070000
END:DAYLIGHT
BEGIN:STANDARD
TZOFFSETFROM:-0400
TZOFFSETTO:-0500
TZNAME:EST
DTSTART:20261101T060000
END:STANDARD
BEGIN:DAYLIGHT
TZOFFSETFROM:-0500
TZOFFSETTO:-0400
TZNAME:EDT
DTSTART:20270314T070000
END:DAYLIGHT
BEGIN:STANDARD
TZOFFSETFROM:-0400
TZOFFSETTO:-0500
TZNAME:EST
DTSTART:20271107T060000
END:STANDARD
END:VTIMEZONE
BEGIN:VEVENT
DTSTART;VALUE=DATE:20260320
DTEND;VALUE=DATE:20260321
DTSTAMP:20260425T192233
CREATED:20241121T183737Z
LAST-MODIFIED:20251118T184927Z
UID:10065153-1773964800-1774051199@www.recyclemotion.org
SUMMARY:Recycle
DESCRIPTION:Weekly Recycling
URL:https://www.recyclemotion.org/service/recycle-5-2/2026-03-20/
CATEGORIES:James,Maple grove,NEW-RECYCLE-E-FRI,Recycle,Thomas
END:VEVENT
BEGIN:VEVENT
DTSTART;VALUE=DATE:20260320
DTEND;VALUE=DATE:20260321
DTSTAMP:20260425T192233
CREATED:20241115T205257Z
LAST-MODIFIED:20251117T200202Z
UID:10062155-1773964800-1774051199@www.recyclemotion.org
SUMMARY:Trash
DESCRIPTION:
URL:https://www.recyclemotion.org/service/trash-6-2-2-2-2/2026-03-20/
CATEGORIES:Albee,Blumfield,Brady,Breckenridge,James,Maple grove,NEW-TRASH-E-FRI,St Charles Village,Thomas,Trash,Wheeler
END:VEVENT
BEGIN:VEVENT
DTSTART;VALUE=DATE:20260313
DTEND;VALUE=DATE:20260314
DTSTAMP:20260425T192233
CREATED:20241121T183737Z
LAST-MODIFIED:20251118T184927Z
UID:10065152-1773360000-1773446399@www.recyclemotion.org
SUMMARY:Recycle
DESCRIPTION:Weekly Recycling
URL:https://www.recyclemotion.org/service/recycle-5-2/2026-03-13/
CATEGORIES:James,Maple grove,NEW-RECYCLE-E-FRI,Recycle,Thomas
END:VEVENT
BEGIN:VEVENT
DTSTART;VALUE=DATE:20260313
DTEND;VALUE=DATE:20260314
DTSTAMP:20260425T192233
CREATED:20241115T205257Z
LAST-MODIFIED:20251117T200202Z
UID:10062154-1773360000-1773446399@www.recyclemotion.org
SUMMARY:Trash
DESCRIPTION:
URL:https://www.recyclemotion.org/service/trash-6-2-2-2-2/2026-03-13/
CATEGORIES:Albee,Blumfield,Brady,Breckenridge,James,Maple grove,NEW-TRASH-E-FRI,St Charles Village,Thomas,Trash,Wheeler
END:VEVENT
BEGIN:VEVENT
DTSTART;VALUE=DATE:20260306
DTEND;VALUE=DATE:20260307
DTSTAMP:20260425T192233
CREATED:20241121T183737Z
LAST-MODIFIED:20251118T184927Z
UID:10065151-1772755200-1772841599@www.recyclemotion.org
SUMMARY:Recycle
DESCRIPTION:Weekly Recycling
URL:https://www.recyclemotion.org/service/recycle-5-2/2026-03-06/
CATEGORIES:James,Maple grove,NEW-RECYCLE-E-FRI,Recycle,Thomas
END:VEVENT
BEGIN:VEVENT
DTSTART;VALUE=DATE:20260306
DTEND;VALUE=DATE:20260307
DTSTAMP:20260425T192233
CREATED:20241115T205257Z
LAST-MODIFIED:20251117T200202Z
UID:10062153-1772755200-1772841599@www.recyclemotion.org
SUMMARY:Trash
DESCRIPTION:
URL:https://www.recyclemotion.org/service/trash-6-2-2-2-2/2026-03-06/
CATEGORIES:Albee,Blumfield,Brady,Breckenridge,James,Maple grove,NEW-TRASH-E-FRI,St Charles Village,Thomas,Trash,Wheeler
END:VEVENT
BEGIN:VEVENT
DTSTART;VALUE=DATE:20260227
DTEND;VALUE=DATE:20260228
DTSTAMP:20260425T192233
CREATED:20241121T183737Z
LAST-MODIFIED:20251118T184927Z
UID:10065150-1772150400-1772236799@www.recyclemotion.org
SUMMARY:Recycle
DESCRIPTION:Weekly Recycling
URL:https://www.recyclemotion.org/service/recycle-5-2/2026-02-27/
CATEGORIES:James,Maple grove,NEW-RECYCLE-E-FRI,Recycle,Thomas
END:VEVENT
BEGIN:VEVENT
DTSTART;VALUE=DATE:20260227
DTEND;VALUE=DATE:20260228
DTSTAMP:20260425T192233
CREATED:20241115T205257Z
LAST-MODIFIED:20251117T200202Z
UID:10062152-1772150400-1772236799@www.recyclemotion.org
SUMMARY:Trash
DESCRIPTION:
URL:https://www.recyclemotion.org/service/trash-6-2-2-2-2/2026-02-27/
CATEGORIES:Albee,Blumfield,Brady,Breckenridge,James,Maple grove,NEW-TRASH-E-FRI,St Charles Village,Thomas,Trash,Wheeler
END:VEVENT
BEGIN:VEVENT
DTSTART;VALUE=DATE:20260220
DTEND;VALUE=DATE:20260221
DTSTAMP:20260425T192233
CREATED:20241121T183737Z
LAST-MODIFIED:20251118T184927Z
UID:10065149-1771545600-1771631999@www.recyclemotion.org
SUMMARY:Recycle
DESCRIPTION:Weekly Recycling
URL:https://www.recyclemotion.org/service/recycle-5-2/2026-02-20/
CATEGORIES:James,Maple grove,NEW-RECYCLE-E-FRI,Recycle,Thomas
END:VEVENT
BEGIN:VEVENT
DTSTART;VALUE=DATE:20260220
DTEND;VALUE=DATE:20260221
DTSTAMP:20260425T192233
CREATED:20241115T205257Z
LAST-MODIFIED:20251117T200202Z
UID:10062151-1771545600-1771631999@www.recyclemotion.org
SUMMARY:Trash
DESCRIPTION:
URL:https://www.recyclemotion.org/service/trash-6-2-2-2-2/2026-02-20/
CATEGORIES:Albee,Blumfield,Brady,Breckenridge,James,Maple grove,NEW-TRASH-E-FRI,St Charles Village,Thomas,Trash,Wheeler
END:VEVENT
BEGIN:VEVENT
DTSTART;VALUE=DATE:20260213
DTEND;VALUE=DATE:20260214
DTSTAMP:20260425T192233
CREATED:20241121T183737Z
LAST-MODIFIED:20251118T184927Z
UID:10065148-1770940800-1771027199@www.recyclemotion.org
SUMMARY:Recycle
DESCRIPTION:Weekly Recycling
URL:https://www.recyclemotion.org/service/recycle-5-2/2026-02-13/
CATEGORIES:James,Maple grove,NEW-RECYCLE-E-FRI,Recycle,Thomas
END:VEVENT
BEGIN:VEVENT
DTSTART;VALUE=DATE:20260213
DTEND;VALUE=DATE:20260214
DTSTAMP:20260425T192233
CREATED:20241115T205257Z
LAST-MODIFIED:20251117T200202Z
UID:10062150-1770940800-1771027199@www.recyclemotion.org
SUMMARY:Trash
DESCRIPTION:
URL:https://www.recyclemotion.org/service/trash-6-2-2-2-2/2026-02-13/
CATEGORIES:Albee,Blumfield,Brady,Breckenridge,James,Maple grove,NEW-TRASH-E-FRI,St Charles Village,Thomas,Trash,Wheeler
END:VEVENT
BEGIN:VEVENT
DTSTART;VALUE=DATE:20260206
DTEND;VALUE=DATE:20260207
DTSTAMP:20260425T192233
CREATED:20241121T183737Z
LAST-MODIFIED:20251118T184927Z
UID:10065147-1770336000-1770422399@www.recyclemotion.org
SUMMARY:Recycle
DESCRIPTION:Weekly Recycling
URL:https://www.recyclemotion.org/service/recycle-5-2/2026-02-06/
CATEGORIES:James,Maple grove,NEW-RECYCLE-E-FRI,Recycle,Thomas
END:VEVENT
BEGIN:VEVENT
DTSTART;VALUE=DATE:20260206
DTEND;VALUE=DATE:20260207
DTSTAMP:20260425T192233
CREATED:20241115T205257Z
LAST-MODIFIED:20251117T200202Z
UID:10062149-1770336000-1770422399@www.recyclemotion.org
SUMMARY:Trash
DESCRIPTION:
URL:https://www.recyclemotion.org/service/trash-6-2-2-2-2/2026-02-06/
CATEGORIES:Albee,Blumfield,Brady,Breckenridge,James,Maple grove,NEW-TRASH-E-FRI,St Charles Village,Thomas,Trash,Wheeler
END:VEVENT
BEGIN:VEVENT
DTSTART;VALUE=DATE:20260130
DTEND;VALUE=DATE:20260131
DTSTAMP:20260425T192233
CREATED:20241121T183737Z
LAST-MODIFIED:20251118T184927Z
UID:10065146-1769731200-1769817599@www.recyclemotion.org
SUMMARY:Recycle
DESCRIPTION:Weekly Recycling
URL:https://www.recyclemotion.org/service/recycle-5-2/2026-01-30/
CATEGORIES:James,Maple grove,NEW-RECYCLE-E-FRI,Recycle,Thomas
END:VEVENT
BEGIN:VEVENT
DTSTART;VALUE=DATE:20260130
DTEND;VALUE=DATE:20260131
DTSTAMP:20260425T192233
CREATED:20241115T205257Z
LAST-MODIFIED:20251117T200202Z
UID:10062148-1769731200-1769817599@www.recyclemotion.org
SUMMARY:Trash
DESCRIPTION:
URL:https://www.recyclemotion.org/service/trash-6-2-2-2-2/2026-01-30/
CATEGORIES:Albee,Blumfield,Brady,Breckenridge,James,Maple grove,NEW-TRASH-E-FRI,St Charles Village,Thomas,Trash,Wheeler
END:VEVENT
BEGIN:VEVENT
DTSTART;VALUE=DATE:20260123
DTEND;VALUE=DATE:20260124
DTSTAMP:20260425T192233
CREATED:20241121T183737Z
LAST-MODIFIED:20251118T184927Z
UID:10065145-1769126400-1769212799@www.recyclemotion.org
SUMMARY:Recycle
DESCRIPTION:Weekly Recycling
URL:https://www.recyclemotion.org/service/recycle-5-2/2026-01-23/
CATEGORIES:James,Maple grove,NEW-RECYCLE-E-FRI,Recycle,Thomas
END:VEVENT
BEGIN:VEVENT
DTSTART;VALUE=DATE:20260123
DTEND;VALUE=DATE:20260124
DTSTAMP:20260425T192233
CREATED:20241115T205257Z
LAST-MODIFIED:20251117T200202Z
UID:10062147-1769126400-1769212799@www.recyclemotion.org
SUMMARY:Trash
DESCRIPTION:
URL:https://www.recyclemotion.org/service/trash-6-2-2-2-2/2026-01-23/
CATEGORIES:Albee,Blumfield,Brady,Breckenridge,James,Maple grove,NEW-TRASH-E-FRI,St Charles Village,Thomas,Trash,Wheeler
END:VEVENT
BEGIN:VEVENT
DTSTART;VALUE=DATE:20260116
DTEND;VALUE=DATE:20260117
DTSTAMP:20260425T192233
CREATED:20241121T183737Z
LAST-MODIFIED:20251118T184927Z
UID:10065144-1768521600-1768607999@www.recyclemotion.org
SUMMARY:Recycle
DESCRIPTION:Weekly Recycling
URL:https://www.recyclemotion.org/service/recycle-5-2/2026-01-16/
CATEGORIES:James,Maple grove,NEW-RECYCLE-E-FRI,Recycle,Thomas
END:VEVENT
BEGIN:VEVENT
DTSTART;VALUE=DATE:20260116
DTEND;VALUE=DATE:20260117
DTSTAMP:20260425T192233
CREATED:20241115T205257Z
LAST-MODIFIED:20251117T200202Z
UID:10062146-1768521600-1768607999@www.recyclemotion.org
SUMMARY:Trash
DESCRIPTION:
URL:https://www.recyclemotion.org/service/trash-6-2-2-2-2/2026-01-16/
CATEGORIES:Albee,Blumfield,Brady,Breckenridge,James,Maple grove,NEW-TRASH-E-FRI,St Charles Village,Thomas,Trash,Wheeler
END:VEVENT
BEGIN:VEVENT
DTSTART;VALUE=DATE:20260109
DTEND;VALUE=DATE:20260110
DTSTAMP:20260425T192233
CREATED:20241121T183737Z
LAST-MODIFIED:20251118T184927Z
UID:10065143-1767916800-1768003199@www.recyclemotion.org
SUMMARY:Recycle
DESCRIPTION:Weekly Recycling
URL:https://www.recyclemotion.org/service/recycle-5-2/2026-01-09/
CATEGORIES:James,Maple grove,NEW-RECYCLE-E-FRI,Recycle,Thomas
END:VEVENT
BEGIN:VEVENT
DTSTART;VALUE=DATE:20260109
DTEND;VALUE=DATE:20260110
DTSTAMP:20260425T192233
CREATED:20241115T205257Z
LAST-MODIFIED:20251117T200202Z
UID:10062145-1767916800-1768003199@www.recyclemotion.org
SUMMARY:Trash
DESCRIPTION:
URL:https://www.recyclemotion.org/service/trash-6-2-2-2-2/2026-01-09/
CATEGORIES:Albee,Blumfield,Brady,Breckenridge,James,Maple grove,NEW-TRASH-E-FRI,St Charles Village,Thomas,Trash,Wheeler
END:VEVENT
BEGIN:VEVENT
DTSTART;VALUE=DATE:20260103
DTEND;VALUE=DATE:20260104
DTSTAMP:20260425T192233
CREATED:20241121T183737Z
LAST-MODIFIED:20251118T184927Z
UID:10065142-1767427200-1767459600@www.recyclemotion.org
SUMMARY:Recycle
DESCRIPTION:Weekly Recycling
URL:https://www.recyclemotion.org/service/recycle-5-2/2026-01-03/
CATEGORIES:James,Maple grove,NEW-RECYCLE-E-FRI,Recycle,Thomas
END:VEVENT
BEGIN:VEVENT
DTSTART;VALUE=DATE:20260103
DTEND;VALUE=DATE:20260104
DTSTAMP:20260425T192233
CREATED:20241115T205257Z
LAST-MODIFIED:20251117T200202Z
UID:10062133-1767427200-1767459600@www.recyclemotion.org
SUMMARY:Trash
DESCRIPTION:
URL:https://www.recyclemotion.org/service/trash-6-2-2-2-2/2026-01-03/
CATEGORIES:Albee,Blumfield,Brady,Breckenridge,James,Maple grove,NEW-TRASH-E-FRI,St Charles Village,Thomas,Trash,Wheeler
END:VEVENT
BEGIN:VEVENT
DTSTART;VALUE=DATE:20260101
DTEND;VALUE=DATE:20260102
DTSTAMP:20260425T192233
CREATED:20170509T161132Z
LAST-MODIFIED:20170516T012441Z
UID:10051749-1767225600-1767311999@www.recyclemotion.org
SUMMARY:New Year
DESCRIPTION:
URL:https://www.recyclemotion.org/service/new-year-6/2026-01-01/
CATEGORIES:Albee,Bethany,Birch Run Township,Birch Run VIllage,Blumfield,Brady,Brant,Breckenridge,Bridgeport,Buena Vista,Carrollton,Chapin,Chesaning,Frankenmuth City,Frankenmuth Township,Fremont,Holiday,James,Jonesfield,Kochville,Lakefield,Maple grove,Marion,Merrill,Richland,Saginaw Township North,Saginaw Township South,Spaulding,St Charles Township,St Charles Village,Swan Creek,Thomas,Tittabawassee,Wheeler,Zilwaukee
END:VEVENT
BEGIN:VEVENT
DTSTART;VALUE=DATE:20260101
DTEND;VALUE=DATE:20260102
DTSTAMP:20260425T192233
CREATED:20170509T151531Z
LAST-MODIFIED:20180308T172654Z
UID:10051686-1767225600-1767311999@www.recyclemotion.org
SUMMARY:New Year
DESCRIPTION:
URL:https://www.recyclemotion.org/service/new-year-2016-01-01/2026-01-01/
CATEGORIES:Albee,Bethany,Birch Run Township,Birch Run VIllage,Blumfield,Brady,Brant,Breckenridge,Bridgeport,Buena Vista,Carrollton,Chapin,Chesaning,Frankenmuth City,Frankenmuth Township,Fremont,Holiday,James,Jonesfield,Kochville,Lakefield,Maple grove,Marion,Merrill,Richland,Saginaw Township North,Saginaw Township South,Spaulding,St Charles Township,St Charles Village,Swan Creek,Thomas,Tittabawassee,Wheeler,Zilwaukee
END:VEVENT
BEGIN:VEVENT
DTSTART;VALUE=DATE:20251227
DTEND;VALUE=DATE:20251228
DTSTAMP:20260425T192233
CREATED:20241121T183737Z
LAST-MODIFIED:20251118T184927Z
UID:10061682-1766822400-1766854800@www.recyclemotion.org
SUMMARY:Recycle
DESCRIPTION:Weekly Recycling
URL:https://www.recyclemotion.org/service/recycle-5-2/2025-12-27/
CATEGORIES:James,Maple grove,NEW-RECYCLE-E-FRI,Recycle,Thomas
END:VEVENT
BEGIN:VEVENT
DTSTART;VALUE=DATE:20251227
DTEND;VALUE=DATE:20251228
DTSTAMP:20260425T192233
CREATED:20241115T205257Z
LAST-MODIFIED:20251117T200202Z
UID:10061295-1766822400-1766854800@www.recyclemotion.org
SUMMARY:Trash
DESCRIPTION:
URL:https://www.recyclemotion.org/service/trash-6-2-2-2-2/2025-12-27/
CATEGORIES:Albee,Blumfield,Brady,Breckenridge,James,Maple grove,NEW-TRASH-E-FRI,St Charles Village,Thomas,Trash,Wheeler
END:VEVENT
BEGIN:VEVENT
DTSTART;TZID=America/Detroit:20251225T080000
DTEND;TZID=America/Detroit:20251225T170000
DTSTAMP:20260425T192233
CREATED:20170509T153631Z
LAST-MODIFIED:20170516T012757Z
UID:10051736-1766649600-1766682000@www.recyclemotion.org
SUMMARY:Christmas
DESCRIPTION:
URL:https://www.recyclemotion.org/service/christmas/2025-12-25/
CATEGORIES:Albee,Bethany,Birch Run Township,Birch Run VIllage,Blumfield,Brady,Brant,Breckenridge,Bridgeport,Buena Vista,Carrollton,Chapin,Chesaning,Frankenmuth City,Frankenmuth Township,Fremont,Holiday,James,Jonesfield,Kochville,Lakefield,Maple grove,Marion,Merrill,Richland,Saginaw Township North,Saginaw Township South,Spaulding,St Charles Township,St Charles Village,Swan Creek,Thomas,Tittabawassee,Wheeler,Zilwaukee
END:VEVENT
BEGIN:VEVENT
DTSTART;VALUE=DATE:20251219
DTEND;VALUE=DATE:20251220
DTSTAMP:20260425T192233
CREATED:20241121T183737Z
LAST-MODIFIED:20251118T184927Z
UID:10061681-1766102400-1766188799@www.recyclemotion.org
SUMMARY:Recycle
DESCRIPTION:Weekly Recycling
URL:https://www.recyclemotion.org/service/recycle-5-2/2025-12-19/
CATEGORIES:James,Maple grove,NEW-RECYCLE-E-FRI,Recycle,Thomas
END:VEVENT
END:VCALENDAR