BEGIN:VCALENDAR
VERSION:2.0
PRODID:-//Mid Michigan Waste Authority - ECPv6.15.20//NONSGML v1.0//EN
CALSCALE:GREGORIAN
METHOD:PUBLISH
X-WR-CALNAME:Mid Michigan Waste Authority
X-ORIGINAL-URL:https://www.recyclemotion.org
X-WR-CALDESC:Events for Mid Michigan Waste Authority
REFRESH-INTERVAL;VALUE=DURATION:PT1H
X-Robots-Tag:noindex
X-PUBLISHED-TTL:PT1H
BEGIN:VTIMEZONE
TZID:UTC
BEGIN:STANDARD
TZOFFSETFROM:+0000
TZOFFSETTO:+0000
TZNAME:UTC
DTSTART:20240101T000000
END:STANDARD
END:VTIMEZONE
BEGIN:VTIMEZONE
TZID:America/Detroit
BEGIN:DAYLIGHT
TZOFFSETFROM:-0500
TZOFFSETTO:-0400
TZNAME:EDT
DTSTART:20240310T070000
END:DAYLIGHT
BEGIN:STANDARD
TZOFFSETFROM:-0400
TZOFFSETTO:-0500
TZNAME:EST
DTSTART:20241103T060000
END:STANDARD
BEGIN:DAYLIGHT
TZOFFSETFROM:-0500
TZOFFSETTO:-0400
TZNAME:EDT
DTSTART:20250309T070000
END:DAYLIGHT
BEGIN:STANDARD
TZOFFSETFROM:-0400
TZOFFSETTO:-0500
TZNAME:EST
DTSTART:20251102T060000
END:STANDARD
BEGIN:DAYLIGHT
TZOFFSETFROM:-0500
TZOFFSETTO:-0400
TZNAME:EDT
DTSTART:20260308T070000
END:DAYLIGHT
BEGIN:STANDARD
TZOFFSETFROM:-0400
TZOFFSETTO:-0500
TZNAME:EST
DTSTART:20261101T060000
END:STANDARD
BEGIN:DAYLIGHT
TZOFFSETFROM:-0500
TZOFFSETTO:-0400
TZNAME:EDT
DTSTART:20270314T070000
END:DAYLIGHT
BEGIN:STANDARD
TZOFFSETFROM:-0400
TZOFFSETTO:-0500
TZNAME:EST
DTSTART:20271107T060000
END:STANDARD
END:VTIMEZONE
BEGIN:VEVENT
DTSTART;VALUE=DATE:20260109
DTEND;VALUE=DATE:20260110
DTSTAMP:20260425T225159
CREATED:20241121T183737Z
LAST-MODIFIED:20251118T184927Z
UID:10065143-1767916800-1768003199@www.recyclemotion.org
SUMMARY:Recycle
DESCRIPTION:Weekly Recycling
URL:https://www.recyclemotion.org/service/recycle-5-2/2026-01-09/
CATEGORIES:James,Maple grove,NEW-RECYCLE-E-FRI,Recycle,Thomas
END:VEVENT
BEGIN:VEVENT
DTSTART;VALUE=DATE:20260109
DTEND;VALUE=DATE:20260110
DTSTAMP:20260425T225159
CREATED:20241115T205257Z
LAST-MODIFIED:20251117T200202Z
UID:10062145-1767916800-1768003199@www.recyclemotion.org
SUMMARY:Trash
DESCRIPTION:
URL:https://www.recyclemotion.org/service/trash-6-2-2-2-2/2026-01-09/
CATEGORIES:Albee,Blumfield,Brady,Breckenridge,James,Maple grove,NEW-TRASH-E-FRI,St Charles Village,Thomas,Trash,Wheeler
END:VEVENT
BEGIN:VEVENT
DTSTART;VALUE=DATE:20260103
DTEND;VALUE=DATE:20260104
DTSTAMP:20260425T225159
CREATED:20241121T183737Z
LAST-MODIFIED:20251118T184927Z
UID:10065142-1767427200-1767459600@www.recyclemotion.org
SUMMARY:Recycle
DESCRIPTION:Weekly Recycling
URL:https://www.recyclemotion.org/service/recycle-5-2/2026-01-03/
CATEGORIES:James,Maple grove,NEW-RECYCLE-E-FRI,Recycle,Thomas
END:VEVENT
BEGIN:VEVENT
DTSTART;VALUE=DATE:20260103
DTEND;VALUE=DATE:20260104
DTSTAMP:20260425T225159
CREATED:20241115T205257Z
LAST-MODIFIED:20251117T200202Z
UID:10062133-1767427200-1767459600@www.recyclemotion.org
SUMMARY:Trash
DESCRIPTION:
URL:https://www.recyclemotion.org/service/trash-6-2-2-2-2/2026-01-03/
CATEGORIES:Albee,Blumfield,Brady,Breckenridge,James,Maple grove,NEW-TRASH-E-FRI,St Charles Village,Thomas,Trash,Wheeler
END:VEVENT
BEGIN:VEVENT
DTSTART;VALUE=DATE:20260101
DTEND;VALUE=DATE:20260102
DTSTAMP:20260425T225159
CREATED:20170509T161132Z
LAST-MODIFIED:20170516T012441Z
UID:10051749-1767225600-1767311999@www.recyclemotion.org
SUMMARY:New Year
DESCRIPTION:
URL:https://www.recyclemotion.org/service/new-year-6/2026-01-01/
CATEGORIES:Albee,Bethany,Birch Run Township,Birch Run VIllage,Blumfield,Brady,Brant,Breckenridge,Bridgeport,Buena Vista,Carrollton,Chapin,Chesaning,Frankenmuth City,Frankenmuth Township,Fremont,Holiday,James,Jonesfield,Kochville,Lakefield,Maple grove,Marion,Merrill,Richland,Saginaw Township North,Saginaw Township South,Spaulding,St Charles Township,St Charles Village,Swan Creek,Thomas,Tittabawassee,Wheeler,Zilwaukee
END:VEVENT
BEGIN:VEVENT
DTSTART;VALUE=DATE:20260101
DTEND;VALUE=DATE:20260102
DTSTAMP:20260425T225159
CREATED:20170509T151531Z
LAST-MODIFIED:20180308T172654Z
UID:10051686-1767225600-1767311999@www.recyclemotion.org
SUMMARY:New Year
DESCRIPTION:
URL:https://www.recyclemotion.org/service/new-year-2016-01-01/2026-01-01/
CATEGORIES:Albee,Bethany,Birch Run Township,Birch Run VIllage,Blumfield,Brady,Brant,Breckenridge,Bridgeport,Buena Vista,Carrollton,Chapin,Chesaning,Frankenmuth City,Frankenmuth Township,Fremont,Holiday,James,Jonesfield,Kochville,Lakefield,Maple grove,Marion,Merrill,Richland,Saginaw Township North,Saginaw Township South,Spaulding,St Charles Township,St Charles Village,Swan Creek,Thomas,Tittabawassee,Wheeler,Zilwaukee
END:VEVENT
BEGIN:VEVENT
DTSTART;VALUE=DATE:20251227
DTEND;VALUE=DATE:20251228
DTSTAMP:20260425T225159
CREATED:20241121T183737Z
LAST-MODIFIED:20251118T184927Z
UID:10061682-1766822400-1766854800@www.recyclemotion.org
SUMMARY:Recycle
DESCRIPTION:Weekly Recycling
URL:https://www.recyclemotion.org/service/recycle-5-2/2025-12-27/
CATEGORIES:James,Maple grove,NEW-RECYCLE-E-FRI,Recycle,Thomas
END:VEVENT
BEGIN:VEVENT
DTSTART;VALUE=DATE:20251227
DTEND;VALUE=DATE:20251228
DTSTAMP:20260425T225159
CREATED:20241115T205257Z
LAST-MODIFIED:20251117T200202Z
UID:10061295-1766822400-1766854800@www.recyclemotion.org
SUMMARY:Trash
DESCRIPTION:
URL:https://www.recyclemotion.org/service/trash-6-2-2-2-2/2025-12-27/
CATEGORIES:Albee,Blumfield,Brady,Breckenridge,James,Maple grove,NEW-TRASH-E-FRI,St Charles Village,Thomas,Trash,Wheeler
END:VEVENT
BEGIN:VEVENT
DTSTART;TZID=America/Detroit:20251225T080000
DTEND;TZID=America/Detroit:20251225T170000
DTSTAMP:20260425T225159
CREATED:20170509T153631Z
LAST-MODIFIED:20170516T012757Z
UID:10051736-1766649600-1766682000@www.recyclemotion.org
SUMMARY:Christmas
DESCRIPTION:
URL:https://www.recyclemotion.org/service/christmas/2025-12-25/
CATEGORIES:Albee,Bethany,Birch Run Township,Birch Run VIllage,Blumfield,Brady,Brant,Breckenridge,Bridgeport,Buena Vista,Carrollton,Chapin,Chesaning,Frankenmuth City,Frankenmuth Township,Fremont,Holiday,James,Jonesfield,Kochville,Lakefield,Maple grove,Marion,Merrill,Richland,Saginaw Township North,Saginaw Township South,Spaulding,St Charles Township,St Charles Village,Swan Creek,Thomas,Tittabawassee,Wheeler,Zilwaukee
END:VEVENT
BEGIN:VEVENT
DTSTART;VALUE=DATE:20251219
DTEND;VALUE=DATE:20251220
DTSTAMP:20260425T225159
CREATED:20241121T183737Z
LAST-MODIFIED:20251118T184927Z
UID:10061681-1766102400-1766188799@www.recyclemotion.org
SUMMARY:Recycle
DESCRIPTION:Weekly Recycling
URL:https://www.recyclemotion.org/service/recycle-5-2/2025-12-19/
CATEGORIES:James,Maple grove,NEW-RECYCLE-E-FRI,Recycle,Thomas
END:VEVENT
BEGIN:VEVENT
DTSTART;VALUE=DATE:20251219
DTEND;VALUE=DATE:20251220
DTSTAMP:20260425T225159
CREATED:20241115T205257Z
LAST-MODIFIED:20251117T200202Z
UID:10061294-1766102400-1766188799@www.recyclemotion.org
SUMMARY:Trash
DESCRIPTION:
URL:https://www.recyclemotion.org/service/trash-6-2-2-2-2/2025-12-19/
CATEGORIES:Albee,Blumfield,Brady,Breckenridge,James,Maple grove,NEW-TRASH-E-FRI,St Charles Village,Thomas,Trash,Wheeler
END:VEVENT
BEGIN:VEVENT
DTSTART;VALUE=DATE:20251212
DTEND;VALUE=DATE:20251213
DTSTAMP:20260425T225159
CREATED:20241121T183737Z
LAST-MODIFIED:20251118T184927Z
UID:10061680-1765497600-1765583999@www.recyclemotion.org
SUMMARY:Recycle
DESCRIPTION:Weekly Recycling
URL:https://www.recyclemotion.org/service/recycle-5-2/2025-12-12/
CATEGORIES:James,Maple grove,NEW-RECYCLE-E-FRI,Recycle,Thomas
END:VEVENT
BEGIN:VEVENT
DTSTART;VALUE=DATE:20251212
DTEND;VALUE=DATE:20251213
DTSTAMP:20260425T225159
CREATED:20241115T205257Z
LAST-MODIFIED:20251117T200202Z
UID:10061293-1765497600-1765583999@www.recyclemotion.org
SUMMARY:Trash
DESCRIPTION:
URL:https://www.recyclemotion.org/service/trash-6-2-2-2-2/2025-12-12/
CATEGORIES:Albee,Blumfield,Brady,Breckenridge,James,Maple grove,NEW-TRASH-E-FRI,St Charles Village,Thomas,Trash,Wheeler
END:VEVENT
BEGIN:VEVENT
DTSTART;VALUE=DATE:20251205
DTEND;VALUE=DATE:20251206
DTSTAMP:20260425T225159
CREATED:20241121T183737Z
LAST-MODIFIED:20251118T184927Z
UID:10061679-1764892800-1764979199@www.recyclemotion.org
SUMMARY:Recycle
DESCRIPTION:Weekly Recycling
URL:https://www.recyclemotion.org/service/recycle-5-2/2025-12-05/
CATEGORIES:James,Maple grove,NEW-RECYCLE-E-FRI,Recycle,Thomas
END:VEVENT
BEGIN:VEVENT
DTSTART;VALUE=DATE:20251205
DTEND;VALUE=DATE:20251206
DTSTAMP:20260425T225159
CREATED:20241115T205257Z
LAST-MODIFIED:20251117T200202Z
UID:10061292-1764892800-1764979199@www.recyclemotion.org
SUMMARY:Trash
DESCRIPTION:
URL:https://www.recyclemotion.org/service/trash-6-2-2-2-2/2025-12-05/
CATEGORIES:Albee,Blumfield,Brady,Breckenridge,James,Maple grove,NEW-TRASH-E-FRI,St Charles Village,Thomas,Trash,Wheeler
END:VEVENT
BEGIN:VEVENT
DTSTART;VALUE=DATE:20251129
DTEND;VALUE=DATE:20251130
DTSTAMP:20260425T225159
CREATED:20241121T183737Z
LAST-MODIFIED:20251118T184927Z
UID:10061678-1764403200-1764435600@www.recyclemotion.org
SUMMARY:Recycle
DESCRIPTION:Weekly Recycling
URL:https://www.recyclemotion.org/service/recycle-5-2/2025-11-29/
CATEGORIES:James,Maple grove,NEW-RECYCLE-E-FRI,Recycle,Thomas
END:VEVENT
BEGIN:VEVENT
DTSTART;VALUE=DATE:20251129
DTEND;VALUE=DATE:20251130
DTSTAMP:20260425T225159
CREATED:20241115T205257Z
LAST-MODIFIED:20251117T200202Z
UID:10061291-1764403200-1764435600@www.recyclemotion.org
SUMMARY:Trash
DESCRIPTION:
URL:https://www.recyclemotion.org/service/trash-6-2-2-2-2/2025-11-29/
CATEGORIES:Albee,Blumfield,Brady,Breckenridge,James,Maple grove,NEW-TRASH-E-FRI,St Charles Village,Thomas,Trash,Wheeler
END:VEVENT
BEGIN:VEVENT
DTSTART;VALUE=DATE:20251127
DTEND;VALUE=DATE:20251128
DTSTAMP:20260425T225159
CREATED:20241122T161814Z
LAST-MODIFIED:20241122T161814Z
UID:10062051-1764201600-1764287999@www.recyclemotion.org
SUMMARY:Thanksgiving Day
DESCRIPTION:Thanksgiving 2025
URL:https://www.recyclemotion.org/service/thanksgiving-day/
CATEGORIES:Albee,Bethany,Birch Run Township,Birch Run VIllage,Blumfield,Brady,Brant,Breckenridge,Bridgeport,Buena Vista,Carrollton,Chapin,Chesaning,Frankenmuth City,Frankenmuth Township,Fremont,Holiday,James,Jonesfield,Kochville,Lakefield,Maple grove,Marion,Merrill,Richland,Saginaw Township North,Saginaw Township South,Spaulding,St Charles Township,St Charles Village,Swan Creek,Thomas,Tittabawassee,Wheeler,Zilwaukee
END:VEVENT
BEGIN:VEVENT
DTSTART;VALUE=DATE:20251121
DTEND;VALUE=DATE:20251122
DTSTAMP:20260425T225159
CREATED:20241121T183737Z
LAST-MODIFIED:20251118T184927Z
UID:10061677-1763683200-1763769599@www.recyclemotion.org
SUMMARY:Recycle
DESCRIPTION:Weekly Recycling
URL:https://www.recyclemotion.org/service/recycle-5-2/2025-11-21/
CATEGORIES:James,Maple grove,NEW-RECYCLE-E-FRI,Recycle,Thomas
END:VEVENT
BEGIN:VEVENT
DTSTART;VALUE=DATE:20251121
DTEND;VALUE=DATE:20251122
DTSTAMP:20260425T225159
CREATED:20241115T205257Z
LAST-MODIFIED:20251117T200202Z
UID:10061290-1763683200-1763769599@www.recyclemotion.org
SUMMARY:Trash
DESCRIPTION:
URL:https://www.recyclemotion.org/service/trash-6-2-2-2-2/2025-11-21/
CATEGORIES:Albee,Blumfield,Brady,Breckenridge,James,Maple grove,NEW-TRASH-E-FRI,St Charles Village,Thomas,Trash,Wheeler
END:VEVENT
BEGIN:VEVENT
DTSTART;VALUE=DATE:20251114
DTEND;VALUE=DATE:20251115
DTSTAMP:20260425T225159
CREATED:20241121T183737Z
LAST-MODIFIED:20251118T184927Z
UID:10061676-1763078400-1763164799@www.recyclemotion.org
SUMMARY:Recycle
DESCRIPTION:Weekly Recycling
URL:https://www.recyclemotion.org/service/recycle-5-2/2025-11-14/
CATEGORIES:James,Maple grove,NEW-RECYCLE-E-FRI,Recycle,Thomas
END:VEVENT
BEGIN:VEVENT
DTSTART;VALUE=DATE:20251114
DTEND;VALUE=DATE:20251115
DTSTAMP:20260425T225159
CREATED:20241115T205257Z
LAST-MODIFIED:20251117T200202Z
UID:10061289-1763078400-1763164799@www.recyclemotion.org
SUMMARY:Trash
DESCRIPTION:
URL:https://www.recyclemotion.org/service/trash-6-2-2-2-2/2025-11-14/
CATEGORIES:Albee,Blumfield,Brady,Breckenridge,James,Maple grove,NEW-TRASH-E-FRI,St Charles Village,Thomas,Trash,Wheeler
END:VEVENT
BEGIN:VEVENT
DTSTART;VALUE=DATE:20251107
DTEND;VALUE=DATE:20251108
DTSTAMP:20260425T225159
CREATED:20241121T183737Z
LAST-MODIFIED:20251118T184927Z
UID:10061675-1762473600-1762559999@www.recyclemotion.org
SUMMARY:Recycle
DESCRIPTION:Weekly Recycling
URL:https://www.recyclemotion.org/service/recycle-5-2/2025-11-07/
CATEGORIES:James,Maple grove,NEW-RECYCLE-E-FRI,Recycle,Thomas
END:VEVENT
BEGIN:VEVENT
DTSTART;VALUE=DATE:20251107
DTEND;VALUE=DATE:20251108
DTSTAMP:20260425T225159
CREATED:20241115T205257Z
LAST-MODIFIED:20251117T200202Z
UID:10061288-1762473600-1762559999@www.recyclemotion.org
SUMMARY:Trash
DESCRIPTION:
URL:https://www.recyclemotion.org/service/trash-6-2-2-2-2/2025-11-07/
CATEGORIES:Albee,Blumfield,Brady,Breckenridge,James,Maple grove,NEW-TRASH-E-FRI,St Charles Village,Thomas,Trash,Wheeler
END:VEVENT
BEGIN:VEVENT
DTSTART;VALUE=DATE:20251031
DTEND;VALUE=DATE:20251101
DTSTAMP:20260425T225200
CREATED:20241121T183737Z
LAST-MODIFIED:20251118T184927Z
UID:10061674-1761868800-1761955199@www.recyclemotion.org
SUMMARY:Recycle
DESCRIPTION:Weekly Recycling
URL:https://www.recyclemotion.org/service/recycle-5-2/2025-10-31/
CATEGORIES:James,Maple grove,NEW-RECYCLE-E-FRI,Recycle,Thomas
END:VEVENT
BEGIN:VEVENT
DTSTART;VALUE=DATE:20251031
DTEND;VALUE=DATE:20251101
DTSTAMP:20260425T225200
CREATED:20241115T205257Z
LAST-MODIFIED:20251117T200202Z
UID:10061287-1761868800-1761955199@www.recyclemotion.org
SUMMARY:Trash
DESCRIPTION:
URL:https://www.recyclemotion.org/service/trash-6-2-2-2-2/2025-10-31/
CATEGORIES:Albee,Blumfield,Brady,Breckenridge,James,Maple grove,NEW-TRASH-E-FRI,St Charles Village,Thomas,Trash,Wheeler
END:VEVENT
BEGIN:VEVENT
DTSTART;VALUE=DATE:20251024
DTEND;VALUE=DATE:20251025
DTSTAMP:20260425T225200
CREATED:20241121T183737Z
LAST-MODIFIED:20251118T184927Z
UID:10061673-1761264000-1761350399@www.recyclemotion.org
SUMMARY:Recycle
DESCRIPTION:Weekly Recycling
URL:https://www.recyclemotion.org/service/recycle-5-2/2025-10-24/
CATEGORIES:James,Maple grove,NEW-RECYCLE-E-FRI,Recycle,Thomas
END:VEVENT
BEGIN:VEVENT
DTSTART;VALUE=DATE:20251024
DTEND;VALUE=DATE:20251025
DTSTAMP:20260425T225200
CREATED:20241115T205257Z
LAST-MODIFIED:20251117T200202Z
UID:10061286-1761264000-1761350399@www.recyclemotion.org
SUMMARY:Trash
DESCRIPTION:
URL:https://www.recyclemotion.org/service/trash-6-2-2-2-2/2025-10-24/
CATEGORIES:Albee,Blumfield,Brady,Breckenridge,James,Maple grove,NEW-TRASH-E-FRI,St Charles Village,Thomas,Trash,Wheeler
END:VEVENT
BEGIN:VEVENT
DTSTART;VALUE=DATE:20251017
DTEND;VALUE=DATE:20251018
DTSTAMP:20260425T225200
CREATED:20241121T183737Z
LAST-MODIFIED:20251118T184927Z
UID:10061672-1760659200-1760745599@www.recyclemotion.org
SUMMARY:Recycle
DESCRIPTION:Weekly Recycling
URL:https://www.recyclemotion.org/service/recycle-5-2/2025-10-17/
CATEGORIES:James,Maple grove,NEW-RECYCLE-E-FRI,Recycle,Thomas
END:VEVENT
BEGIN:VEVENT
DTSTART;VALUE=DATE:20251017
DTEND;VALUE=DATE:20251018
DTSTAMP:20260425T225200
CREATED:20241115T205257Z
LAST-MODIFIED:20251117T200202Z
UID:10061285-1760659200-1760745599@www.recyclemotion.org
SUMMARY:Trash
DESCRIPTION:
URL:https://www.recyclemotion.org/service/trash-6-2-2-2-2/2025-10-17/
CATEGORIES:Albee,Blumfield,Brady,Breckenridge,James,Maple grove,NEW-TRASH-E-FRI,St Charles Village,Thomas,Trash,Wheeler
END:VEVENT
END:VCALENDAR