BEGIN:VCALENDAR
VERSION:2.0
PRODID:-//Mid Michigan Waste Authority - ECPv6.15.20//NONSGML v1.0//EN
CALSCALE:GREGORIAN
METHOD:PUBLISH
X-WR-CALNAME:Mid Michigan Waste Authority
X-ORIGINAL-URL:https://www.recyclemotion.org
X-WR-CALDESC:Events for Mid Michigan Waste Authority
REFRESH-INTERVAL;VALUE=DURATION:PT1H
X-Robots-Tag:noindex
X-PUBLISHED-TTL:PT1H
BEGIN:VTIMEZONE
TZID:America/Detroit
BEGIN:DAYLIGHT
TZOFFSETFROM:-0500
TZOFFSETTO:-0400
TZNAME:EDT
DTSTART:20250309T070000
END:DAYLIGHT
BEGIN:STANDARD
TZOFFSETFROM:-0400
TZOFFSETTO:-0500
TZNAME:EST
DTSTART:20251102T060000
END:STANDARD
BEGIN:DAYLIGHT
TZOFFSETFROM:-0500
TZOFFSETTO:-0400
TZNAME:EDT
DTSTART:20260308T070000
END:DAYLIGHT
BEGIN:STANDARD
TZOFFSETFROM:-0400
TZOFFSETTO:-0500
TZNAME:EST
DTSTART:20261101T060000
END:STANDARD
BEGIN:DAYLIGHT
TZOFFSETFROM:-0500
TZOFFSETTO:-0400
TZNAME:EDT
DTSTART:20270314T070000
END:DAYLIGHT
BEGIN:STANDARD
TZOFFSETFROM:-0400
TZOFFSETTO:-0500
TZNAME:EST
DTSTART:20271107T060000
END:STANDARD
BEGIN:DAYLIGHT
TZOFFSETFROM:-0500
TZOFFSETTO:-0400
TZNAME:EDT
DTSTART:20280312T070000
END:DAYLIGHT
BEGIN:STANDARD
TZOFFSETFROM:-0400
TZOFFSETTO:-0500
TZNAME:EST
DTSTART:20281105T060000
END:STANDARD
END:VTIMEZONE
BEGIN:VEVENT
DTSTART;VALUE=DATE:20260723
DTEND;VALUE=DATE:20260724
DTSTAMP:20260420T093445
CREATED:20251118T163545Z
LAST-MODIFIED:20251118T163545Z
UID:10064394-1784764800-1784851199@www.recyclemotion.org
SUMMARY:Recycle
DESCRIPTION:every other thursday
URL:https://www.recyclemotion.org/service/recycle-32/2026-07-23/
CATEGORIES:Chesaning,NEW-RECYCLE-ALT-THU,Recycle
END:VEVENT
BEGIN:VEVENT
DTSTART;VALUE=DATE:20260806
DTEND;VALUE=DATE:20260807
DTSTAMP:20260420T093445
CREATED:20251118T163545Z
LAST-MODIFIED:20251118T163545Z
UID:10064395-1785974400-1786060799@www.recyclemotion.org
SUMMARY:Recycle
DESCRIPTION:every other thursday
URL:https://www.recyclemotion.org/service/recycle-32/2026-08-06/
CATEGORIES:Chesaning,NEW-RECYCLE-ALT-THU,Recycle
END:VEVENT
BEGIN:VEVENT
DTSTART;VALUE=DATE:20260820
DTEND;VALUE=DATE:20260821
DTSTAMP:20260420T093445
CREATED:20251118T163545Z
LAST-MODIFIED:20251118T163545Z
UID:10064396-1787184000-1787270399@www.recyclemotion.org
SUMMARY:Recycle
DESCRIPTION:every other thursday
URL:https://www.recyclemotion.org/service/recycle-32/2026-08-20/
CATEGORIES:Chesaning,NEW-RECYCLE-ALT-THU,Recycle
END:VEVENT
BEGIN:VEVENT
DTSTART;VALUE=DATE:20260903
DTEND;VALUE=DATE:20260904
DTSTAMP:20260420T093445
CREATED:20251118T163545Z
LAST-MODIFIED:20251118T163545Z
UID:10064397-1788393600-1788479999@www.recyclemotion.org
SUMMARY:Recycle
DESCRIPTION:every other thursday
URL:https://www.recyclemotion.org/service/recycle-32/2026-09-03/
CATEGORIES:Chesaning,NEW-RECYCLE-ALT-THU,Recycle
END:VEVENT
BEGIN:VEVENT
DTSTART;VALUE=DATE:20260917
DTEND;VALUE=DATE:20260918
DTSTAMP:20260420T093445
CREATED:20251118T163545Z
LAST-MODIFIED:20251118T163545Z
UID:10064398-1789603200-1789689599@www.recyclemotion.org
SUMMARY:Recycle
DESCRIPTION:every other thursday
URL:https://www.recyclemotion.org/service/recycle-32/2026-09-17/
CATEGORIES:Chesaning,NEW-RECYCLE-ALT-THU,Recycle
END:VEVENT
BEGIN:VEVENT
DTSTART;VALUE=DATE:20261001
DTEND;VALUE=DATE:20261002
DTSTAMP:20260420T093445
CREATED:20251118T163545Z
LAST-MODIFIED:20251118T163545Z
UID:10064399-1790812800-1790899199@www.recyclemotion.org
SUMMARY:Recycle
DESCRIPTION:every other thursday
URL:https://www.recyclemotion.org/service/recycle-32/2026-10-01/
CATEGORIES:Chesaning,NEW-RECYCLE-ALT-THU,Recycle
END:VEVENT
BEGIN:VEVENT
DTSTART;VALUE=DATE:20261015
DTEND;VALUE=DATE:20261016
DTSTAMP:20260420T093445
CREATED:20251118T163545Z
LAST-MODIFIED:20251118T163545Z
UID:10064400-1792022400-1792108799@www.recyclemotion.org
SUMMARY:Recycle
DESCRIPTION:every other thursday
URL:https://www.recyclemotion.org/service/recycle-32/2026-10-15/
CATEGORIES:Chesaning,NEW-RECYCLE-ALT-THU,Recycle
END:VEVENT
BEGIN:VEVENT
DTSTART;VALUE=DATE:20261029
DTEND;VALUE=DATE:20261030
DTSTAMP:20260420T093445
CREATED:20251118T163545Z
LAST-MODIFIED:20251118T163545Z
UID:10064401-1793232000-1793318399@www.recyclemotion.org
SUMMARY:Recycle
DESCRIPTION:every other thursday
URL:https://www.recyclemotion.org/service/recycle-32/2026-10-29/
CATEGORIES:Chesaning,NEW-RECYCLE-ALT-THU,Recycle
END:VEVENT
BEGIN:VEVENT
DTSTART;VALUE=DATE:20261112
DTEND;VALUE=DATE:20261113
DTSTAMP:20260420T093445
CREATED:20251118T163545Z
LAST-MODIFIED:20251118T163545Z
UID:10064402-1794441600-1794527999@www.recyclemotion.org
SUMMARY:Recycle
DESCRIPTION:every other thursday
URL:https://www.recyclemotion.org/service/recycle-32/2026-11-12/
CATEGORIES:Chesaning,NEW-RECYCLE-ALT-THU,Recycle
END:VEVENT
BEGIN:VEVENT
DTSTART;VALUE=DATE:20261127
DTEND;VALUE=DATE:20261128
DTSTAMP:20260420T093445
CREATED:20251118T163545Z
LAST-MODIFIED:20251118T163545Z
UID:10064403-1795766400-1795798800@www.recyclemotion.org
SUMMARY:Recycle
DESCRIPTION:every other thursday
URL:https://www.recyclemotion.org/service/recycle-32/2026-11-27/
CATEGORIES:Chesaning,NEW-RECYCLE-ALT-THU,Recycle
END:VEVENT
BEGIN:VEVENT
DTSTART;VALUE=DATE:20261210
DTEND;VALUE=DATE:20261211
DTSTAMP:20260420T093445
CREATED:20251118T163545Z
LAST-MODIFIED:20251118T163545Z
UID:10064404-1796860800-1796947199@www.recyclemotion.org
SUMMARY:Recycle
DESCRIPTION:every other thursday
URL:https://www.recyclemotion.org/service/recycle-32/2026-12-10/
CATEGORIES:Chesaning,NEW-RECYCLE-ALT-THU,Recycle
END:VEVENT
BEGIN:VEVENT
DTSTART;VALUE=DATE:20261224
DTEND;VALUE=DATE:20261225
DTSTAMP:20260420T093445
CREATED:20251118T163545Z
LAST-MODIFIED:20251118T163545Z
UID:10064405-1798070400-1798156799@www.recyclemotion.org
SUMMARY:Recycle
DESCRIPTION:every other thursday
URL:https://www.recyclemotion.org/service/recycle-32/2026-12-24/
CATEGORIES:Chesaning,NEW-RECYCLE-ALT-THU,Recycle
END:VEVENT
BEGIN:VEVENT
DTSTART;VALUE=DATE:20270107
DTEND;VALUE=DATE:20270108
DTSTAMP:20260420T093445
CREATED:20251118T163545Z
LAST-MODIFIED:20251118T163545Z
UID:10064406-1799280000-1799366399@www.recyclemotion.org
SUMMARY:Recycle
DESCRIPTION:every other thursday
URL:https://www.recyclemotion.org/service/recycle-32/2027-01-07/
CATEGORIES:Chesaning,NEW-RECYCLE-ALT-THU,Recycle
END:VEVENT
BEGIN:VEVENT
DTSTART;VALUE=DATE:20270121
DTEND;VALUE=DATE:20270122
DTSTAMP:20260420T093445
CREATED:20251118T163545Z
LAST-MODIFIED:20251118T163545Z
UID:10064407-1800489600-1800575999@www.recyclemotion.org
SUMMARY:Recycle
DESCRIPTION:every other thursday
URL:https://www.recyclemotion.org/service/recycle-32/2027-01-21/
CATEGORIES:Chesaning,NEW-RECYCLE-ALT-THU,Recycle
END:VEVENT
BEGIN:VEVENT
DTSTART;VALUE=DATE:20270204
DTEND;VALUE=DATE:20270205
DTSTAMP:20260420T093445
CREATED:20251118T163545Z
LAST-MODIFIED:20251118T163545Z
UID:10064408-1801699200-1801785599@www.recyclemotion.org
SUMMARY:Recycle
DESCRIPTION:every other thursday
URL:https://www.recyclemotion.org/service/recycle-32/2027-02-04/
CATEGORIES:Chesaning,NEW-RECYCLE-ALT-THU,Recycle
END:VEVENT
BEGIN:VEVENT
DTSTART;VALUE=DATE:20270218
DTEND;VALUE=DATE:20270219
DTSTAMP:20260420T093445
CREATED:20251118T163545Z
LAST-MODIFIED:20251118T163545Z
UID:10064409-1802908800-1802995199@www.recyclemotion.org
SUMMARY:Recycle
DESCRIPTION:every other thursday
URL:https://www.recyclemotion.org/service/recycle-32/2027-02-18/
CATEGORIES:Chesaning,NEW-RECYCLE-ALT-THU,Recycle
END:VEVENT
BEGIN:VEVENT
DTSTART;VALUE=DATE:20270304
DTEND;VALUE=DATE:20270305
DTSTAMP:20260420T093445
CREATED:20251118T163545Z
LAST-MODIFIED:20251118T163545Z
UID:10064410-1804118400-1804204799@www.recyclemotion.org
SUMMARY:Recycle
DESCRIPTION:every other thursday
URL:https://www.recyclemotion.org/service/recycle-32/2027-03-04/
CATEGORIES:Chesaning,NEW-RECYCLE-ALT-THU,Recycle
END:VEVENT
BEGIN:VEVENT
DTSTART;VALUE=DATE:20270318
DTEND;VALUE=DATE:20270319
DTSTAMP:20260420T093445
CREATED:20251118T163545Z
LAST-MODIFIED:20251118T163545Z
UID:10064411-1805328000-1805414399@www.recyclemotion.org
SUMMARY:Recycle
DESCRIPTION:every other thursday
URL:https://www.recyclemotion.org/service/recycle-32/2027-03-18/
CATEGORIES:Chesaning,NEW-RECYCLE-ALT-THU,Recycle
END:VEVENT
BEGIN:VEVENT
DTSTART;VALUE=DATE:20270401
DTEND;VALUE=DATE:20270402
DTSTAMP:20260420T093445
CREATED:20251118T163545Z
LAST-MODIFIED:20251118T163545Z
UID:10064412-1806537600-1806623999@www.recyclemotion.org
SUMMARY:Recycle
DESCRIPTION:every other thursday
URL:https://www.recyclemotion.org/service/recycle-32/2027-04-01/
CATEGORIES:Chesaning,NEW-RECYCLE-ALT-THU,Recycle
END:VEVENT
BEGIN:VEVENT
DTSTART;VALUE=DATE:20270415
DTEND;VALUE=DATE:20270416
DTSTAMP:20260420T093445
CREATED:20251118T163545Z
LAST-MODIFIED:20251118T163545Z
UID:10064413-1807747200-1807833599@www.recyclemotion.org
SUMMARY:Recycle
DESCRIPTION:every other thursday
URL:https://www.recyclemotion.org/service/recycle-32/2027-04-15/
CATEGORIES:Chesaning,NEW-RECYCLE-ALT-THU,Recycle
END:VEVENT
BEGIN:VEVENT
DTSTART;VALUE=DATE:20270429
DTEND;VALUE=DATE:20270430
DTSTAMP:20260420T093445
CREATED:20251118T163545Z
LAST-MODIFIED:20251118T163545Z
UID:10064414-1808956800-1809043199@www.recyclemotion.org
SUMMARY:Recycle
DESCRIPTION:every other thursday
URL:https://www.recyclemotion.org/service/recycle-32/2027-04-29/
CATEGORIES:Chesaning,NEW-RECYCLE-ALT-THU,Recycle
END:VEVENT
BEGIN:VEVENT
DTSTART;VALUE=DATE:20270513
DTEND;VALUE=DATE:20270514
DTSTAMP:20260420T093445
CREATED:20251118T163545Z
LAST-MODIFIED:20251118T163545Z
UID:10064415-1810166400-1810252799@www.recyclemotion.org
SUMMARY:Recycle
DESCRIPTION:every other thursday
URL:https://www.recyclemotion.org/service/recycle-32/2027-05-13/
CATEGORIES:Chesaning,NEW-RECYCLE-ALT-THU,Recycle
END:VEVENT
BEGIN:VEVENT
DTSTART;VALUE=DATE:20270527
DTEND;VALUE=DATE:20270528
DTSTAMP:20260420T093445
CREATED:20251118T163545Z
LAST-MODIFIED:20251118T163545Z
UID:10064416-1811376000-1811462399@www.recyclemotion.org
SUMMARY:Recycle
DESCRIPTION:every other thursday
URL:https://www.recyclemotion.org/service/recycle-32/2027-05-27/
CATEGORIES:Chesaning,NEW-RECYCLE-ALT-THU,Recycle
END:VEVENT
BEGIN:VEVENT
DTSTART;VALUE=DATE:20270610
DTEND;VALUE=DATE:20270611
DTSTAMP:20260420T093445
CREATED:20251118T163545Z
LAST-MODIFIED:20251118T163545Z
UID:10064417-1812585600-1812671999@www.recyclemotion.org
SUMMARY:Recycle
DESCRIPTION:every other thursday
URL:https://www.recyclemotion.org/service/recycle-32/2027-06-10/
CATEGORIES:Chesaning,NEW-RECYCLE-ALT-THU,Recycle
END:VEVENT
BEGIN:VEVENT
DTSTART;VALUE=DATE:20270624
DTEND;VALUE=DATE:20270625
DTSTAMP:20260420T093445
CREATED:20251118T163545Z
LAST-MODIFIED:20251118T163545Z
UID:10064418-1813795200-1813881599@www.recyclemotion.org
SUMMARY:Recycle
DESCRIPTION:every other thursday
URL:https://www.recyclemotion.org/service/recycle-32/2027-06-24/
CATEGORIES:Chesaning,NEW-RECYCLE-ALT-THU,Recycle
END:VEVENT
BEGIN:VEVENT
DTSTART;VALUE=DATE:20270708
DTEND;VALUE=DATE:20270709
DTSTAMP:20260420T093445
CREATED:20251118T163545Z
LAST-MODIFIED:20251118T163545Z
UID:10064419-1815004800-1815091199@www.recyclemotion.org
SUMMARY:Recycle
DESCRIPTION:every other thursday
URL:https://www.recyclemotion.org/service/recycle-32/2027-07-08/
CATEGORIES:Chesaning,NEW-RECYCLE-ALT-THU,Recycle
END:VEVENT
BEGIN:VEVENT
DTSTART;VALUE=DATE:20270722
DTEND;VALUE=DATE:20270723
DTSTAMP:20260420T093445
CREATED:20251118T163545Z
LAST-MODIFIED:20251118T163545Z
UID:10064420-1816214400-1816300799@www.recyclemotion.org
SUMMARY:Recycle
DESCRIPTION:every other thursday
URL:https://www.recyclemotion.org/service/recycle-32/2027-07-22/
CATEGORIES:Chesaning,NEW-RECYCLE-ALT-THU,Recycle
END:VEVENT
BEGIN:VEVENT
DTSTART;VALUE=DATE:20270805
DTEND;VALUE=DATE:20270806
DTSTAMP:20260420T093445
CREATED:20251118T163545Z
LAST-MODIFIED:20251118T163545Z
UID:10064421-1817424000-1817510399@www.recyclemotion.org
SUMMARY:Recycle
DESCRIPTION:every other thursday
URL:https://www.recyclemotion.org/service/recycle-32/2027-08-05/
CATEGORIES:Chesaning,NEW-RECYCLE-ALT-THU,Recycle
END:VEVENT
BEGIN:VEVENT
DTSTART;VALUE=DATE:20270819
DTEND;VALUE=DATE:20270820
DTSTAMP:20260420T093445
CREATED:20251118T163545Z
LAST-MODIFIED:20251118T163545Z
UID:10064422-1818633600-1818719999@www.recyclemotion.org
SUMMARY:Recycle
DESCRIPTION:every other thursday
URL:https://www.recyclemotion.org/service/recycle-32/2027-08-19/
CATEGORIES:Chesaning,NEW-RECYCLE-ALT-THU,Recycle
END:VEVENT
BEGIN:VEVENT
DTSTART;VALUE=DATE:20270902
DTEND;VALUE=DATE:20270903
DTSTAMP:20260420T093445
CREATED:20251118T163545Z
LAST-MODIFIED:20251118T163545Z
UID:10064423-1819843200-1819929599@www.recyclemotion.org
SUMMARY:Recycle
DESCRIPTION:every other thursday
URL:https://www.recyclemotion.org/service/recycle-32/2027-09-02/
CATEGORIES:Chesaning,NEW-RECYCLE-ALT-THU,Recycle
END:VEVENT
END:VCALENDAR