BEGIN:VCALENDAR
VERSION:2.0
PRODID:-//Mid Michigan Waste Authority - ECPv6.15.20//NONSGML v1.0//EN
CALSCALE:GREGORIAN
METHOD:PUBLISH
X-WR-CALNAME:Mid Michigan Waste Authority
X-ORIGINAL-URL:https://www.recyclemotion.org
X-WR-CALDESC:Events for Mid Michigan Waste Authority
REFRESH-INTERVAL;VALUE=DURATION:PT1H
X-Robots-Tag:noindex
X-PUBLISHED-TTL:PT1H
BEGIN:VTIMEZONE
TZID:America/Detroit
BEGIN:DAYLIGHT
TZOFFSETFROM:-0500
TZOFFSETTO:-0400
TZNAME:EDT
DTSTART:20200308T070000
END:DAYLIGHT
BEGIN:STANDARD
TZOFFSETFROM:-0400
TZOFFSETTO:-0500
TZNAME:EST
DTSTART:20201101T060000
END:STANDARD
BEGIN:DAYLIGHT
TZOFFSETFROM:-0500
TZOFFSETTO:-0400
TZNAME:EDT
DTSTART:20210314T070000
END:DAYLIGHT
BEGIN:STANDARD
TZOFFSETFROM:-0400
TZOFFSETTO:-0500
TZNAME:EST
DTSTART:20211107T060000
END:STANDARD
BEGIN:DAYLIGHT
TZOFFSETFROM:-0500
TZOFFSETTO:-0400
TZNAME:EDT
DTSTART:20220313T070000
END:DAYLIGHT
BEGIN:STANDARD
TZOFFSETFROM:-0400
TZOFFSETTO:-0500
TZNAME:EST
DTSTART:20221106T060000
END:STANDARD
END:VTIMEZONE
BEGIN:VEVENT
DTSTART;VALUE=DATE:20210507
DTEND;VALUE=DATE:20210508
DTSTAMP:20260419T103458
CREATED:20201220T235217Z
LAST-MODIFIED:20221205T161015Z
UID:10010577-1620345600-1620431999@www.recyclemotion.org
SUMMARY:Recycle
DESCRIPTION:recycle-every-fri
URL:https://www.recyclemotion.org/service/recycle-72-2/2021-05-07/
CATEGORIES:Brady,James,Maple grove,NEW-RECYCLE-E-FRI,Recycle,St Charles Village,Thomas
END:VEVENT
BEGIN:VEVENT
DTSTART;VALUE=DATE:20210514
DTEND;VALUE=DATE:20210515
DTSTAMP:20260419T103458
CREATED:20201220T235217Z
LAST-MODIFIED:20221205T161015Z
UID:10010578-1620950400-1621036799@www.recyclemotion.org
SUMMARY:Recycle
DESCRIPTION:recycle-every-fri
URL:https://www.recyclemotion.org/service/recycle-72-2/2021-05-14/
CATEGORIES:Brady,James,Maple grove,NEW-RECYCLE-E-FRI,Recycle,St Charles Village,Thomas
END:VEVENT
BEGIN:VEVENT
DTSTART;VALUE=DATE:20210521
DTEND;VALUE=DATE:20210522
DTSTAMP:20260419T103458
CREATED:20201220T235217Z
LAST-MODIFIED:20221205T161015Z
UID:10010579-1621555200-1621641599@www.recyclemotion.org
SUMMARY:Recycle
DESCRIPTION:recycle-every-fri
URL:https://www.recyclemotion.org/service/recycle-72-2/2021-05-21/
CATEGORIES:Brady,James,Maple grove,NEW-RECYCLE-E-FRI,Recycle,St Charles Village,Thomas
END:VEVENT
BEGIN:VEVENT
DTSTART;VALUE=DATE:20210528
DTEND;VALUE=DATE:20210529
DTSTAMP:20260419T103458
CREATED:20201220T235217Z
LAST-MODIFIED:20221205T161015Z
UID:10010580-1622160000-1622246399@www.recyclemotion.org
SUMMARY:Recycle
DESCRIPTION:recycle-every-fri
URL:https://www.recyclemotion.org/service/recycle-72-2/2021-05-28/
CATEGORIES:Brady,James,Maple grove,NEW-RECYCLE-E-FRI,Recycle,St Charles Village,Thomas
END:VEVENT
END:VCALENDAR