BEGIN:VCALENDAR
VERSION:2.0
PRODID:-//Mid Michigan Waste Authority - ECPv6.15.20//NONSGML v1.0//EN
CALSCALE:GREGORIAN
METHOD:PUBLISH
X-ORIGINAL-URL:https://www.recyclemotion.org
X-WR-CALDESC:Events for Mid Michigan Waste Authority
REFRESH-INTERVAL;VALUE=DURATION:PT1H
X-Robots-Tag:noindex
X-PUBLISHED-TTL:PT1H
BEGIN:VTIMEZONE
TZID:America/Detroit
BEGIN:DAYLIGHT
TZOFFSETFROM:-0500
TZOFFSETTO:-0400
TZNAME:EDT
DTSTART:20250309T070000
END:DAYLIGHT
BEGIN:STANDARD
TZOFFSETFROM:-0400
TZOFFSETTO:-0500
TZNAME:EST
DTSTART:20251102T060000
END:STANDARD
BEGIN:DAYLIGHT
TZOFFSETFROM:-0500
TZOFFSETTO:-0400
TZNAME:EDT
DTSTART:20260308T070000
END:DAYLIGHT
BEGIN:STANDARD
TZOFFSETFROM:-0400
TZOFFSETTO:-0500
TZNAME:EST
DTSTART:20261101T060000
END:STANDARD
BEGIN:DAYLIGHT
TZOFFSETFROM:-0500
TZOFFSETTO:-0400
TZNAME:EDT
DTSTART:20270314T070000
END:DAYLIGHT
BEGIN:STANDARD
TZOFFSETFROM:-0400
TZOFFSETTO:-0500
TZNAME:EST
DTSTART:20271107T060000
END:STANDARD
END:VTIMEZONE
BEGIN:VEVENT
DTSTART;VALUE=DATE:20260513
DTEND;VALUE=DATE:20260514
DTSTAMP:20260425T120044
CREATED:20241115T214432Z
LAST-MODIFIED:20251118T154315Z
UID:10063599-1778630400-1778716799@www.recyclemotion.org
SUMMARY:Trash
DESCRIPTION:Every Wednesday
URL:https://www.recyclemotion.org/service/trash-21-2-2/2026-05-13/
CATEGORIES:Bridgeport,Chapin,Frankenmuth City,Frankenmuth Township,NEW-TRASH-E-WED,Spaulding,Tittabawassee,Trash
END:VEVENT
BEGIN:VEVENT
DTSTART;VALUE=DATE:20260520
DTEND;VALUE=DATE:20260521
DTSTAMP:20260425T120044
CREATED:20241115T214432Z
LAST-MODIFIED:20251118T154315Z
UID:10063600-1779235200-1779321599@www.recyclemotion.org
SUMMARY:Trash
DESCRIPTION:Every Wednesday
URL:https://www.recyclemotion.org/service/trash-21-2-2/2026-05-20/
CATEGORIES:Bridgeport,Chapin,Frankenmuth City,Frankenmuth Township,NEW-TRASH-E-WED,Spaulding,Tittabawassee,Trash
END:VEVENT
BEGIN:VEVENT
DTSTART;VALUE=DATE:20260528
DTEND;VALUE=DATE:20260529
DTSTAMP:20260425T120044
CREATED:20241115T214432Z
LAST-MODIFIED:20251118T154315Z
UID:10063601-1779955200-1779987600@www.recyclemotion.org
SUMMARY:Trash
DESCRIPTION:Every Wednesday
URL:https://www.recyclemotion.org/service/trash-21-2-2/2026-05-28/
CATEGORIES:Bridgeport,Chapin,Frankenmuth City,Frankenmuth Township,NEW-TRASH-E-WED,Spaulding,Tittabawassee,Trash
END:VEVENT
BEGIN:VEVENT
DTSTART;VALUE=DATE:20260603
DTEND;VALUE=DATE:20260604
DTSTAMP:20260425T120044
CREATED:20241115T214432Z
LAST-MODIFIED:20251118T154315Z
UID:10063602-1780444800-1780531199@www.recyclemotion.org
SUMMARY:Trash
DESCRIPTION:Every Wednesday
URL:https://www.recyclemotion.org/service/trash-21-2-2/2026-06-03/
CATEGORIES:Bridgeport,Chapin,Frankenmuth City,Frankenmuth Township,NEW-TRASH-E-WED,Spaulding,Tittabawassee,Trash
END:VEVENT
BEGIN:VEVENT
DTSTART;VALUE=DATE:20260610
DTEND;VALUE=DATE:20260611
DTSTAMP:20260425T120044
CREATED:20241115T214432Z
LAST-MODIFIED:20251118T154315Z
UID:10063603-1781049600-1781135999@www.recyclemotion.org
SUMMARY:Trash
DESCRIPTION:Every Wednesday
URL:https://www.recyclemotion.org/service/trash-21-2-2/2026-06-10/
CATEGORIES:Bridgeport,Chapin,Frankenmuth City,Frankenmuth Township,NEW-TRASH-E-WED,Spaulding,Tittabawassee,Trash
END:VEVENT
BEGIN:VEVENT
DTSTART;VALUE=DATE:20260617
DTEND;VALUE=DATE:20260618
DTSTAMP:20260425T120044
CREATED:20241115T214432Z
LAST-MODIFIED:20251118T154315Z
UID:10063604-1781654400-1781740799@www.recyclemotion.org
SUMMARY:Trash
DESCRIPTION:Every Wednesday
URL:https://www.recyclemotion.org/service/trash-21-2-2/2026-06-17/
CATEGORIES:Bridgeport,Chapin,Frankenmuth City,Frankenmuth Township,NEW-TRASH-E-WED,Spaulding,Tittabawassee,Trash
END:VEVENT
BEGIN:VEVENT
DTSTART;VALUE=DATE:20260624
DTEND;VALUE=DATE:20260625
DTSTAMP:20260425T120044
CREATED:20241115T214432Z
LAST-MODIFIED:20251118T154315Z
UID:10063605-1782259200-1782345599@www.recyclemotion.org
SUMMARY:Trash
DESCRIPTION:Every Wednesday
URL:https://www.recyclemotion.org/service/trash-21-2-2/2026-06-24/
CATEGORIES:Bridgeport,Chapin,Frankenmuth City,Frankenmuth Township,NEW-TRASH-E-WED,Spaulding,Tittabawassee,Trash
END:VEVENT
BEGIN:VEVENT
DTSTART;VALUE=DATE:20260701
DTEND;VALUE=DATE:20260702
DTSTAMP:20260425T120044
CREATED:20241115T214432Z
LAST-MODIFIED:20251118T154315Z
UID:10063606-1782864000-1782950399@www.recyclemotion.org
SUMMARY:Trash
DESCRIPTION:Every Wednesday
URL:https://www.recyclemotion.org/service/trash-21-2-2/2026-07-01/
CATEGORIES:Bridgeport,Chapin,Frankenmuth City,Frankenmuth Township,NEW-TRASH-E-WED,Spaulding,Tittabawassee,Trash
END:VEVENT
BEGIN:VEVENT
DTSTART;VALUE=DATE:20260708
DTEND;VALUE=DATE:20260709
DTSTAMP:20260425T120044
CREATED:20241115T214432Z
LAST-MODIFIED:20251118T154315Z
UID:10063607-1783468800-1783555199@www.recyclemotion.org
SUMMARY:Trash
DESCRIPTION:Every Wednesday
URL:https://www.recyclemotion.org/service/trash-21-2-2/2026-07-08/
CATEGORIES:Bridgeport,Chapin,Frankenmuth City,Frankenmuth Township,NEW-TRASH-E-WED,Spaulding,Tittabawassee,Trash
END:VEVENT
BEGIN:VEVENT
DTSTART;VALUE=DATE:20260715
DTEND;VALUE=DATE:20260716
DTSTAMP:20260425T120044
CREATED:20241115T214432Z
LAST-MODIFIED:20251118T154315Z
UID:10063608-1784073600-1784159999@www.recyclemotion.org
SUMMARY:Trash
DESCRIPTION:Every Wednesday
URL:https://www.recyclemotion.org/service/trash-21-2-2/2026-07-15/
CATEGORIES:Bridgeport,Chapin,Frankenmuth City,Frankenmuth Township,NEW-TRASH-E-WED,Spaulding,Tittabawassee,Trash
END:VEVENT
BEGIN:VEVENT
DTSTART;VALUE=DATE:20260722
DTEND;VALUE=DATE:20260723
DTSTAMP:20260425T120044
CREATED:20241115T214432Z
LAST-MODIFIED:20251118T154315Z
UID:10063609-1784678400-1784764799@www.recyclemotion.org
SUMMARY:Trash
DESCRIPTION:Every Wednesday
URL:https://www.recyclemotion.org/service/trash-21-2-2/2026-07-22/
CATEGORIES:Bridgeport,Chapin,Frankenmuth City,Frankenmuth Township,NEW-TRASH-E-WED,Spaulding,Tittabawassee,Trash
END:VEVENT
BEGIN:VEVENT
DTSTART;VALUE=DATE:20260729
DTEND;VALUE=DATE:20260730
DTSTAMP:20260425T120044
CREATED:20241115T214432Z
LAST-MODIFIED:20251118T154315Z
UID:10063610-1785283200-1785369599@www.recyclemotion.org
SUMMARY:Trash
DESCRIPTION:Every Wednesday
URL:https://www.recyclemotion.org/service/trash-21-2-2/2026-07-29/
CATEGORIES:Bridgeport,Chapin,Frankenmuth City,Frankenmuth Township,NEW-TRASH-E-WED,Spaulding,Tittabawassee,Trash
END:VEVENT
BEGIN:VEVENT
DTSTART;VALUE=DATE:20260805
DTEND;VALUE=DATE:20260806
DTSTAMP:20260425T120044
CREATED:20241115T214432Z
LAST-MODIFIED:20251118T154315Z
UID:10063611-1785888000-1785974399@www.recyclemotion.org
SUMMARY:Trash
DESCRIPTION:Every Wednesday
URL:https://www.recyclemotion.org/service/trash-21-2-2/2026-08-05/
CATEGORIES:Bridgeport,Chapin,Frankenmuth City,Frankenmuth Township,NEW-TRASH-E-WED,Spaulding,Tittabawassee,Trash
END:VEVENT
BEGIN:VEVENT
DTSTART;VALUE=DATE:20260812
DTEND;VALUE=DATE:20260813
DTSTAMP:20260425T120044
CREATED:20241115T214432Z
LAST-MODIFIED:20251118T154315Z
UID:10063612-1786492800-1786579199@www.recyclemotion.org
SUMMARY:Trash
DESCRIPTION:Every Wednesday
URL:https://www.recyclemotion.org/service/trash-21-2-2/2026-08-12/
CATEGORIES:Bridgeport,Chapin,Frankenmuth City,Frankenmuth Township,NEW-TRASH-E-WED,Spaulding,Tittabawassee,Trash
END:VEVENT
BEGIN:VEVENT
DTSTART;VALUE=DATE:20260819
DTEND;VALUE=DATE:20260820
DTSTAMP:20260425T120044
CREATED:20241115T214432Z
LAST-MODIFIED:20251118T154315Z
UID:10063613-1787097600-1787183999@www.recyclemotion.org
SUMMARY:Trash
DESCRIPTION:Every Wednesday
URL:https://www.recyclemotion.org/service/trash-21-2-2/2026-08-19/
CATEGORIES:Bridgeport,Chapin,Frankenmuth City,Frankenmuth Township,NEW-TRASH-E-WED,Spaulding,Tittabawassee,Trash
END:VEVENT
BEGIN:VEVENT
DTSTART;VALUE=DATE:20260826
DTEND;VALUE=DATE:20260827
DTSTAMP:20260425T120044
CREATED:20241115T214432Z
LAST-MODIFIED:20251118T154315Z
UID:10063614-1787702400-1787788799@www.recyclemotion.org
SUMMARY:Trash
DESCRIPTION:Every Wednesday
URL:https://www.recyclemotion.org/service/trash-21-2-2/2026-08-26/
CATEGORIES:Bridgeport,Chapin,Frankenmuth City,Frankenmuth Township,NEW-TRASH-E-WED,Spaulding,Tittabawassee,Trash
END:VEVENT
BEGIN:VEVENT
DTSTART;VALUE=DATE:20260902
DTEND;VALUE=DATE:20260903
DTSTAMP:20260425T120044
CREATED:20241115T214432Z
LAST-MODIFIED:20251118T154315Z
UID:10063615-1788307200-1788393599@www.recyclemotion.org
SUMMARY:Trash
DESCRIPTION:Every Wednesday
URL:https://www.recyclemotion.org/service/trash-21-2-2/2026-09-02/
CATEGORIES:Bridgeport,Chapin,Frankenmuth City,Frankenmuth Township,NEW-TRASH-E-WED,Spaulding,Tittabawassee,Trash
END:VEVENT
BEGIN:VEVENT
DTSTART;VALUE=DATE:20260910
DTEND;VALUE=DATE:20260911
DTSTAMP:20260425T120044
CREATED:20241115T214432Z
LAST-MODIFIED:20251118T154315Z
UID:10063616-1789027200-1789059600@www.recyclemotion.org
SUMMARY:Trash
DESCRIPTION:Every Wednesday
URL:https://www.recyclemotion.org/service/trash-21-2-2/2026-09-10/
CATEGORIES:Bridgeport,Chapin,Frankenmuth City,Frankenmuth Township,NEW-TRASH-E-WED,Spaulding,Tittabawassee,Trash
END:VEVENT
BEGIN:VEVENT
DTSTART;VALUE=DATE:20260916
DTEND;VALUE=DATE:20260917
DTSTAMP:20260425T120044
CREATED:20241115T214432Z
LAST-MODIFIED:20251118T154315Z
UID:10063617-1789516800-1789603199@www.recyclemotion.org
SUMMARY:Trash
DESCRIPTION:Every Wednesday
URL:https://www.recyclemotion.org/service/trash-21-2-2/2026-09-16/
CATEGORIES:Bridgeport,Chapin,Frankenmuth City,Frankenmuth Township,NEW-TRASH-E-WED,Spaulding,Tittabawassee,Trash
END:VEVENT
BEGIN:VEVENT
DTSTART;VALUE=DATE:20260923
DTEND;VALUE=DATE:20260924
DTSTAMP:20260425T120044
CREATED:20241115T214432Z
LAST-MODIFIED:20251118T154315Z
UID:10063618-1790121600-1790207999@www.recyclemotion.org
SUMMARY:Trash
DESCRIPTION:Every Wednesday
URL:https://www.recyclemotion.org/service/trash-21-2-2/2026-09-23/
CATEGORIES:Bridgeport,Chapin,Frankenmuth City,Frankenmuth Township,NEW-TRASH-E-WED,Spaulding,Tittabawassee,Trash
END:VEVENT
BEGIN:VEVENT
DTSTART;VALUE=DATE:20260930
DTEND;VALUE=DATE:20261001
DTSTAMP:20260425T120044
CREATED:20241115T214432Z
LAST-MODIFIED:20251118T154315Z
UID:10063619-1790726400-1790812799@www.recyclemotion.org
SUMMARY:Trash
DESCRIPTION:Every Wednesday
URL:https://www.recyclemotion.org/service/trash-21-2-2/2026-09-30/
CATEGORIES:Bridgeport,Chapin,Frankenmuth City,Frankenmuth Township,NEW-TRASH-E-WED,Spaulding,Tittabawassee,Trash
END:VEVENT
BEGIN:VEVENT
DTSTART;VALUE=DATE:20261007
DTEND;VALUE=DATE:20261008
DTSTAMP:20260425T120044
CREATED:20241115T214432Z
LAST-MODIFIED:20251118T154315Z
UID:10063620-1791331200-1791417599@www.recyclemotion.org
SUMMARY:Trash
DESCRIPTION:Every Wednesday
URL:https://www.recyclemotion.org/service/trash-21-2-2/2026-10-07/
CATEGORIES:Bridgeport,Chapin,Frankenmuth City,Frankenmuth Township,NEW-TRASH-E-WED,Spaulding,Tittabawassee,Trash
END:VEVENT
BEGIN:VEVENT
DTSTART;VALUE=DATE:20261014
DTEND;VALUE=DATE:20261015
DTSTAMP:20260425T120044
CREATED:20241115T214432Z
LAST-MODIFIED:20251118T154315Z
UID:10063621-1791936000-1792022399@www.recyclemotion.org
SUMMARY:Trash
DESCRIPTION:Every Wednesday
URL:https://www.recyclemotion.org/service/trash-21-2-2/2026-10-14/
CATEGORIES:Bridgeport,Chapin,Frankenmuth City,Frankenmuth Township,NEW-TRASH-E-WED,Spaulding,Tittabawassee,Trash
END:VEVENT
BEGIN:VEVENT
DTSTART;VALUE=DATE:20261021
DTEND;VALUE=DATE:20261022
DTSTAMP:20260425T120044
CREATED:20241115T214432Z
LAST-MODIFIED:20251118T154315Z
UID:10063622-1792540800-1792627199@www.recyclemotion.org
SUMMARY:Trash
DESCRIPTION:Every Wednesday
URL:https://www.recyclemotion.org/service/trash-21-2-2/2026-10-21/
CATEGORIES:Bridgeport,Chapin,Frankenmuth City,Frankenmuth Township,NEW-TRASH-E-WED,Spaulding,Tittabawassee,Trash
END:VEVENT
BEGIN:VEVENT
DTSTART;VALUE=DATE:20261028
DTEND;VALUE=DATE:20261029
DTSTAMP:20260425T120044
CREATED:20241115T214432Z
LAST-MODIFIED:20251118T154315Z
UID:10063623-1793145600-1793231999@www.recyclemotion.org
SUMMARY:Trash
DESCRIPTION:Every Wednesday
URL:https://www.recyclemotion.org/service/trash-21-2-2/2026-10-28/
CATEGORIES:Bridgeport,Chapin,Frankenmuth City,Frankenmuth Township,NEW-TRASH-E-WED,Spaulding,Tittabawassee,Trash
END:VEVENT
BEGIN:VEVENT
DTSTART;VALUE=DATE:20261104
DTEND;VALUE=DATE:20261105
DTSTAMP:20260425T120044
CREATED:20241115T214432Z
LAST-MODIFIED:20251118T154315Z
UID:10063624-1793750400-1793836799@www.recyclemotion.org
SUMMARY:Trash
DESCRIPTION:Every Wednesday
URL:https://www.recyclemotion.org/service/trash-21-2-2/2026-11-04/
CATEGORIES:Bridgeport,Chapin,Frankenmuth City,Frankenmuth Township,NEW-TRASH-E-WED,Spaulding,Tittabawassee,Trash
END:VEVENT
BEGIN:VEVENT
DTSTART;VALUE=DATE:20261111
DTEND;VALUE=DATE:20261112
DTSTAMP:20260425T120044
CREATED:20241115T214432Z
LAST-MODIFIED:20251118T154315Z
UID:10063625-1794355200-1794441599@www.recyclemotion.org
SUMMARY:Trash
DESCRIPTION:Every Wednesday
URL:https://www.recyclemotion.org/service/trash-21-2-2/2026-11-11/
CATEGORIES:Bridgeport,Chapin,Frankenmuth City,Frankenmuth Township,NEW-TRASH-E-WED,Spaulding,Tittabawassee,Trash
END:VEVENT
BEGIN:VEVENT
DTSTART;VALUE=DATE:20261118
DTEND;VALUE=DATE:20261119
DTSTAMP:20260425T120044
CREATED:20241115T214432Z
LAST-MODIFIED:20251118T154315Z
UID:10063626-1794960000-1795046399@www.recyclemotion.org
SUMMARY:Trash
DESCRIPTION:Every Wednesday
URL:https://www.recyclemotion.org/service/trash-21-2-2/2026-11-18/
CATEGORIES:Bridgeport,Chapin,Frankenmuth City,Frankenmuth Township,NEW-TRASH-E-WED,Spaulding,Tittabawassee,Trash
END:VEVENT
BEGIN:VEVENT
DTSTART;VALUE=DATE:20261125
DTEND;VALUE=DATE:20261126
DTSTAMP:20260425T120044
CREATED:20241115T214432Z
LAST-MODIFIED:20251118T154315Z
UID:10063627-1795564800-1795651199@www.recyclemotion.org
SUMMARY:Trash
DESCRIPTION:Every Wednesday
URL:https://www.recyclemotion.org/service/trash-21-2-2/2026-11-25/
CATEGORIES:Bridgeport,Chapin,Frankenmuth City,Frankenmuth Township,NEW-TRASH-E-WED,Spaulding,Tittabawassee,Trash
END:VEVENT
BEGIN:VEVENT
DTSTART;VALUE=DATE:20261202
DTEND;VALUE=DATE:20261203
DTSTAMP:20260425T120044
CREATED:20241115T214432Z
LAST-MODIFIED:20251118T154315Z
UID:10063628-1796169600-1796255999@www.recyclemotion.org
SUMMARY:Trash
DESCRIPTION:Every Wednesday
URL:https://www.recyclemotion.org/service/trash-21-2-2/2026-12-02/
CATEGORIES:Bridgeport,Chapin,Frankenmuth City,Frankenmuth Township,NEW-TRASH-E-WED,Spaulding,Tittabawassee,Trash
END:VEVENT
END:VCALENDAR