BEGIN:VCALENDAR
VERSION:2.0
PRODID:-//Mid Michigan Waste Authority - ECPv6.15.20//NONSGML v1.0//EN
CALSCALE:GREGORIAN
METHOD:PUBLISH
X-WR-CALNAME:Mid Michigan Waste Authority
X-ORIGINAL-URL:https://www.recyclemotion.org
X-WR-CALDESC:Events for Mid Michigan Waste Authority
REFRESH-INTERVAL;VALUE=DURATION:PT1H
X-Robots-Tag:noindex
X-PUBLISHED-TTL:PT1H
BEGIN:VTIMEZONE
TZID:UTC
BEGIN:STANDARD
TZOFFSETFROM:+0000
TZOFFSETTO:+0000
TZNAME:UTC
DTSTART:20250101T000000
END:STANDARD
END:VTIMEZONE
BEGIN:VTIMEZONE
TZID:America/Detroit
BEGIN:DAYLIGHT
TZOFFSETFROM:-0500
TZOFFSETTO:-0400
TZNAME:EDT
DTSTART:20250309T070000
END:DAYLIGHT
BEGIN:STANDARD
TZOFFSETFROM:-0400
TZOFFSETTO:-0500
TZNAME:EST
DTSTART:20251102T060000
END:STANDARD
BEGIN:DAYLIGHT
TZOFFSETFROM:-0500
TZOFFSETTO:-0400
TZNAME:EDT
DTSTART:20260308T070000
END:DAYLIGHT
BEGIN:STANDARD
TZOFFSETFROM:-0400
TZOFFSETTO:-0500
TZNAME:EST
DTSTART:20261101T060000
END:STANDARD
BEGIN:DAYLIGHT
TZOFFSETFROM:-0500
TZOFFSETTO:-0400
TZNAME:EDT
DTSTART:20270314T070000
END:DAYLIGHT
BEGIN:STANDARD
TZOFFSETFROM:-0400
TZOFFSETTO:-0500
TZNAME:EST
DTSTART:20271107T060000
END:STANDARD
END:VTIMEZONE
BEGIN:VEVENT
DTSTART;VALUE=DATE:20260427
DTEND;VALUE=DATE:20260428
DTSTAMP:20260425T105722
CREATED:20241121T184820Z
LAST-MODIFIED:20251118T190243Z
UID:10065577-1777248000-1777334399@www.recyclemotion.org
SUMMARY:Recycle
DESCRIPTION:Weekly Recycling
URL:https://www.recyclemotion.org/service/recycle-12-2/2026-04-27/
CATEGORIES:Kochville,Marion,NEW-RECYCLE-E-MON,Recycle,Swan Creek
END:VEVENT
BEGIN:VEVENT
DTSTART;VALUE=DATE:20260427
DTEND;VALUE=DATE:20260428
DTSTAMP:20260425T105722
CREATED:20241121T192000Z
LAST-MODIFIED:20251118T185751Z
UID:10065441-1777248000-1777334399@www.recyclemotion.org
SUMMARY:Recycle
DESCRIPTION:Bi-Weekly Recycling
URL:https://www.recyclemotion.org/service/recycle-25-2/2026-04-27/
CATEGORIES:Jonesfield,Merrill,NEW-RECYCLE-ALT-MON,Recycle,Saginaw Township South
END:VEVENT
BEGIN:VEVENT
DTSTART;VALUE=DATE:20260428
DTEND;VALUE=DATE:20260429
DTSTAMP:20260425T105722
CREATED:20240117T200358Z
LAST-MODIFIED:20251118T192420Z
UID:10066114-1777334400-1777420799@www.recyclemotion.org
SUMMARY:Recycle
DESCRIPTION:Bi-Weekly Recycle
URL:https://www.recyclemotion.org/service/recycle-29/2026-04-28/
CATEGORIES:NEW-RECYCLE-ALT-TUE,Recycle,Richland
END:VEVENT
BEGIN:VEVENT
DTSTART;VALUE=DATE:20260428
DTEND;VALUE=DATE:20260429
DTSTAMP:20260425T105722
CREATED:20241121T193032Z
LAST-MODIFIED:20251118T204722Z
UID:10066242-1777334400-1777420799@www.recyclemotion.org
SUMMARY:Recycle
DESCRIPTION:Bi-Weekly Recycling
URL:https://www.recyclemotion.org/service/recycle-24-2/2026-04-28/
CATEGORIES:NEW-RECYCLE-ALT2-TUE,Recycle,Saginaw Township North,Zilwaukee
END:VEVENT
BEGIN:VEVENT
DTSTART;VALUE=DATE:20260429
DTEND;VALUE=DATE:20260430
DTSTAMP:20260425T105722
CREATED:20241115T214221Z
LAST-MODIFIED:20251118T154436Z
UID:10063843-1777420800-1777507199@www.recyclemotion.org
SUMMARY:Recycle
DESCRIPTION:Bi-Weekly Recycling
URL:https://www.recyclemotion.org/service/recycle-23-2/2026-04-29/
CATEGORIES:Bridgeport,NEW-RECYCLE-ALT2-WED,Recycle,Spaulding
END:VEVENT
BEGIN:VEVENT
DTSTART;VALUE=DATE:20260429
DTEND;VALUE=DATE:20260430
DTSTAMP:20260425T105722
CREATED:20241121T202138Z
LAST-MODIFIED:20251118T171308Z
UID:10064523-1777420800-1777507199@www.recyclemotion.org
SUMMARY:Recycle
DESCRIPTION:Weekly Recycling
URL:https://www.recyclemotion.org/service/recycle-10-2/2026-04-29/
CATEGORIES:Frankenmuth City,Frankenmuth Township,NEW-RECYCLE-E-WED,Recycle,Tittabawassee
END:VEVENT
BEGIN:VEVENT
DTSTART;VALUE=DATE:20260430
DTEND;VALUE=DATE:20260501
DTSTAMP:20260425T105722
CREATED:20241120T200854Z
LAST-MODIFIED:20251118T161011Z
UID:10064015-1777507200-1777593599@www.recyclemotion.org
SUMMARY:Recycle
DESCRIPTION:Weekly Recycling
URL:https://www.recyclemotion.org/service/recycle-7-2/2026-04-30/
CATEGORIES:Buena Vista,Carrollton,NEW-RECYCLE-E-THU,Recycle
END:VEVENT
BEGIN:VEVENT
DTSTART;VALUE=DATE:20260430
DTEND;VALUE=DATE:20260501
DTSTAMP:20260425T105722
CREATED:20251118T163545Z
LAST-MODIFIED:20251118T163545Z
UID:10064388-1777507200-1777593599@www.recyclemotion.org
SUMMARY:Recycle
DESCRIPTION:every other thursday
URL:https://www.recyclemotion.org/service/recycle-32/2026-04-30/
CATEGORIES:Chesaning,NEW-RECYCLE-ALT-THU,Recycle
END:VEVENT
END:VCALENDAR