BEGIN:VCALENDAR
VERSION:2.0
PRODID:-//Mid Michigan Waste Authority - ECPv6.15.20//NONSGML v1.0//EN
CALSCALE:GREGORIAN
METHOD:PUBLISH
X-ORIGINAL-URL:https://www.recyclemotion.org
X-WR-CALDESC:Events for Mid Michigan Waste Authority
REFRESH-INTERVAL;VALUE=DURATION:PT1H
X-Robots-Tag:noindex
X-PUBLISHED-TTL:PT1H
BEGIN:VTIMEZONE
TZID:America/Detroit
BEGIN:DAYLIGHT
TZOFFSETFROM:-0500
TZOFFSETTO:-0400
TZNAME:EDT
DTSTART:20200308T070000
END:DAYLIGHT
BEGIN:STANDARD
TZOFFSETFROM:-0400
TZOFFSETTO:-0500
TZNAME:EST
DTSTART:20201101T060000
END:STANDARD
BEGIN:DAYLIGHT
TZOFFSETFROM:-0500
TZOFFSETTO:-0400
TZNAME:EDT
DTSTART:20210314T070000
END:DAYLIGHT
BEGIN:STANDARD
TZOFFSETFROM:-0400
TZOFFSETTO:-0500
TZNAME:EST
DTSTART:20211107T060000
END:STANDARD
BEGIN:DAYLIGHT
TZOFFSETFROM:-0500
TZOFFSETTO:-0400
TZNAME:EDT
DTSTART:20220313T070000
END:DAYLIGHT
BEGIN:STANDARD
TZOFFSETFROM:-0400
TZOFFSETTO:-0500
TZNAME:EST
DTSTART:20221106T060000
END:STANDARD
BEGIN:DAYLIGHT
TZOFFSETFROM:-0500
TZOFFSETTO:-0400
TZNAME:EDT
DTSTART:20230312T070000
END:DAYLIGHT
BEGIN:STANDARD
TZOFFSETFROM:-0400
TZOFFSETTO:-0500
TZNAME:EST
DTSTART:20231105T060000
END:STANDARD
END:VTIMEZONE
BEGIN:VEVENT
DTSTART;VALUE=DATE:20211021
DTEND;VALUE=DATE:20211022
DTSTAMP:20260420T071708
CREATED:20201222T140841Z
LAST-MODIFIED:20211102T201452Z
UID:10011038-1634774400-1634860799@www.recyclemotion.org
SUMMARY:Recycle
DESCRIPTION:recycle-alt2-thu
URL:https://www.recyclemotion.org/service/recycle-65-2/2021-10-21/
CATEGORIES:NEW-RECYCLE-ALT2-THU,Recycle,Richland
END:VEVENT
BEGIN:VEVENT
DTSTART;VALUE=DATE:20211028
DTEND;VALUE=DATE:20211029
DTSTAMP:20260420T071708
CREATED:20201220T194423Z
LAST-MODIFIED:20211104T193806Z
UID:10008602-1635379200-1635465599@www.recyclemotion.org
SUMMARY:Trash
DESCRIPTION:trash every thu
URL:https://www.recyclemotion.org/service/trash-19-2/2021-10-28/
CATEGORIES:Birch Run Township,Birch Run VIllage,Buena Vista,Carrollton,Chesaning,NEW-TRASH-E-THU,Richland,St Charles Township,Trash
END:VEVENT
BEGIN:VEVENT
DTSTART;VALUE=DATE:20211104
DTEND;VALUE=DATE:20211105
DTSTAMP:20260420T071708
CREATED:20201220T194423Z
LAST-MODIFIED:20211104T193806Z
UID:10008603-1635984000-1636070399@www.recyclemotion.org
SUMMARY:Trash
DESCRIPTION:trash every thu
URL:https://www.recyclemotion.org/service/trash-19-2/2021-11-04/
CATEGORIES:Birch Run Township,Birch Run VIllage,Buena Vista,Carrollton,Chesaning,NEW-TRASH-E-THU,Richland,St Charles Township,Trash
END:VEVENT
BEGIN:VEVENT
DTSTART;VALUE=DATE:20211104
DTEND;VALUE=DATE:20211105
DTSTAMP:20260420T071708
CREATED:20201222T140841Z
LAST-MODIFIED:20211102T201452Z
UID:10011039-1635984000-1636070399@www.recyclemotion.org
SUMMARY:Recycle
DESCRIPTION:recycle-alt2-thu
URL:https://www.recyclemotion.org/service/recycle-65-2/2021-11-04/
CATEGORIES:NEW-RECYCLE-ALT2-THU,Recycle,Richland
END:VEVENT
BEGIN:VEVENT
DTSTART;VALUE=DATE:20211111
DTEND;VALUE=DATE:20211112
DTSTAMP:20260420T071708
CREATED:20201220T194423Z
LAST-MODIFIED:20211104T193806Z
UID:10008604-1636588800-1636675199@www.recyclemotion.org
SUMMARY:Trash
DESCRIPTION:trash every thu
URL:https://www.recyclemotion.org/service/trash-19-2/2021-11-11/
CATEGORIES:Birch Run Township,Birch Run VIllage,Buena Vista,Carrollton,Chesaning,NEW-TRASH-E-THU,Richland,St Charles Township,Trash
END:VEVENT
BEGIN:VEVENT
DTSTART;VALUE=DATE:20211118
DTEND;VALUE=DATE:20211119
DTSTAMP:20260420T071708
CREATED:20201220T194423Z
LAST-MODIFIED:20211104T193806Z
UID:10008605-1637193600-1637279999@www.recyclemotion.org
SUMMARY:Trash
DESCRIPTION:trash every thu
URL:https://www.recyclemotion.org/service/trash-19-2/2021-11-18/
CATEGORIES:Birch Run Township,Birch Run VIllage,Buena Vista,Carrollton,Chesaning,NEW-TRASH-E-THU,Richland,St Charles Township,Trash
END:VEVENT
BEGIN:VEVENT
DTSTART;VALUE=DATE:20211118
DTEND;VALUE=DATE:20211119
DTSTAMP:20260420T071708
CREATED:20201222T140841Z
LAST-MODIFIED:20211102T201452Z
UID:10011040-1637193600-1637279999@www.recyclemotion.org
SUMMARY:Recycle
DESCRIPTION:recycle-alt2-thu
URL:https://www.recyclemotion.org/service/recycle-65-2/2021-11-18/
CATEGORIES:NEW-RECYCLE-ALT2-THU,Recycle,Richland
END:VEVENT
BEGIN:VEVENT
DTSTART;VALUE=DATE:20211125
DTEND;VALUE=DATE:20211126
DTSTAMP:20260420T071708
CREATED:20170509T153317Z
LAST-MODIFIED:20181121T230047Z
UID:10051723-1637798400-1637884799@www.recyclemotion.org
SUMMARY:Thanksgiving
DESCRIPTION:
URL:https://www.recyclemotion.org/service/thanksgiving/2021-11-25/
CATEGORIES:Albee,Bethany,Birch Run Township,Birch Run VIllage,Blumfield,Brady,Brant,Breckenridge,Bridgeport,Buena Vista,Carrollton,Chapin,Chesaning,Frankenmuth City,Frankenmuth Township,Fremont,Holiday,James,Jonesfield,Kochville,Lakefield,Maple grove,Marion,Merrill,Richland,Saginaw Township North,Saginaw Township South,Spaulding,St Charles Township,St Charles Village,Swan Creek,Thomas,Tittabawassee,Wheeler,Zilwaukee
END:VEVENT
BEGIN:VEVENT
DTSTART;VALUE=DATE:20211126
DTEND;VALUE=DATE:20211127
DTSTAMP:20260420T071708
CREATED:20201220T194423Z
LAST-MODIFIED:20211104T193806Z
UID:10008606-1637884800-1637971199@www.recyclemotion.org
SUMMARY:Trash
DESCRIPTION:trash every thu
URL:https://www.recyclemotion.org/service/trash-19-2/2021-11-26/
CATEGORIES:Birch Run Township,Birch Run VIllage,Buena Vista,Carrollton,Chesaning,NEW-TRASH-E-THU,Richland,St Charles Township,Trash
END:VEVENT
BEGIN:VEVENT
DTSTART;VALUE=DATE:20211202
DTEND;VALUE=DATE:20211203
DTSTAMP:20260420T071708
CREATED:20201220T194423Z
LAST-MODIFIED:20211104T193806Z
UID:10008607-1638403200-1638489599@www.recyclemotion.org
SUMMARY:Trash
DESCRIPTION:trash every thu
URL:https://www.recyclemotion.org/service/trash-19-2/2021-12-02/
CATEGORIES:Birch Run Township,Birch Run VIllage,Buena Vista,Carrollton,Chesaning,NEW-TRASH-E-THU,Richland,St Charles Township,Trash
END:VEVENT
BEGIN:VEVENT
DTSTART;VALUE=DATE:20211202
DTEND;VALUE=DATE:20211203
DTSTAMP:20260420T071708
CREATED:20201222T140841Z
LAST-MODIFIED:20211102T201452Z
UID:10011041-1638403200-1638489599@www.recyclemotion.org
SUMMARY:Recycle
DESCRIPTION:recycle-alt2-thu
URL:https://www.recyclemotion.org/service/recycle-65-2/2021-12-02/
CATEGORIES:NEW-RECYCLE-ALT2-THU,Recycle,Richland
END:VEVENT
BEGIN:VEVENT
DTSTART;VALUE=DATE:20211209
DTEND;VALUE=DATE:20211210
DTSTAMP:20260420T071708
CREATED:20201220T194423Z
LAST-MODIFIED:20211104T193806Z
UID:10008608-1639008000-1639094399@www.recyclemotion.org
SUMMARY:Trash
DESCRIPTION:trash every thu
URL:https://www.recyclemotion.org/service/trash-19-2/2021-12-09/
CATEGORIES:Birch Run Township,Birch Run VIllage,Buena Vista,Carrollton,Chesaning,NEW-TRASH-E-THU,Richland,St Charles Township,Trash
END:VEVENT
BEGIN:VEVENT
DTSTART;VALUE=DATE:20211216
DTEND;VALUE=DATE:20211217
DTSTAMP:20260420T071708
CREATED:20201220T194423Z
LAST-MODIFIED:20211104T193806Z
UID:10008609-1639612800-1639699199@www.recyclemotion.org
SUMMARY:Trash
DESCRIPTION:trash every thu
URL:https://www.recyclemotion.org/service/trash-19-2/2021-12-16/
CATEGORIES:Birch Run Township,Birch Run VIllage,Buena Vista,Carrollton,Chesaning,NEW-TRASH-E-THU,Richland,St Charles Township,Trash
END:VEVENT
BEGIN:VEVENT
DTSTART;VALUE=DATE:20211216
DTEND;VALUE=DATE:20211217
DTSTAMP:20260420T071708
CREATED:20201222T140841Z
LAST-MODIFIED:20211102T201452Z
UID:10011042-1639612800-1639699199@www.recyclemotion.org
SUMMARY:Recycle
DESCRIPTION:recycle-alt2-thu
URL:https://www.recyclemotion.org/service/recycle-65-2/2021-12-16/
CATEGORIES:NEW-RECYCLE-ALT2-THU,Recycle,Richland
END:VEVENT
BEGIN:VEVENT
DTSTART;VALUE=DATE:20211223
DTEND;VALUE=DATE:20211224
DTSTAMP:20260420T071708
CREATED:20201220T194423Z
LAST-MODIFIED:20211104T193806Z
UID:10008610-1640217600-1640303999@www.recyclemotion.org
SUMMARY:Trash
DESCRIPTION:trash every thu
URL:https://www.recyclemotion.org/service/trash-19-2/2021-12-23/
CATEGORIES:Birch Run Township,Birch Run VIllage,Buena Vista,Carrollton,Chesaning,NEW-TRASH-E-THU,Richland,St Charles Township,Trash
END:VEVENT
BEGIN:VEVENT
DTSTART;TZID=America/Detroit:20211225T080000
DTEND;TZID=America/Detroit:20211225T170000
DTSTAMP:20260420T071708
CREATED:20170509T153631Z
LAST-MODIFIED:20170516T012757Z
UID:10051732-1640419200-1640451600@www.recyclemotion.org
SUMMARY:Christmas
DESCRIPTION:
URL:https://www.recyclemotion.org/service/christmas/2021-12-25/
CATEGORIES:Albee,Bethany,Birch Run Township,Birch Run VIllage,Blumfield,Brady,Brant,Breckenridge,Bridgeport,Buena Vista,Carrollton,Chapin,Chesaning,Frankenmuth City,Frankenmuth Township,Fremont,Holiday,James,Jonesfield,Kochville,Lakefield,Maple grove,Marion,Merrill,Richland,Saginaw Township North,Saginaw Township South,Spaulding,St Charles Township,St Charles Village,Swan Creek,Thomas,Tittabawassee,Wheeler,Zilwaukee
END:VEVENT
BEGIN:VEVENT
DTSTART;VALUE=DATE:20211230
DTEND;VALUE=DATE:20211231
DTSTAMP:20260420T071708
CREATED:20201220T194423Z
LAST-MODIFIED:20211104T193806Z
UID:10008611-1640822400-1640908799@www.recyclemotion.org
SUMMARY:Trash
DESCRIPTION:trash every thu
URL:https://www.recyclemotion.org/service/trash-19-2/2021-12-30/
CATEGORIES:Birch Run Township,Birch Run VIllage,Buena Vista,Carrollton,Chesaning,NEW-TRASH-E-THU,Richland,St Charles Township,Trash
END:VEVENT
BEGIN:VEVENT
DTSTART;VALUE=DATE:20211230
DTEND;VALUE=DATE:20211231
DTSTAMP:20260420T071708
CREATED:20201222T140841Z
LAST-MODIFIED:20211102T201452Z
UID:10011043-1640822400-1640908799@www.recyclemotion.org
SUMMARY:Recycle
DESCRIPTION:recycle-alt2-thu
URL:https://www.recyclemotion.org/service/recycle-65-2/2021-12-30/
CATEGORIES:NEW-RECYCLE-ALT2-THU,Recycle,Richland
END:VEVENT
BEGIN:VEVENT
DTSTART;VALUE=DATE:20220101
DTEND;VALUE=DATE:20220102
DTSTAMP:20260420T071708
CREATED:20170509T151531Z
LAST-MODIFIED:20180308T172654Z
UID:10051682-1640995200-1641081599@www.recyclemotion.org
SUMMARY:New Year
DESCRIPTION:
URL:https://www.recyclemotion.org/service/new-year-2016-01-01/2022-01-01/
CATEGORIES:Albee,Bethany,Birch Run Township,Birch Run VIllage,Blumfield,Brady,Brant,Breckenridge,Bridgeport,Buena Vista,Carrollton,Chapin,Chesaning,Frankenmuth City,Frankenmuth Township,Fremont,Holiday,James,Jonesfield,Kochville,Lakefield,Maple grove,Marion,Merrill,Richland,Saginaw Township North,Saginaw Township South,Spaulding,St Charles Township,St Charles Village,Swan Creek,Thomas,Tittabawassee,Wheeler,Zilwaukee
END:VEVENT
BEGIN:VEVENT
DTSTART;VALUE=DATE:20220106
DTEND;VALUE=DATE:20220107
DTSTAMP:20260420T071708
CREATED:20201220T194423Z
LAST-MODIFIED:20211104T193806Z
UID:10008612-1641427200-1641513599@www.recyclemotion.org
SUMMARY:Trash
DESCRIPTION:trash every thu
URL:https://www.recyclemotion.org/service/trash-19-2/2022-01-06/
CATEGORIES:Birch Run Township,Birch Run VIllage,Buena Vista,Carrollton,Chesaning,NEW-TRASH-E-THU,Richland,St Charles Township,Trash
END:VEVENT
BEGIN:VEVENT
DTSTART;VALUE=DATE:20220113
DTEND;VALUE=DATE:20220114
DTSTAMP:20260420T071708
CREATED:20201220T194423Z
LAST-MODIFIED:20211104T193806Z
UID:10008613-1642032000-1642118399@www.recyclemotion.org
SUMMARY:Trash
DESCRIPTION:trash every thu
URL:https://www.recyclemotion.org/service/trash-19-2/2022-01-13/
CATEGORIES:Birch Run Township,Birch Run VIllage,Buena Vista,Carrollton,Chesaning,NEW-TRASH-E-THU,Richland,St Charles Township,Trash
END:VEVENT
BEGIN:VEVENT
DTSTART;VALUE=DATE:20220113
DTEND;VALUE=DATE:20220114
DTSTAMP:20260420T071708
CREATED:20201222T140841Z
LAST-MODIFIED:20211102T201452Z
UID:10011044-1642032000-1642118399@www.recyclemotion.org
SUMMARY:Recycle
DESCRIPTION:recycle-alt2-thu
URL:https://www.recyclemotion.org/service/recycle-65-2/2022-01-13/
CATEGORIES:NEW-RECYCLE-ALT2-THU,Recycle,Richland
END:VEVENT
BEGIN:VEVENT
DTSTART;VALUE=DATE:20220120
DTEND;VALUE=DATE:20220121
DTSTAMP:20260420T071708
CREATED:20201220T194423Z
LAST-MODIFIED:20211104T193806Z
UID:10008614-1642636800-1642723199@www.recyclemotion.org
SUMMARY:Trash
DESCRIPTION:trash every thu
URL:https://www.recyclemotion.org/service/trash-19-2/2022-01-20/
CATEGORIES:Birch Run Township,Birch Run VIllage,Buena Vista,Carrollton,Chesaning,NEW-TRASH-E-THU,Richland,St Charles Township,Trash
END:VEVENT
BEGIN:VEVENT
DTSTART;VALUE=DATE:20220127
DTEND;VALUE=DATE:20220128
DTSTAMP:20260420T071709
CREATED:20201220T194423Z
LAST-MODIFIED:20211104T193806Z
UID:10008615-1643241600-1643327999@www.recyclemotion.org
SUMMARY:Trash
DESCRIPTION:trash every thu
URL:https://www.recyclemotion.org/service/trash-19-2/2022-01-27/
CATEGORIES:Birch Run Township,Birch Run VIllage,Buena Vista,Carrollton,Chesaning,NEW-TRASH-E-THU,Richland,St Charles Township,Trash
END:VEVENT
BEGIN:VEVENT
DTSTART;VALUE=DATE:20220127
DTEND;VALUE=DATE:20220128
DTSTAMP:20260420T071709
CREATED:20201222T140841Z
LAST-MODIFIED:20211102T201452Z
UID:10011045-1643241600-1643327999@www.recyclemotion.org
SUMMARY:Recycle
DESCRIPTION:recycle-alt2-thu
URL:https://www.recyclemotion.org/service/recycle-65-2/2022-01-27/
CATEGORIES:NEW-RECYCLE-ALT2-THU,Recycle,Richland
END:VEVENT
BEGIN:VEVENT
DTSTART;VALUE=DATE:20220203
DTEND;VALUE=DATE:20220204
DTSTAMP:20260420T071709
CREATED:20201220T194423Z
LAST-MODIFIED:20211104T193806Z
UID:10008616-1643846400-1643932799@www.recyclemotion.org
SUMMARY:Trash
DESCRIPTION:trash every thu
URL:https://www.recyclemotion.org/service/trash-19-2/2022-02-03/
CATEGORIES:Birch Run Township,Birch Run VIllage,Buena Vista,Carrollton,Chesaning,NEW-TRASH-E-THU,Richland,St Charles Township,Trash
END:VEVENT
BEGIN:VEVENT
DTSTART;VALUE=DATE:20220210
DTEND;VALUE=DATE:20220211
DTSTAMP:20260420T071709
CREATED:20201220T194423Z
LAST-MODIFIED:20211104T193806Z
UID:10008617-1644451200-1644537599@www.recyclemotion.org
SUMMARY:Trash
DESCRIPTION:trash every thu
URL:https://www.recyclemotion.org/service/trash-19-2/2022-02-10/
CATEGORIES:Birch Run Township,Birch Run VIllage,Buena Vista,Carrollton,Chesaning,NEW-TRASH-E-THU,Richland,St Charles Township,Trash
END:VEVENT
BEGIN:VEVENT
DTSTART;VALUE=DATE:20220210
DTEND;VALUE=DATE:20220211
DTSTAMP:20260420T071709
CREATED:20201222T140841Z
LAST-MODIFIED:20211102T201452Z
UID:10011046-1644451200-1644537599@www.recyclemotion.org
SUMMARY:Recycle
DESCRIPTION:recycle-alt2-thu
URL:https://www.recyclemotion.org/service/recycle-65-2/2022-02-10/
CATEGORIES:NEW-RECYCLE-ALT2-THU,Recycle,Richland
END:VEVENT
BEGIN:VEVENT
DTSTART;VALUE=DATE:20220217
DTEND;VALUE=DATE:20220218
DTSTAMP:20260420T071709
CREATED:20201220T194423Z
LAST-MODIFIED:20211104T193806Z
UID:10008618-1645056000-1645142399@www.recyclemotion.org
SUMMARY:Trash
DESCRIPTION:trash every thu
URL:https://www.recyclemotion.org/service/trash-19-2/2022-02-17/
CATEGORIES:Birch Run Township,Birch Run VIllage,Buena Vista,Carrollton,Chesaning,NEW-TRASH-E-THU,Richland,St Charles Township,Trash
END:VEVENT
BEGIN:VEVENT
DTSTART;VALUE=DATE:20220224
DTEND;VALUE=DATE:20220225
DTSTAMP:20260420T071709
CREATED:20201220T194423Z
LAST-MODIFIED:20211104T193806Z
UID:10008619-1645660800-1645747199@www.recyclemotion.org
SUMMARY:Trash
DESCRIPTION:trash every thu
URL:https://www.recyclemotion.org/service/trash-19-2/2022-02-24/
CATEGORIES:Birch Run Township,Birch Run VIllage,Buena Vista,Carrollton,Chesaning,NEW-TRASH-E-THU,Richland,St Charles Township,Trash
END:VEVENT
END:VCALENDAR