BEGIN:VCALENDAR
VERSION:2.0
PRODID:-//Mid Michigan Waste Authority - ECPv6.15.20//NONSGML v1.0//EN
CALSCALE:GREGORIAN
METHOD:PUBLISH
X-ORIGINAL-URL:https://www.recyclemotion.org
X-WR-CALDESC:Events for Mid Michigan Waste Authority
REFRESH-INTERVAL;VALUE=DURATION:PT1H
X-Robots-Tag:noindex
X-PUBLISHED-TTL:PT1H
BEGIN:VTIMEZONE
TZID:America/Detroit
BEGIN:DAYLIGHT
TZOFFSETFROM:-0500
TZOFFSETTO:-0400
TZNAME:EDT
DTSTART:20240310T070000
END:DAYLIGHT
BEGIN:STANDARD
TZOFFSETFROM:-0400
TZOFFSETTO:-0500
TZNAME:EST
DTSTART:20241103T060000
END:STANDARD
BEGIN:DAYLIGHT
TZOFFSETFROM:-0500
TZOFFSETTO:-0400
TZNAME:EDT
DTSTART:20250309T070000
END:DAYLIGHT
BEGIN:STANDARD
TZOFFSETFROM:-0400
TZOFFSETTO:-0500
TZNAME:EST
DTSTART:20251102T060000
END:STANDARD
BEGIN:DAYLIGHT
TZOFFSETFROM:-0500
TZOFFSETTO:-0400
TZNAME:EDT
DTSTART:20260308T070000
END:DAYLIGHT
BEGIN:STANDARD
TZOFFSETFROM:-0400
TZOFFSETTO:-0500
TZNAME:EST
DTSTART:20261101T060000
END:STANDARD
END:VTIMEZONE
BEGIN:VEVENT
DTSTART;VALUE=DATE:20250901
DTEND;VALUE=DATE:20250902
DTSTAMP:20260425T204449
CREATED:20241122T161415Z
LAST-MODIFIED:20241122T161415Z
UID:10062050-1756684800-1756771199@www.recyclemotion.org
SUMMARY:Labor Day
DESCRIPTION:Labor Day 2025
URL:https://www.recyclemotion.org/service/labor-day-4/
CATEGORIES:Albee,Bethany,Birch Run Township,Birch Run VIllage,Blumfield,Brady,Brant,Breckenridge,Bridgeport,Buena Vista,Carrollton,Chapin,Chesaning,Frankenmuth City,Frankenmuth Township,Fremont,Holiday,James,Jonesfield,Kochville,Lakefield,Maple grove,Marion,Merrill,Richland,Saginaw Township North,Saginaw Township South,Spaulding,St Charles Township,St Charles Village,Swan Creek,Thomas,Tittabawassee,Wheeler,Zilwaukee
END:VEVENT
BEGIN:VEVENT
DTSTART;VALUE=DATE:20250904
DTEND;VALUE=DATE:20250905
DTSTAMP:20260425T204449
CREATED:20241115T214221Z
LAST-MODIFIED:20251118T154436Z
UID:10061316-1756972800-1757005200@www.recyclemotion.org
SUMMARY:Recycle
DESCRIPTION:Bi-Weekly Recycling
URL:https://www.recyclemotion.org/service/recycle-23-2/2025-09-04/
CATEGORIES:Bridgeport,NEW-RECYCLE-ALT2-WED,Recycle,Spaulding
END:VEVENT
BEGIN:VEVENT
DTSTART;VALUE=DATE:20250904
DTEND;VALUE=DATE:20250905
DTSTAMP:20260425T204449
CREATED:20241115T214432Z
LAST-MODIFIED:20251118T154315Z
UID:10061360-1756972800-1757005200@www.recyclemotion.org
SUMMARY:Trash
DESCRIPTION:Every Wednesday
URL:https://www.recyclemotion.org/service/trash-21-2-2/2025-09-04/
CATEGORIES:Bridgeport,Chapin,Frankenmuth City,Frankenmuth Township,NEW-TRASH-E-WED,Spaulding,Tittabawassee,Trash
END:VEVENT
BEGIN:VEVENT
DTSTART;VALUE=DATE:20250904
DTEND;VALUE=DATE:20250905
DTSTAMP:20260425T204449
CREATED:20241120T195650Z
LAST-MODIFIED:20250107T152831Z
UID:10061435-1756972800-1757005200@www.recyclemotion.org
SUMMARY:Yard Waste
DESCRIPTION:Every Wednesday
URL:https://www.recyclemotion.org/service/yard-waste-27/2025-09-04/
CATEGORIES:Bridgeport,Frankenmuth City,NEW-YARD-E-WED,Spaulding,Tittabawassee,Yard Waste
END:VEVENT
BEGIN:VEVENT
DTSTART;VALUE=DATE:20250910
DTEND;VALUE=DATE:20250911
DTSTAMP:20260425T204449
CREATED:20241115T214432Z
LAST-MODIFIED:20251118T154315Z
UID:10061361-1757462400-1757548799@www.recyclemotion.org
SUMMARY:Trash
DESCRIPTION:Every Wednesday
URL:https://www.recyclemotion.org/service/trash-21-2-2/2025-09-10/
CATEGORIES:Bridgeport,Chapin,Frankenmuth City,Frankenmuth Township,NEW-TRASH-E-WED,Spaulding,Tittabawassee,Trash
END:VEVENT
BEGIN:VEVENT
DTSTART;VALUE=DATE:20250910
DTEND;VALUE=DATE:20250911
DTSTAMP:20260425T204449
CREATED:20241120T195650Z
LAST-MODIFIED:20250107T152831Z
UID:10061436-1757462400-1757548799@www.recyclemotion.org
SUMMARY:Yard Waste
DESCRIPTION:Every Wednesday
URL:https://www.recyclemotion.org/service/yard-waste-27/2025-09-10/
CATEGORIES:Bridgeport,Frankenmuth City,NEW-YARD-E-WED,Spaulding,Tittabawassee,Yard Waste
END:VEVENT
BEGIN:VEVENT
DTSTART;VALUE=DATE:20250917
DTEND;VALUE=DATE:20250918
DTSTAMP:20260425T204449
CREATED:20241115T214221Z
LAST-MODIFIED:20251118T154436Z
UID:10061317-1758067200-1758153599@www.recyclemotion.org
SUMMARY:Recycle
DESCRIPTION:Bi-Weekly Recycling
URL:https://www.recyclemotion.org/service/recycle-23-2/2025-09-17/
CATEGORIES:Bridgeport,NEW-RECYCLE-ALT2-WED,Recycle,Spaulding
END:VEVENT
BEGIN:VEVENT
DTSTART;VALUE=DATE:20250917
DTEND;VALUE=DATE:20250918
DTSTAMP:20260425T204449
CREATED:20241115T214432Z
LAST-MODIFIED:20251118T154315Z
UID:10061362-1758067200-1758153599@www.recyclemotion.org
SUMMARY:Trash
DESCRIPTION:Every Wednesday
URL:https://www.recyclemotion.org/service/trash-21-2-2/2025-09-17/
CATEGORIES:Bridgeport,Chapin,Frankenmuth City,Frankenmuth Township,NEW-TRASH-E-WED,Spaulding,Tittabawassee,Trash
END:VEVENT
BEGIN:VEVENT
DTSTART;VALUE=DATE:20250917
DTEND;VALUE=DATE:20250918
DTSTAMP:20260425T204449
CREATED:20241120T195650Z
LAST-MODIFIED:20250107T152831Z
UID:10061437-1758067200-1758153599@www.recyclemotion.org
SUMMARY:Yard Waste
DESCRIPTION:Every Wednesday
URL:https://www.recyclemotion.org/service/yard-waste-27/2025-09-17/
CATEGORIES:Bridgeport,Frankenmuth City,NEW-YARD-E-WED,Spaulding,Tittabawassee,Yard Waste
END:VEVENT
BEGIN:VEVENT
DTSTART;VALUE=DATE:20250924
DTEND;VALUE=DATE:20250925
DTSTAMP:20260425T204449
CREATED:20241115T214432Z
LAST-MODIFIED:20251118T154315Z
UID:10061363-1758672000-1758758399@www.recyclemotion.org
SUMMARY:Trash
DESCRIPTION:Every Wednesday
URL:https://www.recyclemotion.org/service/trash-21-2-2/2025-09-24/
CATEGORIES:Bridgeport,Chapin,Frankenmuth City,Frankenmuth Township,NEW-TRASH-E-WED,Spaulding,Tittabawassee,Trash
END:VEVENT
BEGIN:VEVENT
DTSTART;VALUE=DATE:20250924
DTEND;VALUE=DATE:20250925
DTSTAMP:20260425T204449
CREATED:20241120T195650Z
LAST-MODIFIED:20250107T152831Z
UID:10061438-1758672000-1758758399@www.recyclemotion.org
SUMMARY:Yard Waste
DESCRIPTION:Every Wednesday
URL:https://www.recyclemotion.org/service/yard-waste-27/2025-09-24/
CATEGORIES:Bridgeport,Frankenmuth City,NEW-YARD-E-WED,Spaulding,Tittabawassee,Yard Waste
END:VEVENT
END:VCALENDAR