BEGIN:VCALENDAR
VERSION:2.0
PRODID:-//Mid Michigan Waste Authority - ECPv6.15.20//NONSGML v1.0//EN
CALSCALE:GREGORIAN
METHOD:PUBLISH
X-WR-CALNAME:Mid Michigan Waste Authority
X-ORIGINAL-URL:https://www.recyclemotion.org
X-WR-CALDESC:Events for Mid Michigan Waste Authority
REFRESH-INTERVAL;VALUE=DURATION:PT1H
X-Robots-Tag:noindex
X-PUBLISHED-TTL:PT1H
BEGIN:VTIMEZONE
TZID:America/Detroit
BEGIN:DAYLIGHT
TZOFFSETFROM:-0500
TZOFFSETTO:-0400
TZNAME:EDT
DTSTART:20250309T070000
END:DAYLIGHT
BEGIN:STANDARD
TZOFFSETFROM:-0400
TZOFFSETTO:-0500
TZNAME:EST
DTSTART:20251102T060000
END:STANDARD
BEGIN:DAYLIGHT
TZOFFSETFROM:-0500
TZOFFSETTO:-0400
TZNAME:EDT
DTSTART:20260308T070000
END:DAYLIGHT
BEGIN:STANDARD
TZOFFSETFROM:-0400
TZOFFSETTO:-0500
TZNAME:EST
DTSTART:20261101T060000
END:STANDARD
BEGIN:DAYLIGHT
TZOFFSETFROM:-0500
TZOFFSETTO:-0400
TZNAME:EDT
DTSTART:20270314T070000
END:DAYLIGHT
BEGIN:STANDARD
TZOFFSETFROM:-0400
TZOFFSETTO:-0500
TZNAME:EST
DTSTART:20271107T060000
END:STANDARD
END:VTIMEZONE
BEGIN:VEVENT
DTSTART;VALUE=DATE:20260204
DTEND;VALUE=DATE:20260205
DTSTAMP:20260425T153417
CREATED:20241115T214221Z
LAST-MODIFIED:20251118T154436Z
UID:10063837-1770163200-1770249599@www.recyclemotion.org
SUMMARY:Recycle
DESCRIPTION:Bi-Weekly Recycling
URL:https://www.recyclemotion.org/service/recycle-23-2/2026-02-04/
CATEGORIES:Bridgeport,NEW-RECYCLE-ALT2-WED,Recycle,Spaulding
END:VEVENT
BEGIN:VEVENT
DTSTART;VALUE=DATE:20260204
DTEND;VALUE=DATE:20260205
DTSTAMP:20260425T153417
CREATED:20241115T214432Z
LAST-MODIFIED:20251118T154315Z
UID:10063585-1770163200-1770249599@www.recyclemotion.org
SUMMARY:Trash
DESCRIPTION:Every Wednesday
URL:https://www.recyclemotion.org/service/trash-21-2-2/2026-02-04/
CATEGORIES:Bridgeport,Chapin,Frankenmuth City,Frankenmuth Township,NEW-TRASH-E-WED,Spaulding,Tittabawassee,Trash
END:VEVENT
BEGIN:VEVENT
DTSTART;VALUE=DATE:20260211
DTEND;VALUE=DATE:20260212
DTSTAMP:20260425T153417
CREATED:20241115T214432Z
LAST-MODIFIED:20251118T154315Z
UID:10063586-1770768000-1770854399@www.recyclemotion.org
SUMMARY:Trash
DESCRIPTION:Every Wednesday
URL:https://www.recyclemotion.org/service/trash-21-2-2/2026-02-11/
CATEGORIES:Bridgeport,Chapin,Frankenmuth City,Frankenmuth Township,NEW-TRASH-E-WED,Spaulding,Tittabawassee,Trash
END:VEVENT
BEGIN:VEVENT
DTSTART;VALUE=DATE:20260218
DTEND;VALUE=DATE:20260219
DTSTAMP:20260425T153417
CREATED:20241115T214221Z
LAST-MODIFIED:20251118T154436Z
UID:10063838-1771372800-1771459199@www.recyclemotion.org
SUMMARY:Recycle
DESCRIPTION:Bi-Weekly Recycling
URL:https://www.recyclemotion.org/service/recycle-23-2/2026-02-18/
CATEGORIES:Bridgeport,NEW-RECYCLE-ALT2-WED,Recycle,Spaulding
END:VEVENT
BEGIN:VEVENT
DTSTART;VALUE=DATE:20260218
DTEND;VALUE=DATE:20260219
DTSTAMP:20260425T153417
CREATED:20241115T214432Z
LAST-MODIFIED:20251118T154315Z
UID:10063587-1771372800-1771459199@www.recyclemotion.org
SUMMARY:Trash
DESCRIPTION:Every Wednesday
URL:https://www.recyclemotion.org/service/trash-21-2-2/2026-02-18/
CATEGORIES:Bridgeport,Chapin,Frankenmuth City,Frankenmuth Township,NEW-TRASH-E-WED,Spaulding,Tittabawassee,Trash
END:VEVENT
BEGIN:VEVENT
DTSTART;VALUE=DATE:20260225
DTEND;VALUE=DATE:20260226
DTSTAMP:20260425T153417
CREATED:20241115T214432Z
LAST-MODIFIED:20251118T154315Z
UID:10063588-1771977600-1772063999@www.recyclemotion.org
SUMMARY:Trash
DESCRIPTION:Every Wednesday
URL:https://www.recyclemotion.org/service/trash-21-2-2/2026-02-25/
CATEGORIES:Bridgeport,Chapin,Frankenmuth City,Frankenmuth Township,NEW-TRASH-E-WED,Spaulding,Tittabawassee,Trash
END:VEVENT
END:VCALENDAR