BEGIN:VCALENDAR
VERSION:2.0
PRODID:-//Mid Michigan Waste Authority - ECPv6.15.20//NONSGML v1.0//EN
CALSCALE:GREGORIAN
METHOD:PUBLISH
X-WR-CALNAME:Mid Michigan Waste Authority
X-ORIGINAL-URL:https://www.recyclemotion.org
X-WR-CALDESC:Events for Mid Michigan Waste Authority
REFRESH-INTERVAL;VALUE=DURATION:PT1H
X-Robots-Tag:noindex
X-PUBLISHED-TTL:PT1H
BEGIN:VTIMEZONE
TZID:America/Detroit
BEGIN:DAYLIGHT
TZOFFSETFROM:-0500
TZOFFSETTO:-0400
TZNAME:EDT
DTSTART:20240310T070000
END:DAYLIGHT
BEGIN:STANDARD
TZOFFSETFROM:-0400
TZOFFSETTO:-0500
TZNAME:EST
DTSTART:20241103T060000
END:STANDARD
BEGIN:DAYLIGHT
TZOFFSETFROM:-0500
TZOFFSETTO:-0400
TZNAME:EDT
DTSTART:20250309T070000
END:DAYLIGHT
BEGIN:STANDARD
TZOFFSETFROM:-0400
TZOFFSETTO:-0500
TZNAME:EST
DTSTART:20251102T060000
END:STANDARD
BEGIN:DAYLIGHT
TZOFFSETFROM:-0500
TZOFFSETTO:-0400
TZNAME:EDT
DTSTART:20260308T070000
END:DAYLIGHT
BEGIN:STANDARD
TZOFFSETFROM:-0400
TZOFFSETTO:-0500
TZNAME:EST
DTSTART:20261101T060000
END:STANDARD
END:VTIMEZONE
BEGIN:VEVENT
DTSTART;VALUE=DATE:20250924
DTEND;VALUE=DATE:20250925
DTSTAMP:20260426T000121
CREATED:20241120T195650Z
LAST-MODIFIED:20250107T152831Z
UID:10061438-1758672000-1758758399@www.recyclemotion.org
SUMMARY:Yard Waste
DESCRIPTION:Every Wednesday
URL:https://www.recyclemotion.org/service/yard-waste-27/2025-09-24/
CATEGORIES:Bridgeport,Frankenmuth City,NEW-YARD-E-WED,Spaulding,Tittabawassee,Yard Waste
END:VEVENT
BEGIN:VEVENT
DTSTART;VALUE=DATE:20251001
DTEND;VALUE=DATE:20251002
DTSTAMP:20260426T000121
CREATED:20241115T214221Z
LAST-MODIFIED:20251118T154436Z
UID:10061318-1759276800-1759363199@www.recyclemotion.org
SUMMARY:Recycle
DESCRIPTION:Bi-Weekly Recycling
URL:https://www.recyclemotion.org/service/recycle-23-2/2025-10-01/
CATEGORIES:Bridgeport,NEW-RECYCLE-ALT2-WED,Recycle,Spaulding
END:VEVENT
BEGIN:VEVENT
DTSTART;VALUE=DATE:20251001
DTEND;VALUE=DATE:20251002
DTSTAMP:20260426T000121
CREATED:20241115T214432Z
LAST-MODIFIED:20251118T154315Z
UID:10061364-1759276800-1759363199@www.recyclemotion.org
SUMMARY:Trash
DESCRIPTION:Every Wednesday
URL:https://www.recyclemotion.org/service/trash-21-2-2/2025-10-01/
CATEGORIES:Bridgeport,Chapin,Frankenmuth City,Frankenmuth Township,NEW-TRASH-E-WED,Spaulding,Tittabawassee,Trash
END:VEVENT
BEGIN:VEVENT
DTSTART;VALUE=DATE:20251001
DTEND;VALUE=DATE:20251002
DTSTAMP:20260426T000121
CREATED:20241120T195650Z
LAST-MODIFIED:20250107T152831Z
UID:10061439-1759276800-1759363199@www.recyclemotion.org
SUMMARY:Yard Waste
DESCRIPTION:Every Wednesday
URL:https://www.recyclemotion.org/service/yard-waste-27/2025-10-01/
CATEGORIES:Bridgeport,Frankenmuth City,NEW-YARD-E-WED,Spaulding,Tittabawassee,Yard Waste
END:VEVENT
BEGIN:VEVENT
DTSTART;VALUE=DATE:20251008
DTEND;VALUE=DATE:20251009
DTSTAMP:20260426T000121
CREATED:20241115T214432Z
LAST-MODIFIED:20251118T154315Z
UID:10061365-1759881600-1759967999@www.recyclemotion.org
SUMMARY:Trash
DESCRIPTION:Every Wednesday
URL:https://www.recyclemotion.org/service/trash-21-2-2/2025-10-08/
CATEGORIES:Bridgeport,Chapin,Frankenmuth City,Frankenmuth Township,NEW-TRASH-E-WED,Spaulding,Tittabawassee,Trash
END:VEVENT
BEGIN:VEVENT
DTSTART;VALUE=DATE:20251008
DTEND;VALUE=DATE:20251009
DTSTAMP:20260426T000121
CREATED:20241120T195650Z
LAST-MODIFIED:20250107T152831Z
UID:10061440-1759881600-1759967999@www.recyclemotion.org
SUMMARY:Yard Waste
DESCRIPTION:Every Wednesday
URL:https://www.recyclemotion.org/service/yard-waste-27/2025-10-08/
CATEGORIES:Bridgeport,Frankenmuth City,NEW-YARD-E-WED,Spaulding,Tittabawassee,Yard Waste
END:VEVENT
BEGIN:VEVENT
DTSTART;VALUE=DATE:20251015
DTEND;VALUE=DATE:20251016
DTSTAMP:20260426T000121
CREATED:20241115T214221Z
LAST-MODIFIED:20251118T154436Z
UID:10061319-1760486400-1760572799@www.recyclemotion.org
SUMMARY:Recycle
DESCRIPTION:Bi-Weekly Recycling
URL:https://www.recyclemotion.org/service/recycle-23-2/2025-10-15/
CATEGORIES:Bridgeport,NEW-RECYCLE-ALT2-WED,Recycle,Spaulding
END:VEVENT
BEGIN:VEVENT
DTSTART;VALUE=DATE:20251015
DTEND;VALUE=DATE:20251016
DTSTAMP:20260426T000121
CREATED:20241115T214432Z
LAST-MODIFIED:20251118T154315Z
UID:10061366-1760486400-1760572799@www.recyclemotion.org
SUMMARY:Trash
DESCRIPTION:Every Wednesday
URL:https://www.recyclemotion.org/service/trash-21-2-2/2025-10-15/
CATEGORIES:Bridgeport,Chapin,Frankenmuth City,Frankenmuth Township,NEW-TRASH-E-WED,Spaulding,Tittabawassee,Trash
END:VEVENT
BEGIN:VEVENT
DTSTART;VALUE=DATE:20251015
DTEND;VALUE=DATE:20251016
DTSTAMP:20260426T000121
CREATED:20241120T195650Z
LAST-MODIFIED:20250107T152831Z
UID:10061441-1760486400-1760572799@www.recyclemotion.org
SUMMARY:Yard Waste
DESCRIPTION:Every Wednesday
URL:https://www.recyclemotion.org/service/yard-waste-27/2025-10-15/
CATEGORIES:Bridgeport,Frankenmuth City,NEW-YARD-E-WED,Spaulding,Tittabawassee,Yard Waste
END:VEVENT
BEGIN:VEVENT
DTSTART;VALUE=DATE:20251022
DTEND;VALUE=DATE:20251023
DTSTAMP:20260426T000121
CREATED:20241115T214432Z
LAST-MODIFIED:20251118T154315Z
UID:10061367-1761091200-1761177599@www.recyclemotion.org
SUMMARY:Trash
DESCRIPTION:Every Wednesday
URL:https://www.recyclemotion.org/service/trash-21-2-2/2025-10-22/
CATEGORIES:Bridgeport,Chapin,Frankenmuth City,Frankenmuth Township,NEW-TRASH-E-WED,Spaulding,Tittabawassee,Trash
END:VEVENT
BEGIN:VEVENT
DTSTART;VALUE=DATE:20251022
DTEND;VALUE=DATE:20251023
DTSTAMP:20260426T000121
CREATED:20241120T195650Z
LAST-MODIFIED:20250107T152831Z
UID:10061442-1761091200-1761177599@www.recyclemotion.org
SUMMARY:Yard Waste
DESCRIPTION:Every Wednesday
URL:https://www.recyclemotion.org/service/yard-waste-27/2025-10-22/
CATEGORIES:Bridgeport,Frankenmuth City,NEW-YARD-E-WED,Spaulding,Tittabawassee,Yard Waste
END:VEVENT
BEGIN:VEVENT
DTSTART;VALUE=DATE:20251029
DTEND;VALUE=DATE:20251030
DTSTAMP:20260426T000121
CREATED:20241115T214221Z
LAST-MODIFIED:20251118T154436Z
UID:10061320-1761696000-1761782399@www.recyclemotion.org
SUMMARY:Recycle
DESCRIPTION:Bi-Weekly Recycling
URL:https://www.recyclemotion.org/service/recycle-23-2/2025-10-29/
CATEGORIES:Bridgeport,NEW-RECYCLE-ALT2-WED,Recycle,Spaulding
END:VEVENT
BEGIN:VEVENT
DTSTART;VALUE=DATE:20251029
DTEND;VALUE=DATE:20251030
DTSTAMP:20260426T000121
CREATED:20241115T214432Z
LAST-MODIFIED:20251118T154315Z
UID:10061368-1761696000-1761782399@www.recyclemotion.org
SUMMARY:Trash
DESCRIPTION:Every Wednesday
URL:https://www.recyclemotion.org/service/trash-21-2-2/2025-10-29/
CATEGORIES:Bridgeport,Chapin,Frankenmuth City,Frankenmuth Township,NEW-TRASH-E-WED,Spaulding,Tittabawassee,Trash
END:VEVENT
BEGIN:VEVENT
DTSTART;VALUE=DATE:20251029
DTEND;VALUE=DATE:20251030
DTSTAMP:20260426T000121
CREATED:20241120T195650Z
LAST-MODIFIED:20250107T152831Z
UID:10061443-1761696000-1761782399@www.recyclemotion.org
SUMMARY:Yard Waste
DESCRIPTION:Every Wednesday
URL:https://www.recyclemotion.org/service/yard-waste-27/2025-10-29/
CATEGORIES:Bridgeport,Frankenmuth City,NEW-YARD-E-WED,Spaulding,Tittabawassee,Yard Waste
END:VEVENT
BEGIN:VEVENT
DTSTART;VALUE=DATE:20251105
DTEND;VALUE=DATE:20251106
DTSTAMP:20260426T000121
CREATED:20241115T214432Z
LAST-MODIFIED:20251118T154315Z
UID:10061369-1762300800-1762387199@www.recyclemotion.org
SUMMARY:Trash
DESCRIPTION:Every Wednesday
URL:https://www.recyclemotion.org/service/trash-21-2-2/2025-11-05/
CATEGORIES:Bridgeport,Chapin,Frankenmuth City,Frankenmuth Township,NEW-TRASH-E-WED,Spaulding,Tittabawassee,Trash
END:VEVENT
BEGIN:VEVENT
DTSTART;VALUE=DATE:20251105
DTEND;VALUE=DATE:20251106
DTSTAMP:20260426T000121
CREATED:20241120T195650Z
LAST-MODIFIED:20250107T152831Z
UID:10061444-1762300800-1762387199@www.recyclemotion.org
SUMMARY:Yard Waste
DESCRIPTION:Every Wednesday
URL:https://www.recyclemotion.org/service/yard-waste-27/2025-11-05/
CATEGORIES:Bridgeport,Frankenmuth City,NEW-YARD-E-WED,Spaulding,Tittabawassee,Yard Waste
END:VEVENT
BEGIN:VEVENT
DTSTART;VALUE=DATE:20251112
DTEND;VALUE=DATE:20251113
DTSTAMP:20260426T000121
CREATED:20241115T214221Z
LAST-MODIFIED:20251118T154436Z
UID:10061321-1762905600-1762991999@www.recyclemotion.org
SUMMARY:Recycle
DESCRIPTION:Bi-Weekly Recycling
URL:https://www.recyclemotion.org/service/recycle-23-2/2025-11-12/
CATEGORIES:Bridgeport,NEW-RECYCLE-ALT2-WED,Recycle,Spaulding
END:VEVENT
BEGIN:VEVENT
DTSTART;VALUE=DATE:20251112
DTEND;VALUE=DATE:20251113
DTSTAMP:20260426T000121
CREATED:20241115T214432Z
LAST-MODIFIED:20251118T154315Z
UID:10061370-1762905600-1762991999@www.recyclemotion.org
SUMMARY:Trash
DESCRIPTION:Every Wednesday
URL:https://www.recyclemotion.org/service/trash-21-2-2/2025-11-12/
CATEGORIES:Bridgeport,Chapin,Frankenmuth City,Frankenmuth Township,NEW-TRASH-E-WED,Spaulding,Tittabawassee,Trash
END:VEVENT
BEGIN:VEVENT
DTSTART;VALUE=DATE:20251112
DTEND;VALUE=DATE:20251113
DTSTAMP:20260426T000121
CREATED:20241120T195650Z
LAST-MODIFIED:20250107T152831Z
UID:10061445-1762905600-1762991999@www.recyclemotion.org
SUMMARY:Yard Waste
DESCRIPTION:Every Wednesday
URL:https://www.recyclemotion.org/service/yard-waste-27/2025-11-12/
CATEGORIES:Bridgeport,Frankenmuth City,NEW-YARD-E-WED,Spaulding,Tittabawassee,Yard Waste
END:VEVENT
BEGIN:VEVENT
DTSTART;VALUE=DATE:20251119
DTEND;VALUE=DATE:20251120
DTSTAMP:20260426T000121
CREATED:20241115T214432Z
LAST-MODIFIED:20251118T154315Z
UID:10061371-1763510400-1763596799@www.recyclemotion.org
SUMMARY:Trash
DESCRIPTION:Every Wednesday
URL:https://www.recyclemotion.org/service/trash-21-2-2/2025-11-19/
CATEGORIES:Bridgeport,Chapin,Frankenmuth City,Frankenmuth Township,NEW-TRASH-E-WED,Spaulding,Tittabawassee,Trash
END:VEVENT
BEGIN:VEVENT
DTSTART;VALUE=DATE:20251119
DTEND;VALUE=DATE:20251120
DTSTAMP:20260426T000121
CREATED:20241120T195650Z
LAST-MODIFIED:20250107T152831Z
UID:10061446-1763510400-1763596799@www.recyclemotion.org
SUMMARY:Yard Waste
DESCRIPTION:Every Wednesday
URL:https://www.recyclemotion.org/service/yard-waste-27/2025-11-19/
CATEGORIES:Bridgeport,Frankenmuth City,NEW-YARD-E-WED,Spaulding,Tittabawassee,Yard Waste
END:VEVENT
BEGIN:VEVENT
DTSTART;VALUE=DATE:20251126
DTEND;VALUE=DATE:20251127
DTSTAMP:20260426T000121
CREATED:20241115T214221Z
LAST-MODIFIED:20251118T154436Z
UID:10061322-1764115200-1764201599@www.recyclemotion.org
SUMMARY:Recycle
DESCRIPTION:Bi-Weekly Recycling
URL:https://www.recyclemotion.org/service/recycle-23-2/2025-11-26/
CATEGORIES:Bridgeport,NEW-RECYCLE-ALT2-WED,Recycle,Spaulding
END:VEVENT
BEGIN:VEVENT
DTSTART;VALUE=DATE:20251126
DTEND;VALUE=DATE:20251127
DTSTAMP:20260426T000121
CREATED:20241115T214432Z
LAST-MODIFIED:20251118T154315Z
UID:10061372-1764115200-1764201599@www.recyclemotion.org
SUMMARY:Trash
DESCRIPTION:Every Wednesday
URL:https://www.recyclemotion.org/service/trash-21-2-2/2025-11-26/
CATEGORIES:Bridgeport,Chapin,Frankenmuth City,Frankenmuth Township,NEW-TRASH-E-WED,Spaulding,Tittabawassee,Trash
END:VEVENT
BEGIN:VEVENT
DTSTART;VALUE=DATE:20251126
DTEND;VALUE=DATE:20251127
DTSTAMP:20260426T000121
CREATED:20241120T195650Z
LAST-MODIFIED:20250107T152831Z
UID:10061447-1764115200-1764201599@www.recyclemotion.org
SUMMARY:Yard Waste
DESCRIPTION:Every Wednesday
URL:https://www.recyclemotion.org/service/yard-waste-27/2025-11-26/
CATEGORIES:Bridgeport,Frankenmuth City,NEW-YARD-E-WED,Spaulding,Tittabawassee,Yard Waste
END:VEVENT
BEGIN:VEVENT
DTSTART;VALUE=DATE:20251127
DTEND;VALUE=DATE:20251128
DTSTAMP:20260426T000121
CREATED:20241122T161814Z
LAST-MODIFIED:20241122T161814Z
UID:10062051-1764201600-1764287999@www.recyclemotion.org
SUMMARY:Thanksgiving Day
DESCRIPTION:Thanksgiving 2025
URL:https://www.recyclemotion.org/service/thanksgiving-day/
CATEGORIES:Albee,Bethany,Birch Run Township,Birch Run VIllage,Blumfield,Brady,Brant,Breckenridge,Bridgeport,Buena Vista,Carrollton,Chapin,Chesaning,Frankenmuth City,Frankenmuth Township,Fremont,Holiday,James,Jonesfield,Kochville,Lakefield,Maple grove,Marion,Merrill,Richland,Saginaw Township North,Saginaw Township South,Spaulding,St Charles Township,St Charles Village,Swan Creek,Thomas,Tittabawassee,Wheeler,Zilwaukee
END:VEVENT
BEGIN:VEVENT
DTSTART;VALUE=DATE:20251203
DTEND;VALUE=DATE:20251204
DTSTAMP:20260426T000121
CREATED:20241115T214432Z
LAST-MODIFIED:20251118T154315Z
UID:10061373-1764720000-1764806399@www.recyclemotion.org
SUMMARY:Trash
DESCRIPTION:Every Wednesday
URL:https://www.recyclemotion.org/service/trash-21-2-2/2025-12-03/
CATEGORIES:Bridgeport,Chapin,Frankenmuth City,Frankenmuth Township,NEW-TRASH-E-WED,Spaulding,Tittabawassee,Trash
END:VEVENT
BEGIN:VEVENT
DTSTART;VALUE=DATE:20251203
DTEND;VALUE=DATE:20251204
DTSTAMP:20260426T000121
CREATED:20241120T195650Z
LAST-MODIFIED:20250107T152831Z
UID:10061448-1764720000-1764806399@www.recyclemotion.org
SUMMARY:Yard Waste
DESCRIPTION:Every Wednesday
URL:https://www.recyclemotion.org/service/yard-waste-27/2025-12-03/
CATEGORIES:Bridgeport,Frankenmuth City,NEW-YARD-E-WED,Spaulding,Tittabawassee,Yard Waste
END:VEVENT
BEGIN:VEVENT
DTSTART;VALUE=DATE:20251210
DTEND;VALUE=DATE:20251211
DTSTAMP:20260426T000121
CREATED:20241115T214221Z
LAST-MODIFIED:20251118T154436Z
UID:10061323-1765324800-1765411199@www.recyclemotion.org
SUMMARY:Recycle
DESCRIPTION:Bi-Weekly Recycling
URL:https://www.recyclemotion.org/service/recycle-23-2/2025-12-10/
CATEGORIES:Bridgeport,NEW-RECYCLE-ALT2-WED,Recycle,Spaulding
END:VEVENT
BEGIN:VEVENT
DTSTART;VALUE=DATE:20251210
DTEND;VALUE=DATE:20251211
DTSTAMP:20260426T000121
CREATED:20241115T214432Z
LAST-MODIFIED:20251118T154315Z
UID:10061374-1765324800-1765411199@www.recyclemotion.org
SUMMARY:Trash
DESCRIPTION:Every Wednesday
URL:https://www.recyclemotion.org/service/trash-21-2-2/2025-12-10/
CATEGORIES:Bridgeport,Chapin,Frankenmuth City,Frankenmuth Township,NEW-TRASH-E-WED,Spaulding,Tittabawassee,Trash
END:VEVENT
BEGIN:VEVENT
DTSTART;VALUE=DATE:20251217
DTEND;VALUE=DATE:20251218
DTSTAMP:20260426T000121
CREATED:20241115T214432Z
LAST-MODIFIED:20251118T154315Z
UID:10061375-1765929600-1766015999@www.recyclemotion.org
SUMMARY:Trash
DESCRIPTION:Every Wednesday
URL:https://www.recyclemotion.org/service/trash-21-2-2/2025-12-17/
CATEGORIES:Bridgeport,Chapin,Frankenmuth City,Frankenmuth Township,NEW-TRASH-E-WED,Spaulding,Tittabawassee,Trash
END:VEVENT
END:VCALENDAR