BEGIN:VCALENDAR
VERSION:2.0
PRODID:-//Mid Michigan Waste Authority - ECPv6.15.20//NONSGML v1.0//EN
CALSCALE:GREGORIAN
METHOD:PUBLISH
X-WR-CALNAME:Mid Michigan Waste Authority
X-ORIGINAL-URL:https://www.recyclemotion.org
X-WR-CALDESC:Events for Mid Michigan Waste Authority
REFRESH-INTERVAL;VALUE=DURATION:PT1H
X-Robots-Tag:noindex
X-PUBLISHED-TTL:PT1H
BEGIN:VTIMEZONE
TZID:America/Detroit
BEGIN:DAYLIGHT
TZOFFSETFROM:-0500
TZOFFSETTO:-0400
TZNAME:EDT
DTSTART:20250309T070000
END:DAYLIGHT
BEGIN:STANDARD
TZOFFSETFROM:-0400
TZOFFSETTO:-0500
TZNAME:EST
DTSTART:20251102T060000
END:STANDARD
BEGIN:DAYLIGHT
TZOFFSETFROM:-0500
TZOFFSETTO:-0400
TZNAME:EDT
DTSTART:20260308T070000
END:DAYLIGHT
BEGIN:STANDARD
TZOFFSETFROM:-0400
TZOFFSETTO:-0500
TZNAME:EST
DTSTART:20261101T060000
END:STANDARD
BEGIN:DAYLIGHT
TZOFFSETFROM:-0500
TZOFFSETTO:-0400
TZNAME:EDT
DTSTART:20270314T070000
END:DAYLIGHT
BEGIN:STANDARD
TZOFFSETFROM:-0400
TZOFFSETTO:-0500
TZNAME:EST
DTSTART:20271107T060000
END:STANDARD
END:VTIMEZONE
BEGIN:VEVENT
DTSTART;VALUE=DATE:20260101
DTEND;VALUE=DATE:20260102
DTSTAMP:20260425T202904
CREATED:20170509T161132Z
LAST-MODIFIED:20170516T012441Z
UID:10051749-1767225600-1767311999@www.recyclemotion.org
SUMMARY:New Year
DESCRIPTION:
URL:https://www.recyclemotion.org/service/new-year-6/2026-01-01/
CATEGORIES:Albee,Bethany,Birch Run Township,Birch Run VIllage,Blumfield,Brady,Brant,Breckenridge,Bridgeport,Buena Vista,Carrollton,Chapin,Chesaning,Frankenmuth City,Frankenmuth Township,Fremont,Holiday,James,Jonesfield,Kochville,Lakefield,Maple grove,Marion,Merrill,Richland,Saginaw Township North,Saginaw Township South,Spaulding,St Charles Township,St Charles Village,Swan Creek,Thomas,Tittabawassee,Wheeler,Zilwaukee
END:VEVENT
BEGIN:VEVENT
DTSTART;VALUE=DATE:20260107
DTEND;VALUE=DATE:20260108
DTSTAMP:20260425T202904
CREATED:20241115T214221Z
LAST-MODIFIED:20251118T154436Z
UID:10063835-1767744000-1767830399@www.recyclemotion.org
SUMMARY:Recycle
DESCRIPTION:Bi-Weekly Recycling
URL:https://www.recyclemotion.org/service/recycle-23-2/2026-01-07/
CATEGORIES:Bridgeport,NEW-RECYCLE-ALT2-WED,Recycle,Spaulding
END:VEVENT
BEGIN:VEVENT
DTSTART;VALUE=DATE:20260107
DTEND;VALUE=DATE:20260108
DTSTAMP:20260425T202904
CREATED:20241115T214432Z
LAST-MODIFIED:20251118T154315Z
UID:10063581-1767744000-1767830399@www.recyclemotion.org
SUMMARY:Trash
DESCRIPTION:Every Wednesday
URL:https://www.recyclemotion.org/service/trash-21-2-2/2026-01-07/
CATEGORIES:Bridgeport,Chapin,Frankenmuth City,Frankenmuth Township,NEW-TRASH-E-WED,Spaulding,Tittabawassee,Trash
END:VEVENT
BEGIN:VEVENT
DTSTART;VALUE=DATE:20260114
DTEND;VALUE=DATE:20260115
DTSTAMP:20260425T202904
CREATED:20241115T214432Z
LAST-MODIFIED:20251118T154315Z
UID:10063582-1768348800-1768435199@www.recyclemotion.org
SUMMARY:Trash
DESCRIPTION:Every Wednesday
URL:https://www.recyclemotion.org/service/trash-21-2-2/2026-01-14/
CATEGORIES:Bridgeport,Chapin,Frankenmuth City,Frankenmuth Township,NEW-TRASH-E-WED,Spaulding,Tittabawassee,Trash
END:VEVENT
BEGIN:VEVENT
DTSTART;VALUE=DATE:20260121
DTEND;VALUE=DATE:20260122
DTSTAMP:20260425T202904
CREATED:20241115T214221Z
LAST-MODIFIED:20251118T154436Z
UID:10063836-1768953600-1769039999@www.recyclemotion.org
SUMMARY:Recycle
DESCRIPTION:Bi-Weekly Recycling
URL:https://www.recyclemotion.org/service/recycle-23-2/2026-01-21/
CATEGORIES:Bridgeport,NEW-RECYCLE-ALT2-WED,Recycle,Spaulding
END:VEVENT
BEGIN:VEVENT
DTSTART;VALUE=DATE:20260121
DTEND;VALUE=DATE:20260122
DTSTAMP:20260425T202904
CREATED:20241115T214432Z
LAST-MODIFIED:20251118T154315Z
UID:10063583-1768953600-1769039999@www.recyclemotion.org
SUMMARY:Trash
DESCRIPTION:Every Wednesday
URL:https://www.recyclemotion.org/service/trash-21-2-2/2026-01-21/
CATEGORIES:Bridgeport,Chapin,Frankenmuth City,Frankenmuth Township,NEW-TRASH-E-WED,Spaulding,Tittabawassee,Trash
END:VEVENT
BEGIN:VEVENT
DTSTART;VALUE=DATE:20260128
DTEND;VALUE=DATE:20260129
DTSTAMP:20260425T202904
CREATED:20241115T214432Z
LAST-MODIFIED:20251118T154315Z
UID:10063584-1769558400-1769644799@www.recyclemotion.org
SUMMARY:Trash
DESCRIPTION:Every Wednesday
URL:https://www.recyclemotion.org/service/trash-21-2-2/2026-01-28/
CATEGORIES:Bridgeport,Chapin,Frankenmuth City,Frankenmuth Township,NEW-TRASH-E-WED,Spaulding,Tittabawassee,Trash
END:VEVENT
BEGIN:VEVENT
DTSTART;VALUE=DATE:20260204
DTEND;VALUE=DATE:20260205
DTSTAMP:20260425T202904
CREATED:20241115T214221Z
LAST-MODIFIED:20251118T154436Z
UID:10063837-1770163200-1770249599@www.recyclemotion.org
SUMMARY:Recycle
DESCRIPTION:Bi-Weekly Recycling
URL:https://www.recyclemotion.org/service/recycle-23-2/2026-02-04/
CATEGORIES:Bridgeport,NEW-RECYCLE-ALT2-WED,Recycle,Spaulding
END:VEVENT
BEGIN:VEVENT
DTSTART;VALUE=DATE:20260204
DTEND;VALUE=DATE:20260205
DTSTAMP:20260425T202904
CREATED:20241115T214432Z
LAST-MODIFIED:20251118T154315Z
UID:10063585-1770163200-1770249599@www.recyclemotion.org
SUMMARY:Trash
DESCRIPTION:Every Wednesday
URL:https://www.recyclemotion.org/service/trash-21-2-2/2026-02-04/
CATEGORIES:Bridgeport,Chapin,Frankenmuth City,Frankenmuth Township,NEW-TRASH-E-WED,Spaulding,Tittabawassee,Trash
END:VEVENT
BEGIN:VEVENT
DTSTART;VALUE=DATE:20260211
DTEND;VALUE=DATE:20260212
DTSTAMP:20260425T202904
CREATED:20241115T214432Z
LAST-MODIFIED:20251118T154315Z
UID:10063586-1770768000-1770854399@www.recyclemotion.org
SUMMARY:Trash
DESCRIPTION:Every Wednesday
URL:https://www.recyclemotion.org/service/trash-21-2-2/2026-02-11/
CATEGORIES:Bridgeport,Chapin,Frankenmuth City,Frankenmuth Township,NEW-TRASH-E-WED,Spaulding,Tittabawassee,Trash
END:VEVENT
BEGIN:VEVENT
DTSTART;VALUE=DATE:20260218
DTEND;VALUE=DATE:20260219
DTSTAMP:20260425T202904
CREATED:20241115T214221Z
LAST-MODIFIED:20251118T154436Z
UID:10063838-1771372800-1771459199@www.recyclemotion.org
SUMMARY:Recycle
DESCRIPTION:Bi-Weekly Recycling
URL:https://www.recyclemotion.org/service/recycle-23-2/2026-02-18/
CATEGORIES:Bridgeport,NEW-RECYCLE-ALT2-WED,Recycle,Spaulding
END:VEVENT
BEGIN:VEVENT
DTSTART;VALUE=DATE:20260218
DTEND;VALUE=DATE:20260219
DTSTAMP:20260425T202904
CREATED:20241115T214432Z
LAST-MODIFIED:20251118T154315Z
UID:10063587-1771372800-1771459199@www.recyclemotion.org
SUMMARY:Trash
DESCRIPTION:Every Wednesday
URL:https://www.recyclemotion.org/service/trash-21-2-2/2026-02-18/
CATEGORIES:Bridgeport,Chapin,Frankenmuth City,Frankenmuth Township,NEW-TRASH-E-WED,Spaulding,Tittabawassee,Trash
END:VEVENT
BEGIN:VEVENT
DTSTART;VALUE=DATE:20260225
DTEND;VALUE=DATE:20260226
DTSTAMP:20260425T202904
CREATED:20241115T214432Z
LAST-MODIFIED:20251118T154315Z
UID:10063588-1771977600-1772063999@www.recyclemotion.org
SUMMARY:Trash
DESCRIPTION:Every Wednesday
URL:https://www.recyclemotion.org/service/trash-21-2-2/2026-02-25/
CATEGORIES:Bridgeport,Chapin,Frankenmuth City,Frankenmuth Township,NEW-TRASH-E-WED,Spaulding,Tittabawassee,Trash
END:VEVENT
BEGIN:VEVENT
DTSTART;VALUE=DATE:20260304
DTEND;VALUE=DATE:20260305
DTSTAMP:20260425T202904
CREATED:20241115T214221Z
LAST-MODIFIED:20251118T154436Z
UID:10063839-1772582400-1772668799@www.recyclemotion.org
SUMMARY:Recycle
DESCRIPTION:Bi-Weekly Recycling
URL:https://www.recyclemotion.org/service/recycle-23-2/2026-03-04/
CATEGORIES:Bridgeport,NEW-RECYCLE-ALT2-WED,Recycle,Spaulding
END:VEVENT
BEGIN:VEVENT
DTSTART;VALUE=DATE:20260304
DTEND;VALUE=DATE:20260305
DTSTAMP:20260425T202904
CREATED:20241115T214432Z
LAST-MODIFIED:20251118T154315Z
UID:10063589-1772582400-1772668799@www.recyclemotion.org
SUMMARY:Trash
DESCRIPTION:Every Wednesday
URL:https://www.recyclemotion.org/service/trash-21-2-2/2026-03-04/
CATEGORIES:Bridgeport,Chapin,Frankenmuth City,Frankenmuth Township,NEW-TRASH-E-WED,Spaulding,Tittabawassee,Trash
END:VEVENT
BEGIN:VEVENT
DTSTART;VALUE=DATE:20260311
DTEND;VALUE=DATE:20260312
DTSTAMP:20260425T202904
CREATED:20241115T214432Z
LAST-MODIFIED:20251118T154315Z
UID:10063590-1773187200-1773273599@www.recyclemotion.org
SUMMARY:Trash
DESCRIPTION:Every Wednesday
URL:https://www.recyclemotion.org/service/trash-21-2-2/2026-03-11/
CATEGORIES:Bridgeport,Chapin,Frankenmuth City,Frankenmuth Township,NEW-TRASH-E-WED,Spaulding,Tittabawassee,Trash
END:VEVENT
BEGIN:VEVENT
DTSTART;VALUE=DATE:20260318
DTEND;VALUE=DATE:20260319
DTSTAMP:20260425T202904
CREATED:20241115T214221Z
LAST-MODIFIED:20251118T154436Z
UID:10063840-1773792000-1773878399@www.recyclemotion.org
SUMMARY:Recycle
DESCRIPTION:Bi-Weekly Recycling
URL:https://www.recyclemotion.org/service/recycle-23-2/2026-03-18/
CATEGORIES:Bridgeport,NEW-RECYCLE-ALT2-WED,Recycle,Spaulding
END:VEVENT
BEGIN:VEVENT
DTSTART;VALUE=DATE:20260318
DTEND;VALUE=DATE:20260319
DTSTAMP:20260425T202904
CREATED:20241115T214432Z
LAST-MODIFIED:20251118T154315Z
UID:10063591-1773792000-1773878399@www.recyclemotion.org
SUMMARY:Trash
DESCRIPTION:Every Wednesday
URL:https://www.recyclemotion.org/service/trash-21-2-2/2026-03-18/
CATEGORIES:Bridgeport,Chapin,Frankenmuth City,Frankenmuth Township,NEW-TRASH-E-WED,Spaulding,Tittabawassee,Trash
END:VEVENT
BEGIN:VEVENT
DTSTART;VALUE=DATE:20260325
DTEND;VALUE=DATE:20260326
DTSTAMP:20260425T202904
CREATED:20241115T214432Z
LAST-MODIFIED:20251118T154315Z
UID:10063592-1774396800-1774483199@www.recyclemotion.org
SUMMARY:Trash
DESCRIPTION:Every Wednesday
URL:https://www.recyclemotion.org/service/trash-21-2-2/2026-03-25/
CATEGORIES:Bridgeport,Chapin,Frankenmuth City,Frankenmuth Township,NEW-TRASH-E-WED,Spaulding,Tittabawassee,Trash
END:VEVENT
BEGIN:VEVENT
DTSTART;VALUE=DATE:20260401
DTEND;VALUE=DATE:20260402
DTSTAMP:20260425T202904
CREATED:20241115T214221Z
LAST-MODIFIED:20251118T154436Z
UID:10063841-1775001600-1775087999@www.recyclemotion.org
SUMMARY:Recycle
DESCRIPTION:Bi-Weekly Recycling
URL:https://www.recyclemotion.org/service/recycle-23-2/2026-04-01/
CATEGORIES:Bridgeport,NEW-RECYCLE-ALT2-WED,Recycle,Spaulding
END:VEVENT
BEGIN:VEVENT
DTSTART;VALUE=DATE:20260401
DTEND;VALUE=DATE:20260402
DTSTAMP:20260425T202904
CREATED:20241115T214432Z
LAST-MODIFIED:20251118T154315Z
UID:10063593-1775001600-1775087999@www.recyclemotion.org
SUMMARY:Trash
DESCRIPTION:Every Wednesday
URL:https://www.recyclemotion.org/service/trash-21-2-2/2026-04-01/
CATEGORIES:Bridgeport,Chapin,Frankenmuth City,Frankenmuth Township,NEW-TRASH-E-WED,Spaulding,Tittabawassee,Trash
END:VEVENT
BEGIN:VEVENT
DTSTART;VALUE=DATE:20260408
DTEND;VALUE=DATE:20260409
DTSTAMP:20260425T202904
CREATED:20241115T214432Z
LAST-MODIFIED:20251118T154315Z
UID:10063594-1775606400-1775692799@www.recyclemotion.org
SUMMARY:Trash
DESCRIPTION:Every Wednesday
URL:https://www.recyclemotion.org/service/trash-21-2-2/2026-04-08/
CATEGORIES:Bridgeport,Chapin,Frankenmuth City,Frankenmuth Township,NEW-TRASH-E-WED,Spaulding,Tittabawassee,Trash
END:VEVENT
BEGIN:VEVENT
DTSTART;VALUE=DATE:20260408
DTEND;VALUE=DATE:20260409
DTSTAMP:20260425T202904
CREATED:20251118T154812Z
LAST-MODIFIED:20251118T154812Z
UID:10063962-1775606400-1775692799@www.recyclemotion.org
SUMMARY:Yard Waste
DESCRIPTION:Every Wed
URL:https://www.recyclemotion.org/service/yard-waste-32/2026-04-08/
CATEGORIES:Bridgeport,Frankenmuth City,NEW-YARD-E-WED,Spaulding,Tittabawassee,Yard Waste
END:VEVENT
BEGIN:VEVENT
DTSTART;VALUE=DATE:20260415
DTEND;VALUE=DATE:20260416
DTSTAMP:20260425T202904
CREATED:20241115T214221Z
LAST-MODIFIED:20251118T154436Z
UID:10063842-1776211200-1776297599@www.recyclemotion.org
SUMMARY:Recycle
DESCRIPTION:Bi-Weekly Recycling
URL:https://www.recyclemotion.org/service/recycle-23-2/2026-04-15/
CATEGORIES:Bridgeport,NEW-RECYCLE-ALT2-WED,Recycle,Spaulding
END:VEVENT
BEGIN:VEVENT
DTSTART;VALUE=DATE:20260415
DTEND;VALUE=DATE:20260416
DTSTAMP:20260425T202904
CREATED:20241115T214432Z
LAST-MODIFIED:20251118T154315Z
UID:10063595-1776211200-1776297599@www.recyclemotion.org
SUMMARY:Trash
DESCRIPTION:Every Wednesday
URL:https://www.recyclemotion.org/service/trash-21-2-2/2026-04-15/
CATEGORIES:Bridgeport,Chapin,Frankenmuth City,Frankenmuth Township,NEW-TRASH-E-WED,Spaulding,Tittabawassee,Trash
END:VEVENT
BEGIN:VEVENT
DTSTART;VALUE=DATE:20260415
DTEND;VALUE=DATE:20260416
DTSTAMP:20260425T202904
CREATED:20251118T154812Z
LAST-MODIFIED:20251118T154812Z
UID:10063963-1776211200-1776297599@www.recyclemotion.org
SUMMARY:Yard Waste
DESCRIPTION:Every Wed
URL:https://www.recyclemotion.org/service/yard-waste-32/2026-04-15/
CATEGORIES:Bridgeport,Frankenmuth City,NEW-YARD-E-WED,Spaulding,Tittabawassee,Yard Waste
END:VEVENT
BEGIN:VEVENT
DTSTART;VALUE=DATE:20260422
DTEND;VALUE=DATE:20260423
DTSTAMP:20260425T202904
CREATED:20241115T214432Z
LAST-MODIFIED:20251118T154315Z
UID:10063596-1776816000-1776902399@www.recyclemotion.org
SUMMARY:Trash
DESCRIPTION:Every Wednesday
URL:https://www.recyclemotion.org/service/trash-21-2-2/2026-04-22/
CATEGORIES:Bridgeport,Chapin,Frankenmuth City,Frankenmuth Township,NEW-TRASH-E-WED,Spaulding,Tittabawassee,Trash
END:VEVENT
BEGIN:VEVENT
DTSTART;VALUE=DATE:20260422
DTEND;VALUE=DATE:20260423
DTSTAMP:20260425T202904
CREATED:20251118T154812Z
LAST-MODIFIED:20251118T154812Z
UID:10063964-1776816000-1776902399@www.recyclemotion.org
SUMMARY:Yard Waste
DESCRIPTION:Every Wed
URL:https://www.recyclemotion.org/service/yard-waste-32/2026-04-22/
CATEGORIES:Bridgeport,Frankenmuth City,NEW-YARD-E-WED,Spaulding,Tittabawassee,Yard Waste
END:VEVENT
BEGIN:VEVENT
DTSTART;VALUE=DATE:20260429
DTEND;VALUE=DATE:20260430
DTSTAMP:20260425T202904
CREATED:20241115T214221Z
LAST-MODIFIED:20251118T154436Z
UID:10063843-1777420800-1777507199@www.recyclemotion.org
SUMMARY:Recycle
DESCRIPTION:Bi-Weekly Recycling
URL:https://www.recyclemotion.org/service/recycle-23-2/2026-04-29/
CATEGORIES:Bridgeport,NEW-RECYCLE-ALT2-WED,Recycle,Spaulding
END:VEVENT
BEGIN:VEVENT
DTSTART;VALUE=DATE:20260429
DTEND;VALUE=DATE:20260430
DTSTAMP:20260425T202904
CREATED:20241115T214432Z
LAST-MODIFIED:20251118T154315Z
UID:10063597-1777420800-1777507199@www.recyclemotion.org
SUMMARY:Trash
DESCRIPTION:Every Wednesday
URL:https://www.recyclemotion.org/service/trash-21-2-2/2026-04-29/
CATEGORIES:Bridgeport,Chapin,Frankenmuth City,Frankenmuth Township,NEW-TRASH-E-WED,Spaulding,Tittabawassee,Trash
END:VEVENT
END:VCALENDAR