BEGIN:VCALENDAR
VERSION:2.0
PRODID:-//Mid Michigan Waste Authority - ECPv6.15.20//NONSGML v1.0//EN
CALSCALE:GREGORIAN
METHOD:PUBLISH
X-WR-CALNAME:Mid Michigan Waste Authority
X-ORIGINAL-URL:https://www.recyclemotion.org
X-WR-CALDESC:Events for Mid Michigan Waste Authority
REFRESH-INTERVAL;VALUE=DURATION:PT1H
X-Robots-Tag:noindex
X-PUBLISHED-TTL:PT1H
BEGIN:VTIMEZONE
TZID:America/Detroit
BEGIN:DAYLIGHT
TZOFFSETFROM:-0500
TZOFFSETTO:-0400
TZNAME:EDT
DTSTART:20220313T070000
END:DAYLIGHT
BEGIN:STANDARD
TZOFFSETFROM:-0400
TZOFFSETTO:-0500
TZNAME:EST
DTSTART:20221106T060000
END:STANDARD
BEGIN:DAYLIGHT
TZOFFSETFROM:-0500
TZOFFSETTO:-0400
TZNAME:EDT
DTSTART:20230312T070000
END:DAYLIGHT
BEGIN:STANDARD
TZOFFSETFROM:-0400
TZOFFSETTO:-0500
TZNAME:EST
DTSTART:20231105T060000
END:STANDARD
BEGIN:DAYLIGHT
TZOFFSETFROM:-0500
TZOFFSETTO:-0400
TZNAME:EDT
DTSTART:20240310T070000
END:DAYLIGHT
BEGIN:STANDARD
TZOFFSETFROM:-0400
TZOFFSETTO:-0500
TZNAME:EST
DTSTART:20241103T060000
END:STANDARD
END:VTIMEZONE
BEGIN:VTIMEZONE
TZID:UTC
BEGIN:STANDARD
TZOFFSETFROM:+0000
TZOFFSETTO:+0000
TZNAME:UTC
DTSTART:20220101T000000
END:STANDARD
END:VTIMEZONE
BEGIN:VEVENT
DTSTART;VALUE=DATE:20230215
DTEND;VALUE=DATE:20230216
DTSTAMP:20260420T091345
CREATED:20201220T191444Z
LAST-MODIFIED:20231201T162210Z
UID:10004951-1676419200-1676505599@www.recyclemotion.org
SUMMARY:Trash
DESCRIPTION:Every Wednesday
URL:https://www.recyclemotion.org/service/trash-21-2/2023-02-15/
CATEGORIES:Bridgeport,Chapin,Frankenmuth City,Frankenmuth Township,NEW-TRASH-E-WED,Spaulding,Tittabawassee,Trash
END:VEVENT
BEGIN:VEVENT
DTSTART;VALUE=DATE:20230215
DTEND;VALUE=DATE:20230216
DTSTAMP:20260420T091345
CREATED:20221123T144906Z
LAST-MODIFIED:20231201T161838Z
UID:10012155-1676419200-1676505599@www.recyclemotion.org
SUMMARY:Recycle
DESCRIPTION:Weekly Recycling
URL:https://www.recyclemotion.org/service/recycle-10/2023-02-15/
CATEGORIES:Frankenmuth City,Frankenmuth Township,NEW-RECYCLE-E-WED,Recycle,Tittabawassee
END:VEVENT
BEGIN:VEVENT
DTSTART;VALUE=DATE:20230222
DTEND;VALUE=DATE:20230223
DTSTAMP:20260420T091345
CREATED:20201220T191444Z
LAST-MODIFIED:20231201T162210Z
UID:10004952-1677024000-1677110399@www.recyclemotion.org
SUMMARY:Trash
DESCRIPTION:Every Wednesday
URL:https://www.recyclemotion.org/service/trash-21-2/2023-02-22/
CATEGORIES:Bridgeport,Chapin,Frankenmuth City,Frankenmuth Township,NEW-TRASH-E-WED,Spaulding,Tittabawassee,Trash
END:VEVENT
BEGIN:VEVENT
DTSTART;VALUE=DATE:20230222
DTEND;VALUE=DATE:20230223
DTSTAMP:20260420T091345
CREATED:20221123T144906Z
LAST-MODIFIED:20231201T161838Z
UID:10012156-1677024000-1677110399@www.recyclemotion.org
SUMMARY:Recycle
DESCRIPTION:Weekly Recycling
URL:https://www.recyclemotion.org/service/recycle-10/2023-02-22/
CATEGORIES:Frankenmuth City,Frankenmuth Township,NEW-RECYCLE-E-WED,Recycle,Tittabawassee
END:VEVENT
BEGIN:VEVENT
DTSTART;VALUE=DATE:20230301
DTEND;VALUE=DATE:20230302
DTSTAMP:20260420T091345
CREATED:20201220T191444Z
LAST-MODIFIED:20231201T162210Z
UID:10004953-1677628800-1677715199@www.recyclemotion.org
SUMMARY:Trash
DESCRIPTION:Every Wednesday
URL:https://www.recyclemotion.org/service/trash-21-2/2023-03-01/
CATEGORIES:Bridgeport,Chapin,Frankenmuth City,Frankenmuth Township,NEW-TRASH-E-WED,Spaulding,Tittabawassee,Trash
END:VEVENT
BEGIN:VEVENT
DTSTART;VALUE=DATE:20230301
DTEND;VALUE=DATE:20230302
DTSTAMP:20260420T091345
CREATED:20221123T144906Z
LAST-MODIFIED:20231201T161838Z
UID:10012157-1677628800-1677715199@www.recyclemotion.org
SUMMARY:Recycle
DESCRIPTION:Weekly Recycling
URL:https://www.recyclemotion.org/service/recycle-10/2023-03-01/
CATEGORIES:Frankenmuth City,Frankenmuth Township,NEW-RECYCLE-E-WED,Recycle,Tittabawassee
END:VEVENT
BEGIN:VEVENT
DTSTART;VALUE=DATE:20230308
DTEND;VALUE=DATE:20230309
DTSTAMP:20260420T091345
CREATED:20201220T191444Z
LAST-MODIFIED:20231201T162210Z
UID:10004954-1678233600-1678319999@www.recyclemotion.org
SUMMARY:Trash
DESCRIPTION:Every Wednesday
URL:https://www.recyclemotion.org/service/trash-21-2/2023-03-08/
CATEGORIES:Bridgeport,Chapin,Frankenmuth City,Frankenmuth Township,NEW-TRASH-E-WED,Spaulding,Tittabawassee,Trash
END:VEVENT
BEGIN:VEVENT
DTSTART;VALUE=DATE:20230308
DTEND;VALUE=DATE:20230309
DTSTAMP:20260420T091345
CREATED:20221123T144906Z
LAST-MODIFIED:20231201T161838Z
UID:10012158-1678233600-1678319999@www.recyclemotion.org
SUMMARY:Recycle
DESCRIPTION:Weekly Recycling
URL:https://www.recyclemotion.org/service/recycle-10/2023-03-08/
CATEGORIES:Frankenmuth City,Frankenmuth Township,NEW-RECYCLE-E-WED,Recycle,Tittabawassee
END:VEVENT
BEGIN:VEVENT
DTSTART;VALUE=DATE:20230315
DTEND;VALUE=DATE:20230316
DTSTAMP:20260420T091345
CREATED:20201220T191444Z
LAST-MODIFIED:20231201T162210Z
UID:10004955-1678838400-1678924799@www.recyclemotion.org
SUMMARY:Trash
DESCRIPTION:Every Wednesday
URL:https://www.recyclemotion.org/service/trash-21-2/2023-03-15/
CATEGORIES:Bridgeport,Chapin,Frankenmuth City,Frankenmuth Township,NEW-TRASH-E-WED,Spaulding,Tittabawassee,Trash
END:VEVENT
BEGIN:VEVENT
DTSTART;VALUE=DATE:20230315
DTEND;VALUE=DATE:20230316
DTSTAMP:20260420T091345
CREATED:20221123T144906Z
LAST-MODIFIED:20231201T161838Z
UID:10012159-1678838400-1678924799@www.recyclemotion.org
SUMMARY:Recycle
DESCRIPTION:Weekly Recycling
URL:https://www.recyclemotion.org/service/recycle-10/2023-03-15/
CATEGORIES:Frankenmuth City,Frankenmuth Township,NEW-RECYCLE-E-WED,Recycle,Tittabawassee
END:VEVENT
BEGIN:VEVENT
DTSTART;VALUE=DATE:20230322
DTEND;VALUE=DATE:20230323
DTSTAMP:20260420T091345
CREATED:20201220T191444Z
LAST-MODIFIED:20231201T162210Z
UID:10004956-1679443200-1679529599@www.recyclemotion.org
SUMMARY:Trash
DESCRIPTION:Every Wednesday
URL:https://www.recyclemotion.org/service/trash-21-2/2023-03-22/
CATEGORIES:Bridgeport,Chapin,Frankenmuth City,Frankenmuth Township,NEW-TRASH-E-WED,Spaulding,Tittabawassee,Trash
END:VEVENT
BEGIN:VEVENT
DTSTART;VALUE=DATE:20230322
DTEND;VALUE=DATE:20230323
DTSTAMP:20260420T091345
CREATED:20221123T144906Z
LAST-MODIFIED:20231201T161838Z
UID:10012160-1679443200-1679529599@www.recyclemotion.org
SUMMARY:Recycle
DESCRIPTION:Weekly Recycling
URL:https://www.recyclemotion.org/service/recycle-10/2023-03-22/
CATEGORIES:Frankenmuth City,Frankenmuth Township,NEW-RECYCLE-E-WED,Recycle,Tittabawassee
END:VEVENT
BEGIN:VEVENT
DTSTART;VALUE=DATE:20230329
DTEND;VALUE=DATE:20230330
DTSTAMP:20260420T091345
CREATED:20201220T191444Z
LAST-MODIFIED:20231201T162210Z
UID:10004957-1680048000-1680134399@www.recyclemotion.org
SUMMARY:Trash
DESCRIPTION:Every Wednesday
URL:https://www.recyclemotion.org/service/trash-21-2/2023-03-29/
CATEGORIES:Bridgeport,Chapin,Frankenmuth City,Frankenmuth Township,NEW-TRASH-E-WED,Spaulding,Tittabawassee,Trash
END:VEVENT
BEGIN:VEVENT
DTSTART;VALUE=DATE:20230329
DTEND;VALUE=DATE:20230330
DTSTAMP:20260420T091345
CREATED:20221123T144906Z
LAST-MODIFIED:20231201T161838Z
UID:10012161-1680048000-1680134399@www.recyclemotion.org
SUMMARY:Recycle
DESCRIPTION:Weekly Recycling
URL:https://www.recyclemotion.org/service/recycle-10/2023-03-29/
CATEGORIES:Frankenmuth City,Frankenmuth Township,NEW-RECYCLE-E-WED,Recycle,Tittabawassee
END:VEVENT
BEGIN:VEVENT
DTSTART;VALUE=DATE:20230405
DTEND;VALUE=DATE:20230406
DTSTAMP:20260420T091345
CREATED:20200417T181002Z
LAST-MODIFIED:20230407T165650Z
UID:10008401-1680652800-1680739199@www.recyclemotion.org
SUMMARY:Yard Waste
DESCRIPTION:Every Wednesday
URL:https://www.recyclemotion.org/service/yard-waste-18-2-2-2-2-2-2-2-2/2023-04-05/
CATEGORIES:Bridgeport,Frankenmuth City,Spaulding,Tittabawassee,Yard Waste
END:VEVENT
BEGIN:VEVENT
DTSTART;VALUE=DATE:20230405
DTEND;VALUE=DATE:20230406
DTSTAMP:20260420T091346
CREATED:20201220T191444Z
LAST-MODIFIED:20231201T162210Z
UID:10004958-1680652800-1680739199@www.recyclemotion.org
SUMMARY:Trash
DESCRIPTION:Every Wednesday
URL:https://www.recyclemotion.org/service/trash-21-2/2023-04-05/
CATEGORIES:Bridgeport,Chapin,Frankenmuth City,Frankenmuth Township,NEW-TRASH-E-WED,Spaulding,Tittabawassee,Trash
END:VEVENT
BEGIN:VEVENT
DTSTART;VALUE=DATE:20230405
DTEND;VALUE=DATE:20230406
DTSTAMP:20260420T091346
CREATED:20221123T144906Z
LAST-MODIFIED:20231201T161838Z
UID:10012162-1680652800-1680739199@www.recyclemotion.org
SUMMARY:Recycle
DESCRIPTION:Weekly Recycling
URL:https://www.recyclemotion.org/service/recycle-10/2023-04-05/
CATEGORIES:Frankenmuth City,Frankenmuth Township,NEW-RECYCLE-E-WED,Recycle,Tittabawassee
END:VEVENT
BEGIN:VEVENT
DTSTART;VALUE=DATE:20230412
DTEND;VALUE=DATE:20230413
DTSTAMP:20260420T091346
CREATED:20200417T181002Z
LAST-MODIFIED:20230407T165650Z
UID:10008402-1681257600-1681343999@www.recyclemotion.org
SUMMARY:Yard Waste
DESCRIPTION:Every Wednesday
URL:https://www.recyclemotion.org/service/yard-waste-18-2-2-2-2-2-2-2-2/2023-04-12/
CATEGORIES:Bridgeport,Frankenmuth City,Spaulding,Tittabawassee,Yard Waste
END:VEVENT
BEGIN:VEVENT
DTSTART;VALUE=DATE:20230412
DTEND;VALUE=DATE:20230413
DTSTAMP:20260420T091346
CREATED:20201220T191444Z
LAST-MODIFIED:20231201T162210Z
UID:10004959-1681257600-1681343999@www.recyclemotion.org
SUMMARY:Trash
DESCRIPTION:Every Wednesday
URL:https://www.recyclemotion.org/service/trash-21-2/2023-04-12/
CATEGORIES:Bridgeport,Chapin,Frankenmuth City,Frankenmuth Township,NEW-TRASH-E-WED,Spaulding,Tittabawassee,Trash
END:VEVENT
BEGIN:VEVENT
DTSTART;VALUE=DATE:20230412
DTEND;VALUE=DATE:20230413
DTSTAMP:20260420T091346
CREATED:20221123T144906Z
LAST-MODIFIED:20231201T161838Z
UID:10012163-1681257600-1681343999@www.recyclemotion.org
SUMMARY:Recycle
DESCRIPTION:Weekly Recycling
URL:https://www.recyclemotion.org/service/recycle-10/2023-04-12/
CATEGORIES:Frankenmuth City,Frankenmuth Township,NEW-RECYCLE-E-WED,Recycle,Tittabawassee
END:VEVENT
BEGIN:VEVENT
DTSTART;VALUE=DATE:20230419
DTEND;VALUE=DATE:20230420
DTSTAMP:20260420T091346
CREATED:20200417T181002Z
LAST-MODIFIED:20230407T165650Z
UID:10008403-1681862400-1681948799@www.recyclemotion.org
SUMMARY:Yard Waste
DESCRIPTION:Every Wednesday
URL:https://www.recyclemotion.org/service/yard-waste-18-2-2-2-2-2-2-2-2/2023-04-19/
CATEGORIES:Bridgeport,Frankenmuth City,Spaulding,Tittabawassee,Yard Waste
END:VEVENT
BEGIN:VEVENT
DTSTART;VALUE=DATE:20230419
DTEND;VALUE=DATE:20230420
DTSTAMP:20260420T091346
CREATED:20201220T191444Z
LAST-MODIFIED:20231201T162210Z
UID:10004960-1681862400-1681948799@www.recyclemotion.org
SUMMARY:Trash
DESCRIPTION:Every Wednesday
URL:https://www.recyclemotion.org/service/trash-21-2/2023-04-19/
CATEGORIES:Bridgeport,Chapin,Frankenmuth City,Frankenmuth Township,NEW-TRASH-E-WED,Spaulding,Tittabawassee,Trash
END:VEVENT
BEGIN:VEVENT
DTSTART;VALUE=DATE:20230419
DTEND;VALUE=DATE:20230420
DTSTAMP:20260420T091346
CREATED:20221123T144906Z
LAST-MODIFIED:20231201T161838Z
UID:10012164-1681862400-1681948799@www.recyclemotion.org
SUMMARY:Recycle
DESCRIPTION:Weekly Recycling
URL:https://www.recyclemotion.org/service/recycle-10/2023-04-19/
CATEGORIES:Frankenmuth City,Frankenmuth Township,NEW-RECYCLE-E-WED,Recycle,Tittabawassee
END:VEVENT
BEGIN:VEVENT
DTSTART;VALUE=DATE:20230426
DTEND;VALUE=DATE:20230427
DTSTAMP:20260420T091346
CREATED:20200417T181002Z
LAST-MODIFIED:20230407T165650Z
UID:10008404-1682467200-1682553599@www.recyclemotion.org
SUMMARY:Yard Waste
DESCRIPTION:Every Wednesday
URL:https://www.recyclemotion.org/service/yard-waste-18-2-2-2-2-2-2-2-2/2023-04-26/
CATEGORIES:Bridgeport,Frankenmuth City,Spaulding,Tittabawassee,Yard Waste
END:VEVENT
BEGIN:VEVENT
DTSTART;VALUE=DATE:20230426
DTEND;VALUE=DATE:20230427
DTSTAMP:20260420T091346
CREATED:20201220T191444Z
LAST-MODIFIED:20231201T162210Z
UID:10004961-1682467200-1682553599@www.recyclemotion.org
SUMMARY:Trash
DESCRIPTION:Every Wednesday
URL:https://www.recyclemotion.org/service/trash-21-2/2023-04-26/
CATEGORIES:Bridgeport,Chapin,Frankenmuth City,Frankenmuth Township,NEW-TRASH-E-WED,Spaulding,Tittabawassee,Trash
END:VEVENT
BEGIN:VEVENT
DTSTART;VALUE=DATE:20230426
DTEND;VALUE=DATE:20230427
DTSTAMP:20260420T091346
CREATED:20221123T144906Z
LAST-MODIFIED:20231201T161838Z
UID:10012165-1682467200-1682553599@www.recyclemotion.org
SUMMARY:Recycle
DESCRIPTION:Weekly Recycling
URL:https://www.recyclemotion.org/service/recycle-10/2023-04-26/
CATEGORIES:Frankenmuth City,Frankenmuth Township,NEW-RECYCLE-E-WED,Recycle,Tittabawassee
END:VEVENT
BEGIN:VEVENT
DTSTART;VALUE=DATE:20230503
DTEND;VALUE=DATE:20230504
DTSTAMP:20260420T091346
CREATED:20200417T181002Z
LAST-MODIFIED:20230407T165650Z
UID:10008405-1683072000-1683158399@www.recyclemotion.org
SUMMARY:Yard Waste
DESCRIPTION:Every Wednesday
URL:https://www.recyclemotion.org/service/yard-waste-18-2-2-2-2-2-2-2-2/2023-05-03/
CATEGORIES:Bridgeport,Frankenmuth City,Spaulding,Tittabawassee,Yard Waste
END:VEVENT
BEGIN:VEVENT
DTSTART;VALUE=DATE:20230503
DTEND;VALUE=DATE:20230504
DTSTAMP:20260420T091346
CREATED:20201220T191444Z
LAST-MODIFIED:20231201T162210Z
UID:10004962-1683072000-1683158399@www.recyclemotion.org
SUMMARY:Trash
DESCRIPTION:Every Wednesday
URL:https://www.recyclemotion.org/service/trash-21-2/2023-05-03/
CATEGORIES:Bridgeport,Chapin,Frankenmuth City,Frankenmuth Township,NEW-TRASH-E-WED,Spaulding,Tittabawassee,Trash
END:VEVENT
BEGIN:VEVENT
DTSTART;VALUE=DATE:20230503
DTEND;VALUE=DATE:20230504
DTSTAMP:20260420T091346
CREATED:20221123T144906Z
LAST-MODIFIED:20231201T161838Z
UID:10012166-1683072000-1683158399@www.recyclemotion.org
SUMMARY:Recycle
DESCRIPTION:Weekly Recycling
URL:https://www.recyclemotion.org/service/recycle-10/2023-05-03/
CATEGORIES:Frankenmuth City,Frankenmuth Township,NEW-RECYCLE-E-WED,Recycle,Tittabawassee
END:VEVENT
BEGIN:VEVENT
DTSTART;VALUE=DATE:20230510
DTEND;VALUE=DATE:20230511
DTSTAMP:20260420T091346
CREATED:20200417T181002Z
LAST-MODIFIED:20230407T165650Z
UID:10008406-1683676800-1683763199@www.recyclemotion.org
SUMMARY:Yard Waste
DESCRIPTION:Every Wednesday
URL:https://www.recyclemotion.org/service/yard-waste-18-2-2-2-2-2-2-2-2/2023-05-10/
CATEGORIES:Bridgeport,Frankenmuth City,Spaulding,Tittabawassee,Yard Waste
END:VEVENT
END:VCALENDAR